Workbook
Name OLE_LINK1: '1. DK32 Żeromskiego'!#REF!
Name OLE_LINK1: '10. Przebudowa gazociągu nc'!#REF!
Name OLE_LINK1: '11. B.elektryczna - oświetlenie'!#REF!
Name OLE_LINK1: '12. Br. elektryczna - kolizje'!#REF!
Name OLE_LINK1: '13. Usunięcie kolizji teletechn'!#REF!
Name OLE_LINK1: '2. DW305 Fabryczna'!#REF!
Name OLE_LINK1: '3. DP3831P Gajewskich'!#REF!
Name OLE_LINK1: '4. Dr. wewnętrzna'!#REF!
Name OLE_LINK1: '5. Miejsca postojowe'!#REF!
Name OLE_LINK1: '6. Chodnik Dworcowa'!#REF!
Name OLE_LINK1: '7. Kanalizacja deszczowa'!#REF!
Name OLE_LINK1: '8. Kan. deszczowa Żeromskiego'!#REF!
Name OLE_LINK1: '9. Wodociąg i kan. sanitarna'!#REF!

Sheet ZZK
A1: ROZBUDOWA SKRZYŻOWANIA DROGI KRAJOWEJ NR 32 Z DROGĄ WOJEWÓDZKĄ NR 305 I UL. GAJEWSKICH W M. WOLSZTYN
B4: ZBIORCZE ZESTAWIENIE KOSZTÓW
B7: Lp. | C7: Element | D7: Wartość
B8: 1 | C8: Droga krajowa nr 32 (ul. Żeromskiego) | D8: ='1. DK32 Żeromskiego'!G171 -> 0
B9: 2 | C9: Droga wojewódzka nr 305 (ul. Fabryczna) | D9: ='2. DW305 Fabryczna'!G111 -> 0
B10: 3 | C10: Droga powiatowa nr 3831P (ul. Gajewskich) | D10: ='3. DP3831P Gajewskich'!G98 -> 0
B11: 4 | C11: Droga wewnętrzna (dojazd do Urzędu Skarbowego) | D11: ='4. Dr. wewnętrzna'!G80 -> 0
B12: 5 | C12: Miejsca postojowe | D12: ='5. Miejsca postojowe'!G104 -> 0
B13: 6 | C13: Chodnik od miejsc parkingowych do ul. Dworcowej | D13: ='6. Chodnik Dworcowa'!G39 -> 0
B14: 7 | C14: Przebudowa kanalizacji deszczowej | D14: ='7. Kanalizacja deszczowa'!G44 -> 0
B15: 8 | C15: Przebudowa kanalizacji deszczowej w ul. Żeromskiego | D15: ='8. Kan. deszczowa Żeromskiego'!G28 -> 0
B16: 9 | C16: Przebudowa sieci wodociągowej i kanalizacji sanitarnej | D16: ='9. Wodociąg i kan. sanitarna'!G121 -> 0
B17: 10 | C17: Przebudowa kolizji sieci gazowej n/c | D17: ='10. Przebudowa gazociągu nc'!G43 -> 0
B18: 11 | C18: Branża elektryczna - oświetlenie i sygnalizacja | D18: ='11. B.elektryczna - oświetlenie'!G79 -> 0
B19: 12 | C19: Branża elektryczna - kolizje elektroenegetyczne | D19: ='12. Br. elektryczna - kolizje'!G34 -> 0
B20: 13 | C20: Usunięcie kolizji teletechnicznych | D20: ='13. Usunięcie kolizji teletechn'!G209 -> 0
B21: 14 | C21: Zabezpieczenie robót | D21: ='13. Usunięcie kolizji teletechn'!G210 -> 0
C22: Wartość łączna netto | D22: =SUM(D8:D21) -> 0
C23: Podatek VAT 23% | D23: =ROUND(D22*0.23,2) -> 0
C24: Wartość brutto | D24: =SUM(D22:D23) -> 0

Sheet 1. DK32 Żeromskiego
A1: ROZBUDOWA SKRZYŻOWANIA DROGI KRAJOWEJ NR 32 Z DROGĄ WOJEWÓDZKĄ NR 305 I UL. GAJEWSKICH W M. WOLSZTYN
A3: Część drogowa - droga krajowa nr 32 (ul. Żeromskiego)
A5: KOSZTORYS OFERTOWY
A7: ROBOTY DROGOWE
B9: Nr | D9: Jednostka | F9: Cena | G9: Wartość
A10: Lp. | B10: Specyfikacji | C10: Wyszczególnienie elementów rozliczeniowych | D10: Nazwa | E10: Ilość | F10: jednostkowa
B11: Technicznej | F11: zł*) | G11: zł*)
A12: 1 | B12: 2 | C12: 3 | D12: 4 | E12: 5 | F12: 6 | G12: 7
B13: D.01.00.00. | C13: ROBOTY PRZYGOTOWAWCZE | D13: x | E13: x | F13: x | G13: x
B14: D.01.01.01. | C14: Odtworzenie trasy i punktów wysokościowych | D14: x | E14: x | F14: x | G14: x
A15: 1 | C15: - roboty pomiarowe dla potrzeb przebudowy wiaduktu w terenie równinnym | D15: km | E15: 0.31 | G15: =ROUND(E15*F15,2) -> 0 | H15: 1.1
B16: D.01.02.01. | C16: Usunięcie drzew lub krzaków | D16: x | E16: x | F16: x | G16: x
C17: - wycięcie i karczowanie drzew | H17: 1.2
A18: =A15+1 -> 2 | C18: - o średnicy 26-35 cm | D18: szt. | E18: 1 | G18: =ROUND(E18*F18,2) -> 0
A19: =A18+1 -> 3 | C19: - o średnicy 56-65 cm | D19: szt. | E19: 1 | G19: =ROUND(E19*F19,2) -> 0
A20: =A19+1 -> 4 | C20: - usunięcie krzewów | D20: ha | E20: 0.002 | G20: =ROUND(E20*F20,2) -> 0 | H20: 1.3
A21: =A20+1 -> 5 | C21: - transport dłużyc na składowisko Wykonawcy wraz z załadunkiem i rozładunkiem | D21: m3 | E21: 0.8 | G21: =ROUND(E21*F21,2) -> 0
A22: =A21+1 -> 6 | C22: - transport karpiny i gałęzi na składowisko Wykonawcy wraz z załadunkiem i rozładunkiem | D22: mp | E22: 3.3 | G22: =ROUND(E22*F22,2) -> 0
B23: D.01.02.02. | C23: Zdjęcie warstwy humusu | D23: x | E23: x | F23: x | G23: x
A24: =1+A22 -> 7 | C24: ="- mechaniczne zdjęcie warstwy humusu grubości 20 cm z przemieszczeniem oraz spryzmowaniem tymczasowym ("&ROUND(0.2*E24,0)&" m^3)" -> - mechaniczne zdjęcie warstwy humusu grubości 20 cm z przemieszczeniem oraz spryzmowaniem tymczasowym (655 m^3) | D24: m2 | E24: 3273 | G24: =ROUND(E24*F24,2) -> 0 | H24: 3.1
A25: =1+A24 -> 8 | C25: - transport nadmiaru humusu na składowisko Wykonawcy wraz z załadunkiem | D25: m3 | E25: 442 | G25: =ROUND(E25*F25,2) -> 0
B26: D.01.02.04. | C26: Rozbiórki elementów dróg i ulic | D26: x | E26: x | F26: x | G26: x
A27: =A25+1 -> 9 | C27: - rozebranie mechaniczne nawierzchni bitumicznej - grubości do 30 cm | D27: m2 | E27: 3278 | G27: =ROUND(E27*F27,2) -> 0 | H27: 2.2
A28: =A27+1 -> 10 | C28: - rozebranie ręczne nawierzchni bitumicznej - grubości do 10 cm wraz z przecięciem nawierzchni piłą - pod osadzenie krawężnika | D28: m2 | E28: 141 | G28: =ROUND(E28*F28,2) -> 0 | H28: 2.2
A29: =A28+1 -> 11 | C29: - rozebranie ręczne nawierzchni bitumicznej - grubości do 19 cm wraz z przecięciem nawierzchni piłą - pod osadzenie krawężnika | D29: m2 | E29: 41 | G29: =ROUND(E29*F29,2) -> 0 | H29: 2.2
A30: =A29+1 -> 12 | C30: - rozebranie mechaniczne nawierzchni z betonu asfaltowego - grubości 5 cm | D30: m2 | E30: 348 | G30: =ROUND(E30*F30,2) -> 0 | H30: 2.14
A31: =A30+1 -> 13 | C31: - rozebranie mechaniczne podbudowy betonowej - grubości 10 cm - pieszo-jezdnia | D31: m3 | E31: 559 | G31: =ROUND(E31*F31,2) -> 0
A32: =A31+1 -> 14 | C32: - rozebranie mechaniczne podbudowy nawierzchni z kruszywa stabilizowanego mechanicznie, grubość warstwy 20 cm | D32: m2 | E32: 2476 | G32: =ROUND(E32*F32,2) -> 0 | H32: 2.4
A33: =A32+1 -> 15 | C33: - rozebranie mechaniczne podbudowy betonowej - grubości 12 cm - pod kioskiem | D33: m2 | E33: 8.75 | G33: =ROUND(E33*F33,2) -> 0
A34: =A33+1 -> 16 | C34: - rozebranie mechaniczne nawierzchni chodników, z płyt betonowych 25×25×5 cm na podsypce piaskowej | D34: m2 | E34: 6 | G34: =ROUND(E34*F34,2) -> 0 | H34: 2.5
A35: =1+A34 -> 17 | C35: - rozebranie mechaniczne nawierzchni z kostki betonowej na podsypce cementowo-piaskowej, przy grubość kostki 8 cm | D35: m2 | E35: 1404 | G35: =ROUND(E35*F35,2) -> 0 | H35: 2.6
A36: =A35+1 -> 18 | C36: - rozebranie mechaniczne nawierzchni chodników, z płyt betonowych 20×20×5 cm na podsypce piaskowej | D36: m2 | E36: 453 | G36: =ROUND(E36*F36,2) -> 0 | H36: 2.5
A37: =A36+1 -> 19 | C37: - rozebranie mechaniczne nawierzchni z "trylinki" grubości 12 cm | D37: m2 | E37: 393 | G37: =ROUND(E37*F37,2) -> 0 | H37: 2.7
A38: =1+A37 -> 20 | C38: - rozebranie mechaniczne krawężnika betonowego 20×30 cm na podsypce cementowo-piaskowej | D38: m | E38: 955 | G38: =ROUND(E38*F38,2) -> 0 | H38: 2.8
A39: =1+A38 -> 21 | C39: - rozebranie mechaniczne ław betonowych pod krawężniki betonowe | D39: m3 | E39: 114.6 | G39: =ROUND(E39*F39,2) -> 0 | H39: 2.9
A40: =1+A39 -> 22 | C40: - rozebranie mechaniczne krawężnika betonowego trapezowego 20×30 cm na podsypce cementowo-piaskowej | D40: m | E40: 60 | G40: =ROUND(E40*F40,2) -> 0
A41: =1+A40 -> 23 | C41: - rozebranie mechaniczne ław betonowych pod krawężniki betonowe trapezowe | D41: m3 | E41: 3.9 | G41: =ROUND(E41*F41,2) -> 0 | H41: 2.10
A42: =1+A41 -> 24 | C42: - rozebranie mechaniczne krawężnika kamiennego trapezowego 20×30 cm na podsypce cementowo-piaskowej | D42: m | E42: 174 | G42: =ROUND(E42*F42,2) -> 0 | H42: 2.8
A43: =1+A42 -> 25 | C43: - rozebranie mechaniczne ław betonowych pod krawężniki kamienne trapezowe | D43: m3 | E43: 14.8 | G43: =ROUND(E43*F43,2) -> 0 | H43: 2.9
A44: =A43+1 -> 26 | C44: - rozebranie mechaniczne opornika betonowego 12x25 cm na podsypce piaskowej | D44: m | E44: 288 | G44: =ROUND(E44*F44,2) -> 0 | H44: 2.11
...

Sheet 2. DW305 Fabryczna
A1: ROZBUDOWA SKRZYŻOWANIA DROGI KRAJOWEJ NR 32 Z DROGĄ WOJEWÓDZKĄ NR 305 I UL. GAJEWSKICH W M. WOLSZTYN
A3: Część drogowa - droga wojewódzka nr 305 (ul.Fabryczna)
A5: KOSZTORYS OFERTOWY
A7: ROBOTY DROGOWE
B9: Nr | D9: Jednostka | F9: Cena | G9: Wartość
A10: Lp. | B10: Specyfikacji | C10: Wyszczególnienie elementów rozliczeniowych | D10: Nazwa | E10: Ilość | F10: jednostkowa
B11: Technicznej | F11: zł*) | G11: zł*)
A12: 1 | B12: 2 | C12: 3 | D12: 4 | E12: 5 | F12: 6 | G12: 7
B13: D.01.00.00. | C13: ROBOTY PRZYGOTOWAWCZE | D13: x | E13: x | F13: x | G13: x
B14: D.01.01.01. | C14: Odtworzenie trasy i punktów wysokościowych | D14: x | E14: x | F14: x | G14: x
A15: 1 | C15: - roboty pomiarowe dla potrzeb przebudowy wiaduktu w terenie równinnym | D15: km | E15: 0.07 | G15: =ROUND(E15*F15,2) -> 0 | H15: 1.1
B16: D.01.02.01. | C16: Usunięcie drzew lub krzaków | D16: x | E16: x | F16: x | G16: x
C17: - wycięcie i karczowanie drzew | H17: 1.2
A18: =A15+1 -> 2 | C18: - o średnicy 36-45 cm | D18: szt. | E18: 3 | G18: =ROUND(E18*F18,2) -> 0
A19: =A18+1 -> 3 | C19: - o średnicy 46-55 cm | D19: szt. | E19: 2 | G19: =ROUND(E19*F19,2) -> 0
A20: =A19+1 -> 4 | C20: - o średnicy 56-65 cm | D20: szt. | E20: 1 | G20: =ROUND(E20*F20,2) -> 0
A21: =A20+1 -> 5 | C21: - transport dłużyc na składowisko Wykonawcy wraz z załadunkiem i rozładunkiem | D21: m3 | E21: 2.3 | G21: =ROUND(E21*F21,2) -> 0
A22: =A21+1 -> 6 | C22: - transport karpiny i gałęzi na składowisko Wykonawcy wraz z załadunkiem i rozładunkiem | D22: mp | E22: 9.4 | G22: =ROUND(E22*F22,2) -> 0
B23: D.01.02.02. | C23: Zdjęcie warstwy humusu | D23: x | E23: x | F23: x | G23: x
A24: =1+A22 -> 7 | C24: ="- mechaniczne zdjęcie warstwy humusu grubości 20 cm z przemieszczeniem oraz spryzmowaniem tymczasowym ("&ROUND(0.2*E24,0)&" m^3)" -> - mechaniczne zdjęcie warstwy humusu grubości 20 cm z przemieszczeniem oraz spryzmowaniem tymczasowym (120 m^3) | D24: m2 | E24: 600 | G24: =ROUND(E24*F24,2) -> 0 | H24: 3.1
A25: =1+A24 -> 8 | C25: - transport nadmiaru humusu na składowisko Wykonawcy wraz z załadunkiem | D25: m3 | E25: 120 | G25: =ROUND(E25*F25,2) -> 0
B26: D.01.02.04. | C26: Rozbiórki elementów dróg i ulic | D26: x | E26: x | F26: x | G26: x
A27: =A25+1 -> 9 | C27: - rozebranie mechaniczne nawierzchni bitumicznej - grubości do 20 cm | D27: m2 | E27: 618 | G27: =ROUND(E27*F27,2) -> 0 | H27: 2.2
A28: =A27+1 -> 10 | C28: - rozebranie ręczne nawierzchni bitumicznej - grubości do 10 cm wraz z przecięciem nawierzchni piłą - pod osadzenie krawężnika | D28: m2 | E28: 133 | G28: =ROUND(E28*F28,2) -> 0
A29: =A28+1 -> 11 | C29: - rozebranie mechaniczne podbudowy nawierzchni z kruszywa stabilizowanego mechanicznie, grubość warstwy 20 cm | D29: m2 | E29: 167 | G29: =ROUND(E29*F29,2) -> 0 | H29: 2.4
A30: =A29+1 -> 12 | C30: - rozebranie mechaniczne podbudowy nawierzchni z kruszywa stabilizowanego mechanicznie, grubość warstwy 22 cm | D30: m2 | E30: 31 | G30: =ROUND(E30*F30,2) -> 0 | H30: 2.4
A31: =A30+1 -> 13 | C31: - rozebranie mechaniczne nawierzchni z kostki granitowej na podsypce cementowo-piaskowej, przy grubość kostki 8 cm | D31: m2 | E31: 31 | G31: =ROUND(E31*F31,2) -> 0 | H31: 2.5
A32: =A31+1 -> 14 | C32: - rozebranie mechaniczne nawierzchni z kostki betonowej typu "Domino" na podsypce cementowo-piaskowej, przy grubość kostki 8 cm | D32: m2 | E32: 105 | G32: =ROUND(E32*F32,2) -> 0 | H32: 2.5
A33: =1+A32 -> 15 | C33: - rozebranie mechaniczne nawierzchni chodników, z płyt betonowych 30×30×5 cm na podsypce cementowo-piaskowej | D33: m2 | E33: 23 | G33: =ROUND(E33*F33,2) -> 0 | H33: 2.6
A34: =A33+1 -> 16 | C34: - rozebranie mechaniczne krawężnika betonowego 20×30 cm na podsypce cementowo-piaskowej | D34: m | E34: 219 | G34: =ROUND(E34*F34,2) -> 0 | H34: 2.8
A35: =1+A34 -> 17 | C35: - rozebranie mechaniczne ław betonowych pod krawężniki betonowe | D35: m3 | E35: 26.7 | G35: =ROUND(E35*F35,2) -> 0 | H35: 2.9
A36: =1+A35 -> 18 | C36: - rozebranie mechaniczne krawężnika betonowego trapezowego 20×30 cm na podsypce cementowo-piaskowej | D36: m | E36: 22 | G36: =ROUND(E36*F36,2) -> 0
A37: =1+A36 -> 19 | C37: - rozebranie mechaniczne ław betonowych pod krawężniki betonowe trapezowe | D37: m3 | E37: 1.71 | G37: =ROUND(E37*F37,2) -> 0 | H37: 2.10
A38: =A37+1 -> 20 | C38: - rozebranie mechaniczne obrzeża betonowego 30×8 cm na podsypce piaskowej | D38: m | E38: 99 | G38: =ROUND(E38*F38,2) -> 0 | H38: 2.11
A39: =A38+1 -> 21 | C39: - demontaż istniejącego oznakowania - słupki pionowe znaków drogowych z rur stalowych o średnicy 70 mm | D39: szt. | E39: 13 | G39: =ROUND(E39*F39,2) -> 0 | H39: X
A40: =A39+1 -> 22 | C40: - demontaż tablic znaków drogowych (zakazu, nakazu, ostrzegawczych, informacyjnych) | D40: szt. | E40: 15 | G40: =ROUND(E40*F40,2) -> 0
A41: =A40+1 -> 23 | C41: - rozebranie pylonów U-5a | D41: szt. | E41: 2 | G41: =ROUND(E41*F41,2) -> 0
A42: =A41+1 -> 24 | C42: - demontaż konstrukcji wsporczej | D42: Mg | E42: 0.45 | G42: =ROUND(E42*F42,2) -> 0 | H42: X
A43: =A42+1 -> 25 | C43: - wywiezienie gruzu z terenu rozbiórki (z transportem na składowisko Wykonawcy z mech. załadunkiem i rozładunkiem) | D43: m3 | E43: 127 | G43: =ROUND(E43*F43,2) -> 0 | H43: 2.15
A44: =A43+1 -> 26 | C44: - wywiezienie gruzu (destruktu - nawierzchni) z terenu rozbiórki (z transportem na składowisko Wykonawcy z mech. załadunkiem i rozładunkiem) | D44: m3 | E44: 178 | G44: =ROUND(E44*F44,2) -> 0 | H44: 2.15
...

Sheet 3. DP3831P Gajewskich
A1: ROZBUDOWA SKRZYŻOWANIA DROGI KRAJOWEJ NR 32 Z DROGĄ WOJEWÓDZKĄ NR 305 I UL. GAJEWSKICH W M. WOLSZTYN
A3: Część drogowa - droga powiatowa nr 3831 (ul. Gajewskich)
A5: KOSZTORYS OFERTOWY
A7: ROBOTY DROGOWE
B9: Nr | D9: Jednostka | F9: Cena | G9: Wartość
A10: Lp. | B10: Specyfikacji | C10: Wyszczególnienie elementów rozliczeniowych | D10: Nazwa | E10: Ilość | F10: jednostkowa
B11: Technicznej | F11: zł*) | G11: zł*)
A12: 1 | B12: 2 | C12: 3 | D12: 4 | E12: 5 | F12: 6 | G12: 7
B13: D.01.00.00. | C13: ROBOTY PRZYGOTOWAWCZE | D13: x | E13: x | F13: x | G13: x
B14: D.01.01.01. | C14: Odtworzenie trasy i punktów wysokościowych | D14: x | E14: x | F14: x | G14: x
A15: 1 | C15: - roboty pomiarowe dla potrzeb przebudowy wiaduktu w terenie równinnym | D15: km | E15: 0.03 | G15: =ROUND(E15*F15,2) -> 0 | H15: 1.1
B16: D.01.02.01. | C16: Usunięcie drzew lub krzaków | D16: x | E16: x | F16: x | G16: x
C17: - wycięcie i karczowanie drzew | H17: 1.2
A18: =A15+1 -> 2 | C18: - o średnicy 26-35 cm | D18: szt. | E18: 2 | G18: =ROUND(E18*F18,2) -> 0
A19: =A18+1 -> 3 | C19: - transport dłużyc na składowisko Wykonawcy wraz z załadunkiem i rozładunkiem | D19: m3 | E19: 0.5 | G19: =ROUND(E19*F19,2) -> 0
A20: =A19+1 -> 4 | C20: - transport karpiny i gałęzi na składowisko Wykonawcy wraz z załadunkiem i rozładunkiem | D20: mp | E20: 1.1 | G20: =ROUND(E20*F20,2) -> 0
B21: D.01.02.02. | C21: Zdjęcie warstwy humusu | D21: x | E21: x | F21: x | G21: x
A22: =1+A20 -> 5 | C22: - mechaniczne zdjęcie warstwy humusu grubości 20 cm z przemieszczeniem oraz spryzmowaniem tymczasowym | D22: m2 | E22: 370 | G22: =ROUND(E22*F22,2) -> 0 | H22: 3.1
A23: =1+A22 -> 6 | C23: - transport nadmiaru humusu na składowisko Wykonawcy wraz z załadunkiem | D23: m3 | E23: 74 | G23: =ROUND(E23*F23,2) -> 0
B24: D.01.02.04. | C24: Rozbiórki elementów dróg i ulic | D24: x | E24: x | F24: x | G24: x
A25: =A23+1 -> 7 | C25: - rozebranie mechaniczne nawierzchni bitumicznej - grubości do 20 cm | D25: m2 | E25: 16 | G25: =ROUND(E25*F25,2) -> 0 | H25: 2.2
A26: =A25+1 -> 8 | C26: - rozebranie mechaniczne podbudowy nawierzchni z kruszywa stabilizowanego mechanicznie, grubość warstwy 20 cm | D26: m2 | E26: 16 | G26: =ROUND(E26*F26,2) -> 0 | H26: 2.4
A27: =A26+1 -> 9 | C27: - rozebranie mechaniczne nawierzchni chodników, z płyt betonowych 30×30×5 cm na podsypce piaskowej | D27: m2 | E27: 79 | G27: =ROUND(E27*F27,2) -> 0 | H27: 2.6
A28: =1+A27 -> 10 | C28: - rozebranie mechaniczne nawierzchni z "trylinki" grubości 12 cm | D28: m2 | E28: 52 | G28: =ROUND(E28*F28,2) -> 0 | H28: 2.7
A29: =1+A28 -> 11 | C29: - rozebranie mechaniczne krawężnika betonowego 20×30 cm na podsypce cementowo-piaskowej | D29: m | E29: 46 | G29: =ROUND(E29*F29,2) -> 0 | H29: 2.8
A30: =1+A29 -> 12 | C30: - rozebranie mechaniczne ław betonowych pod krawężniki betonowe | D30: m3 | E30: 5.61 | G30: =ROUND(E30*F30,2) -> 0 | H30: 2.9
A31: =A30+1 -> 13 | C31: - rozebranie mechaniczne obrzeża betonowego 30×8 cm na podsypce piaskowej | D31: m | E31: 73 | G31: =ROUND(E31*F31,2) -> 0 | H31: 2.11
A32: =A31+1 -> 14 | C32: - demontaż istniejącego oznakowania - słupki pionowe znaków drogowych z rur stalowych o średnicy 70 mm | D32: szt. | E32: 5 | G32: =ROUND(E32*F32,2) -> 0 | H32: X
A33: =A32+1 -> 15 | C33: - demontaż tablic znaków drogowych (zakazu, nakazu, ostrzegawczych, informacyjnych) | D33: szt. | E33: 7 | G33: =ROUND(E33*F33,2) -> 0
A34: =A33+1 -> 16 | C34: - wywiezienie gruzu z terenu rozbiórki (z transportem na składowisko Wykonawcy z mech. załadunkiem i rozładunkiem) | D34: m3 | E34: 31 | G34: =ROUND(E34*F34,2) -> 0 | H34: 2.15
A35: =A34+1 -> 17 | C35: - wywiezienie gruzu (destruktu - nawierzchni) z terenu rozbiórki (z transportem na składowisko Wykonawcy z mech. załadunkiem i rozładunkiem) | D35: m3 | E35: 4 | G35: =ROUND(E35*F35,2) -> 0 | H35: 2.15
B36: D.02.00.00. | C36: ROBOTY ZIEMNE | D36: x | E36: x | F36: x | G36: x
B37: D.02.01.01. | C37: Wykonanie wykopów w gruntach kategorii I÷V | D37: x | E37: x | F37: x | G37: x
A38: =A35+1 -> 18 | C38: - mechaniczne wykonanie wykopów w gruntach kategorii III÷IV z załadunkiem i transportem gruntu (35,6m3) na składowisko Wykonawcy | D38: m3 | E38: 43 | G38: =ROUND(E38*F38,2) -> 0 | H38: 3.2, 3.4
B39: D.02.03.01. | C39: Wykonanie nasypów | D39: x | E39: x | F39: x | G39: x
A40: =A38+1 -> 19 | C40: - formowanie nasypu o wysokości do 3,0 m wraz z zagęszczeniem z gruntu kategorii I-III z wykopu | D40: m3 | E40: 7.4 | G40: =ROUND(E40*F40,2) -> 0 | H40: 3.3
B41: D.04.00.00. | C41: PODBUDOWY | D41: x | E41: x | F41: x | G41: x
B42: D.04.01.01. | C42: Koryto wraz z profilowaniem i zagęszczeniem podłoża | D42: x | E42: x | F42: x | G42: x
A43: =A40+1 -> 20 | C43: - mechaniczne profilowanie i zagęszczenie podłoża - pod warstwy konstrukcyjne nawierzchni | D43: m2 | E43: 214 | G43: =ROUND(E43*F43,2) -> 0
B44: D.04.03.01. | C44: Oczyszczenie i skropienie warstw konstrukcyjnych | D44: x | E44: x | F44: x | G44: x
...

Sheet 4. Dr. wewnętrzna
A1: ROZBUDOWA SKRZYŻOWANIA DROGI KRAJOWEJ NR 32 Z DROGĄ WOJEWÓDZKĄ NR 305 I UL. GAJEWSKICH W M. WOLSZTYN
A3: Część drogowa - droga wewnętrzna (dojazd do Urzędu Skarbowego)
A5: KOSZTORYS OFERTOWY
A7: ROBOTY DROGOWE
B9: Nr | D9: Jednostka | F9: Cena | G9: Wartość
A10: Lp. | B10: Specyfikacji | C10: Wyszczególnienie elementów rozliczeniowych | D10: Nazwa | E10: Ilość | F10: jednostkowa
B11: Technicznej | F11: zł*) | G11: zł*)
A12: 1 | B12: 2 | C12: 3 | D12: 4 | E12: 5 | F12: 6 | G12: 7
B13: D.01.00.00. | C13: ROBOTY PRZYGOTOWAWCZE | D13: x | E13: x | F13: x | G13: x
B14: D.01.01.01. | C14: Odtworzenie trasy i punktów wysokościowych | D14: x | E14: x | F14: x | G14: x
A15: 1 | C15: - roboty pomiarowe dla potrzeb przebudowy wiaduktu w terenie równinnym | D15: km | E15: 0.012 | G15: =ROUND(E15*F15,2) -> 0 | H15: 1.1
B16: D.01.02.02. | C16: Zdjęcie warstwy humusu | D16: x | E16: x | F16: x | G16: x
A17: =A15+1 -> 2 | C17: ="- mechaniczne zdjęcie warstwy humusu grubości 20 cm z przemieszczeniem oraz spryzmowaniem tymczasowym ("&ROUND(0.2*E17,2)&" m^3)" -> - mechaniczne zdjęcie warstwy humusu grubości 20 cm z przemieszczeniem oraz spryzmowaniem tymczasowym (3,4 m^3) | D17: m2 | E17: 17 | G17: =ROUND(E17*F17,2) -> 0 | H17: 3.1
A18: =1+A17 -> 3 | C18: - transport nadmiaru humusu na składowisko Wykonawcy wraz z załadunkiem | D18: m3 | E18: 3.4 | G18: =ROUND(E18*F18,2) -> 0
B19: D.01.02.04. | C19: Rozbiórki elementów dróg i ulic | D19: x | E19: x | F19: x | G19: x
A20: =A18+1 -> 4 | C20: - rozebranie mechaniczne nawierzchni z betonu asfaltowego - grubości 5 cm - parking | D20: m2 | E20: 148 | G20: =ROUND(E20*F20,2) -> 0 | H20: 2.14
A21: =A20+1 -> 5 | C21: - rozebranie mechaniczne nawierzchni z kostki betonowej typu "Uni Stone" na podsypce piaskowej, przy grubość kostki 6 cm | D21: m2 | E21: 77 | G21: =ROUND(E21*F21,2) -> 0 | H21: 2.5
A22: =1+A21 -> 6 | C22: - rozebranie mechaniczne nawierzchni chodników, z płyt betonowych 30×30×5 cm na podsypce piaskowej - chodnik | D22: m2 | E22: 16 | G22: =ROUND(E22*F22,2) -> 0 | H22: 2.6
A23: =1+A22 -> 7 | C23: - rozebranie mechaniczne nawierzchni z "trylinki" grubości 12 cm | D23: m2 | E23: 148 | G23: =ROUND(E23*F23,2) -> 0 | H23: 2.7
A24: =1+A23 -> 8 | C24: - rozebranie mechaniczne krawężnika betonowego 20×30 cm na podsypce cementowo-piaskowej | D24: m | E24: 38 | G24: =ROUND(E24*F24,2) -> 0 | H24: 2.8
A25: =1+A24 -> 9 | C25: - rozebranie mechaniczne ław betonowych pod krawężniki betonowe | D25: m3 | E25: 4.15 | G25: =ROUND(E25*F25,2) -> 0 | H25: 2.9
A26: =1+A25 -> 10 | C26: - rozebranie mechaniczne krawężnika betonowego trapezowego 20×30 cm na podsypce cementowo-piaskowej | D26: m | E26: 15 | G26: =ROUND(E26*F26,2) -> 0
A27: =1+A26 -> 11 | C27: - rozebranie mechaniczne ław betonowych pod krawężniki betonowe trapezowe | D27: m3 | E27: 1.16 | G27: =ROUND(E27*F27,2) -> 0 | H27: 2.10
A28: =A27+1 -> 12 | C28: - rozebranie mechaniczne obrzeża betonowego 30×8 cm na podsypce piaskowej | D28: m | E28: 22 | G28: =ROUND(E28*F28,2) -> 0 | H28: 2.11
A29: =A28+1 -> 13 | C29: - wywiezienie gruzu z terenu rozbiórki (z transportem na składowisko Wykonawcy z mech. załadunkiem i rozładunkiem) | D29: m3 | E29: 42 | G29: =ROUND(E29*F29,2) -> 0 | H29: 2.15
A30: =A29+1 -> 14 | C30: - wywiezienie gruzu (destruktu - nawierzchni) z terenu rozbiórki (z transportem na składowisko Wykonawcy z mech. załadunkiem i rozładunkiem) | D30: m3 | E30: 58 | G30: =ROUND(E30*F30,2) -> 0 | H30: 2.15
B31: D.02.00.00. | C31: ROBOTY ZIEMNE | D31: x | E31: x | F31: x | G31: x
B32: D.02.01.01. | C32: Wykonanie wykopów w gruntach kategorii I÷V | D32: x | E32: x | F32: x | G32: x
A33: =A30+1 -> 15 | C33: - mechaniczne wykonanie wykopów w gruntach kategorii III÷IV z załadunkiem i transportem gruntu na składowisko Wykonawcy | D33: m3 | E33: 4.53 | G33: =ROUND(E33*F33,2) -> 0 | H33: 3.2, 3.4
B34: D.02.03.01. | C34: Wykonanie nasypów | D34: x | E34: x | F34: x | G34: x
A35: =A33+1 -> 16 | C35: - formowanie nasypu o wysokości do 3,0 m wraz z zagęszczeniem z gruntu kategorii I-III z dokopu | D35: m3 | E35: 29.13 | G35: =ROUND(E35*F35,2) -> 0 | H35: 3.3
B36: D.04.00.00. | C36: PODBUDOWY | D36: x | E36: x | F36: x | G36: x
B37: D.04.01.01. | C37: Koryto wraz z profilowaniem i zagęszczeniem podłoża | D37: x | E37: x | F37: x | G37: x
A38: =A35+1 -> 17 | C38: - mechaniczne profilowanie i zagęszczenie podłoża - pod warstwy konstrukcyjne nawierzchni | D38: m2 | E38: 192 | G38: =ROUND(E38*F38,2) -> 0
B39: D.04.03.01. | C39: Oczyszczenie i skropienie warstw konstrukcyjnych | D39: x | E39: x | F39: x | G39: x
A40: =1+A38 -> 18 | C40: - oczyszczenie podbudowy nawierzchni niebitumicznej | D40: m2 | E40: 98 | G40: =ROUND(E40*F40,2) -> 0
A41: =A40+1 -> 19 | C41: - oczyszczenie warstw bitumicznych | D41: m2 | E41: 98 | G41: =ROUND(E41*F41,2) -> 0
A42: =A41+1 -> 20 | C42: - skropienie warstw niebitumicznych | D42: m2 | E42: 98 | G42: =ROUND(E42*F42,2) -> 0
A43: =A42+1 -> 21 | C43: - skropienie warstw bitumicznych | D43: m2 | E43: 98 | G43: =ROUND(E43*F43,2) -> 0
B44: D.04.04.02. | C44: Podbudowa z kruszywa łamanego | D44: x | E44: x | F44: x | G44: x
...

Sheet 5. Miejsca postojowe
A1: ROZBUDOWA SKRZYŻOWANIA DROGI KRAJOWEJ NR 32 Z DROGĄ WOJEWÓDZKĄ NR 305 I UL. GAJEWSKICH W M. WOLSZTYN
A3: Część drogowa - budowa miejsc parkingowych
A5: KOSZTORYS OFERTOWY
A7: ROBOTY DROGOWE
B9: Nr | D9: Jednostka | F9: Cena | G9: Wartość
A10: Lp. | B10: Specyfikacji | C10: Wyszczególnienie elementów rozliczeniowych | D10: Nazwa | E10: Ilość | F10: jednostkowa
B11: Technicznej | F11: zł*) | G11: zł*)
A12: 1 | B12: 2 | C12: 3 | D12: 4 | E12: 5 | F12: 6 | G12: 7
B13: D.01.00.00. | C13: ROBOTY PRZYGOTOWAWCZE | D13: x | E13: x | F13: x | G13: x
B14: D.01.01.01. | C14: Odtworzenie trasy i punktów wysokościowych | D14: x | E14: x | F14: x | G14: x
A15: 1 | C15: - roboty pomiarowe dla potrzeb przebudowy wiaduktu w terenie równinnym | D15: km | E15: 0.1 | G15: =ROUND(E15*F15,2) -> 0 | H15: 1.1
B16: D.01.02.01. | C16: Usunięcie drzew lub krzaków | D16: x | E16: x | F16: x | G16: x
C17: - wycięcie i karczowanie drzew | H17: 1.2
A18: =A15+1 -> 2 | C18: - o średnicy 46-55 cm | D18: szt. | E18: 1 | G18: =ROUND(E18*F18,2) -> 0
A19: =A18+1 -> 3 | C19: - usunięcie krzewów | D19: ha | E19: 0.002 | G19: =ROUND(E19*F19,2) -> 0 | H19: 1.3
A20: =A19+1 -> 4 | C20: - transport dłużyc na składowisko Wykonawcy wraz z załadunkiem i rozładunkiem | D20: m3 | E20: 0.4 | G20: =ROUND(E20*F20,2) -> 0
A21: =A20+1 -> 5 | C21: - transport karpiny i gałęzi na składowisko Wykonawcy wraz z załadunkiem i rozładunkiem | D21: mp | E21: 1.9 | G21: =ROUND(E21*F21,2) -> 0
B22: D.01.02.02. | C22: Zdjęcie warstwy humusu | D22: x | E22: x | F22: x | G22: x
A23: =1+A21 -> 6 | C23: ="- mechaniczne zdjęcie warstwy humusu grubości 20 cm z przemieszczeniem oraz spryzmowaniem tymczasowym ("&ROUND(0.2*E23,0)&" m^3)" -> - mechaniczne zdjęcie warstwy humusu grubości 20 cm z przemieszczeniem oraz spryzmowaniem tymczasowym (212 m^3) | D23: m2 | E23: 1060 | G23: =ROUND(E23*F23,2) -> 0 | H23: 3.1
A24: =1+A23 -> 7 | C24: - transport nadmiaru humusu na składowisko Wykonawcy wraz z załadunkiem | D24: m3 | E24: 212 | G24: =ROUND(E24*F24,2) -> 0
B25: D.01.02.04. | C25: Rozbiórki elementów dróg i ulic | D25: x | E25: x | F25: x | G25: x
A26: =A24+1 -> 8 | C26: - rozebranie ręczne nawierzchni bitumicznej - grubości do 10 cm wraz z przecięciem nawierzchni piłą - pod osadzenie krawężnika | D26: m2 | E26: 19.5 | G26: =ROUND(E26*F26,2) -> 0 | H26: 2.2
A27: =A26+1 -> 9 | C27: - rozebranie mechaniczne nawierzchni bitumicznej - grubości do 20 cm | D27: m2 | E27: 75 | G27: =ROUND(E27*F27,2) -> 0 | H27: 2.2
A28: =A27+1 -> 10 | C28: - rozebranie mechaniczne podbudowy nawierzchni z kruszywa stabilizowanego mechanicznie, grubość warstwy 20 cm | D28: m2 | E28: 35 | G28: =ROUND(E28*F28,2) -> 0 | H28: 2.4
A29: =A28+1 -> 11 | C29: - rozebranie mechaniczne nawierzchni chodników, z płyt betonowych 30×30×5 cm na podsypce piaskowej | D29: m2 | E29: 199 | G29: =ROUND(E29*F29,2) -> 0 | H29: 2.6
A30: =A29+1 -> 12 | C30: - rozebranie mechaniczne krawężnika betonowego 20×30 cm na podsypce cementowo-piaskowej | D30: m | E30: 204 | G30: =ROUND(E30*F30,2) -> 0 | H30: 2.8
A31: =1+A30 -> 13 | C31: - rozebranie mechaniczne ław betonowych pod krawężniki betonowe | D31: m3 | E31: 18.06 | G31: =ROUND(E31*F31,2) -> 0 | H31: 2.9
A32: =1+A31 -> 14 | C32: - rozebranie mechaniczne krawężnika betonowego trapezowego 20×30 cm na podsypce cementowo-piaskowej | D32: m | E32: 13 | G32: =ROUND(E32*F32,2) -> 0
A33: =1+A32 -> 15 | C33: - rozebranie mechaniczne ław betonowych pod krawężniki betonowe trapezowe | D33: m3 | E33: 1.01 | G33: =ROUND(E33*F33,2) -> 0 | H33: 2.10
A34: =A33+1 -> 16 | C34: - rozebranie mechaniczne obrzeża betonowego 30×8 cm na podsypce piaskowej | D34: m | E34: 198 | G34: =ROUND(E34*F34,2) -> 0 | H34: 2.11
A35: =A34+1 -> 17 | C35: - demontaż istniejącego oznakowania - słupki pionowe znaków drogowych z rur stalowych o średnicy 70 mm | D35: szt. | E35: 8 | G35: =ROUND(E35*F35,2) -> 0 | H35: X
A36: =A35+1 -> 18 | C36: - demontaż tablic znaków drogowych (zakazu, nakazu, ostrzegawczych, informacyjnych) | D36: szt. | E36: 12 | G36: =ROUND(E36*F36,2) -> 0
A37: =A36+1 -> 19 | C37: - rozebranie pylonów U-5a | D37: szt. | E37: 1 | G37: =ROUND(E37*F37,2) -> 0
A38: =A37+1 -> 20 | C38: - demontaż konstrukcji wsporczej | D38: Mg | E38: 0.9 | G38: =ROUND(E38*F38,2) -> 0 | H38: X
A39: =A38+1 -> 21 | C39: - wywiezienie gruzu z terenu rozbiórki (z transportem na składowisko Wykonawcy z mech. załadunkiem i rozładunkiem) | D39: m3 | E39: 61 | G39: =ROUND(E39*F39,2) -> 0 | H39: 2.15
A40: =A39+1 -> 22 | C40: - wywiezienie gruzu (destruktu - nawierzchni) z terenu rozbiórki (z transportem na składowisko Wykonawcy z mech. załadunkiem i rozładunkiem) | D40: m3 | E40: 3 | G40: =ROUND(E40*F40,2) -> 0 | H40: 2.15
A41: =A40+1 -> 23 | C41: - wywiezienie elementów stalowych z terenu rozbiórki (z transportem na składowisko Wykonawcy z mech. załadunkiem i rozładunkiem) | D41: Mg | E41: 1 | G41: =ROUND(E41*F41,2) -> 0 | H41: 2.15
B42: D.02.00.00. | C42: ROBOTY ZIEMNE | D42: x | E42: x | F42: x | G42: x
B43: D.02.01.01. | C43: Wykonanie wykopów w gruntach kategorii I÷V | D43: x | E43: x | F43: x | G43: x
A44: =A41+1 -> 24 | C44: - mechaniczne wykonanie wykopów w gruntach kategorii III÷IV z załadunkiem i transportem gruntu (378m3) na składowisko Wykonawcy | D44: m3 | E44: 416 | G44: =ROUND(E44*F44,2) -> 0 | H44: 3.2, 3.4
...

Sheet 6. Chodnik Dworcowa
A1: ROZBUDOWA SKRZYŻOWANIA DROGI KRAJOWEJ NR 32 Z DROGĄ WOJEWÓDZKĄ NR 305 I UL. GAJEWSKICH W M. WOLSZTYN
A3: Część drogowa - Chodnik od miejsc parkingowych do ulicy Dworcowej
A5: KOSZTORYS OFERTOWY
A7: ROBOTY DROGOWE
B9: Nr | D9: Jednostka | F9: Cena | G9: Wartość
A10: Lp. | B10: Specyfikacji | C10: Wyszczególnienie elementów rozliczeniowych | D10: Nazwa | E10: Ilość | F10: jednostkowa
B11: Technicznej | F11: zł*) | G11: zł*)
A12: 1 | B12: 2 | C12: 3 | D12: 4 | E12: 5 | F12: 6 | G12: 7
B13: D.01.00.00. | C13: ROBOTY PRZYGOTOWAWCZE | D13: x | E13: x | F13: x | G13: x
B14: D.01.02.04. | C14: Rozbiórka elementów dróg i ulich | D14: x | E14: x | F14: x | G14: x
A15: 1 | C15: - rozebranie naweirzchni chodników z płyt betonowych 50x50x7 cm na podsypce piaskowej | D15: m2 | E15: 169 | G15: =ROUND(E15*F15,2) -> 0 | H15: 1.1
A16: 2 | C16: - rozebranie obrzeża betonoweog 30x8 cm na podsypce piaskowej | D16: m | E16: 199 | G16: =ROUND(E16*F16,2) -> 0 | H16: 1.1
A17: 3 | C17: - wywiezienie gruzu z terenu rozbiórki (z transportem na skadowisko Wykonawcy z mech. załadunkiem i rozłądunkiem) | D17: m3 | E17: 16.6 | G17: =ROUND(E17*F17,2) -> 0 | H17: 1.1
B18: D.02.00.00. | C18: ROBOTY ZIEMNE | D18: x | E18: x | F18: x | G18: x
B19: D.02.01.01. | C19: Wykonanie wykopów w gruntach kategorii I÷V | D19: x | E19: x | F19: x | G19: x
A20: 4 | C20: - mechaniczne wykonanie wykopów w gruntach kategorii III÷IV z załadunkiem i transportem gruntu na składowisko Wykonawcy | D20: m3 | E20: 29 | G20: =ROUND(E20*F20,2) -> 0 | H20: 3.2, 3.4
B21: D.04.00.00. | C21: PODBUDOWY | D21: x | E21: x | F21: x | G21: x
B22: D.04.01.01. | C22: Koryto wraz z profilowaniem i zagęszczeniem podłoża | D22: x | E22: x | F22: x | G22: x
A23: 5 | C23: - mechaniczne profilowanie i zagęszczenie podłoża - pod warstwy konstrukcyjne nawierzchni | D23: m2 | E23: 181 | G23: =ROUND(E23*F23,2) -> 0
B24: D.04.05.01. | C24: Podbudowa z gruntu lub kruszywa stabilizowanego cementem | D24: x | E24: x | F24: x | G24: x
A25: 6 | C25: - wykonanie podbudowy z kruszywa związanego cementem C3/4, grubości 10 cm | D25: m2 | E25: 181 | G25: =ROUND(E25*F25,2) -> 0 | H25: 5.15
B26: D.05.00.00. | C26: NAWIERZCHNIE | D26: x | E26: x | F26: x | G26: x
B27: D.05.03.23. | C27: Nawierzchnia z kostki brukowej betonowej | D27: x | E27: x | F27: x | G27: x
A28: 7 | C28: - wykonanie nawierzchni z kostki typu cegła koloru szarego z betonu wibroprasowanego grubości 8 cm na podsypce cementowo-piaskowej grubości 3 cm - chodniki | D28: m2 | E28: 181 | G28: =ROUND(E28*F28,2) -> 0 | H28: 6.4 | J28: =G28 -> 0
B29: D.06.00.00. | C29: ROBOTY WYKOŃCZENIOWE | D29: x | E29: x | F29: x | G29: x
B30: D.06.01.01. | C30: Umocnienie skarp i rowów przez humusowanie, obsianie trawą, darniowanie | D30: x | E30: x | F30: x | G30: x
C31: • umocnienie skarp nasypów i wykopów
A32: 8 | C32: - plantowanie (obrobienie na czysto) powierzchni skarp i korony nasypów | D32: m2 | E32: 209 | G32: =ROUND(E32*F32,2) -> 0 | H32: 3.5
A33: 9 | C33: - humusowanie skarp, poboczy warstwą grubości 10 cm | D33: m2 | E33: 209 | G33: =ROUND(E33*F33,2) -> 0 | H33: 7.1
A34: 10 | C34: - obsianie trawą zahumusowanych powierzchni, | D34: m2 | E34: 209 | G34: =ROUND(E34*F34,2) -> 0 | H34: 7.2
B35: D.08.00.00. | C35: ELEMENTY ULIC | D35: x | E35: x | F35: x | G35: x
B36: D.08.03.01. | C36: Obrzeża betonowe | D36: x | E36: x | F36: x | G36: x
A37: 11 | C37: - ustawienie obrzeży betonowych 8×30cm na podsypce piaskowej - grubości 3 cm - chodnik | D37: m | E37: 102 | G37: =ROUND(E37*F37,2) -> 0 | H37: 9.3 | J37: =G37 -> 0
A38: 12 | C38: - wykonanie ławy betonowej B15 z oporem (pod obrzeże) | D38: m3 | E38: 6.12 | G38: =ROUND(E38*F38,2) -> 0 | H38: 9.5 | J38: =G38 -> 0
C39: OGÓŁEM | D39: x | E39: x | F39: x | G39: =SUM(G17:G38) -> 0 | I39: =SUM(I1:I38) -> 0 | J39: =SUM(J1:J38) -> 0
A41: * Ceny jednostkowe należy podawać bez VAT.

Sheet 7. Kanalizacja deszczowa
A1: ROZBUDOWA SKRZYŻOWANIA DROGI KRAJOWEJ NR 32 Z DROGĄ WOJEWÓDZKĄ NR 305 I UL. GAJEWSKICH W M. WOLSZTYN
A3: KOSZTORYS OFERTOWY
A5: ROBOTY BRANŻOWE
A6: Kanalizacja deszczowa
B9: Nr | D9: Jednostka | F9: Cena | G9: Wartość
A10: Lp. | B10: Specyfikacji | C10: Wyszczególnienie elementów rozliczeniowych | D10: Nazwa | E10: Ilość | F10: jednostkowa
B11: Technicznej | F11: zł*) | G11: zł*)
B12: D.03.00.00. | C12: ODWODNIENIE KORPUSU DROGOWEGO | D12: x | E12: x | F12: x | G12: x
B13: D.03.02.01. | C13: Kanalizacja deszczowa | D13: x | E13: x | F13: x | G13: x
C14: • budowa kanalizacji
A15: 1 | C15: - roboty ziemne - wykopy mechaniczne liniowe ze złożeniem gruntu na odkład tymczasowy | D15: m3 | E15: 2080.8 | G15: =ROUND(E15*F15,2) -> 0
A16: =A15+1 -> 2 | C16: - roboty ziemne - wykopy ręczne liniowe szerokości 0,8-1,5 m i głębokości do 3,0 m ze złożeniem gruntu na odkład tymczasowy | D16: m3 | E16: 214.8 | G16: =ROUND(E16*F16,2) -> 0
A17: =A16+1 -> 3 | C17: - roboty ziemne - wykopy ręczne liniowe szerokości 1,6-2,5 m i głębokości do 3,0 m ze złożeniem gruntu na odkład tymczasowy | D17: m3 | E17: 137.8 | G17: =ROUND(E17*F17,2) -> 0
A18: =A17+1 -> 4 | C18: - roboty ziemne - wykopy ręczne liniowe szerokości 1,6-2,5 m i głębokości do 6,0 m ze złożeniem gruntu na odkład tymczasowy | D18: m3 | E18: 167.8 | G18: =ROUND(E18*F18,2) -> 0
A19: =1+A18 -> 5 | C19: - transport nadmiaru gruntu na składowisko Wykonawcy wraz z załadunkiem i rozładunkiem | D19: m3 | E19: 209.2 | G19: =ROUND(E19*F19,2) -> 0
A20: =1+A19 -> 6 | C20: - pełne umocnienie ścian wykopów balami drewnianymi wraz z rozbiórką | D20: m2 | E20: 3268 | G20: =ROUND(E20*F20,2) -> 0
A21: =1+A20 -> 7 | C21: - ułożenie podłoża pod rury wodociągowe z piasku o grubości do 20 cm | D21: m3 | E21: 163 | G21: =ROUND(E21*F21,2) -> 0
A22: =1+A21 -> 8 | C22: - wykonanie obsypki rur gazowych z piasku o grubości 20 cm ponad wierzch rury | D22: m3 | E22: 136 | G22: =ROUND(E22*F22,2) -> 0
A23: =1+A22 -> 9 | C23: - roboty ziemne - zasypanie wykopów z zagęszczeniem mechanicznym gruntem z odkładu tymczasowego | D23: m3 | E23: 2392 | G23: =ROUND(E23*F23,2) -> 0
A24: =1+A23 -> 10 | C24: - budowa kanału deszczowego średnicy f 1000 mm z rur PE SN 8 kN/m2 | D24: m | E24: 209.09 | G24: =ROUND(E24*F24,2) -> 0
A25: =1+A24 -> 11 | C25: - budowa kanału deszczowego średnicy f 600 mm z rur PE SN 8 kN/m2 | D25: m | E25: 91.28 | G25: =ROUND(E25*F25,2) -> 0
A26: =1+A25 -> 12 | C26: - budowa kanału deszczowego średnicy f 400 mm z rur PE SN 8 kN/m2 | D26: m | E26: 59.19 | G26: =ROUND(E26*F26,2) -> 0
A27: =1+A26 -> 13 | C27: - budowa kanału deszczowego średnicy f 300 mm z rur PE SN 8 kN/m2 | D27: m | E27: 80 | G27: =ROUND(E27*F27,2) -> 0
A28: =1+A27 -> 14 | C28: - budowa kanału deszczowego średnicy f 200 mm z rur PE SN 8 kN/m2 | D28: m | E28: 229.34 | G28: =ROUND(E28*F28,2) -> 0
A29: =1+A28 -> 15 | C29: - próba wodna szczelności kanałów rurowych, z rur o średnicy 1000 mm | D29: próba | E29: 1 | G29: =ROUND(E29*F29,2) -> 0
A30: =1+A29 -> 16 | C30: - próba wodna szczelności kanałów rurowych, z rur o średnicy 600 mm | D30: próba | E30: 1 | G30: =ROUND(E30*F30,2) -> 0
... A33: =1+A32 -> 19 | C33: - próba wodna szczelności kanałów rurowych, z rur o średnicy 200 mm | D33: próba | E33: 1 | G33: =ROUND(E33*F33,2) -> 0
A34: =A33+1 -> 20 | C34: - budowa komory kanalizacyjnej z PE SN 8 kN/m2 o średnicy f 2600 mm (komplet) | D34: szt. | E34: 1 | G34: =ROUND(E34*F34,2) -> 0 | I34: 19
A35: =1+A34 -> 21 | C35: - budowa studni rewizyjnej kanalizacyjnej z PE SN 8 kN/m2 o średnicy f 1400 mm (komplet) na kolektorze 600 mm | D35: szt. | E35: 14 | G35: =ROUND(E35*F35,2) -> 0 | I35: 20
A36: =1+A35 -> 22 | C36: - budowa studni rewizyjnej kanalizacyjnej z PE SN 8 kN/m2 o średnicy f 1200 mm (komplet) na kolektorze 400 mm | D36: szt. | E36: 8 | G36: =ROUND(E36*F36,2) -> 0
A37: =1+A36 -> 23 | C37: - budowa studzienki wpustowej z PE SN 8 kN/m2 o średnicy f 400 mm (komplet) na przykanaliku 200 mm | D37: szt. | E37: 23 | G37: =ROUND(E37*F37,2) -> 0
A38: =1+A37 -> 24 | C38: - budowa studni kanalizacyjnych ściekowych, ulicznych, betonowych z gotowych elementów, o średnicy 500 mm: z osadnikiem bez syfonu wraz ze wpustem ściekowym ulicznym klasy C 250 - wg KPED 02.14 | D38: szt. | E38: 2 | G38: =ROUND(E38*F38,2) -> 0
A39: =1+A38 -> 25 | C39: - regulacja pionowa istniejących studni kanalizacji deszczowej | D39: szt. | E39: 9 | G39: =ROUND(E39*F39,2) -> 0
C40: • likwidacja istniejącej kanalizacji | D40: x | E40: x | F40: x | G40: x
A41: =1+A39 -> 26 | C41: - likwidacja kanalizacji deszczowej | D41: m | E41: 460 | G41: =ROUND(E41*F41,2) -> 0
A42: =1+A41 -> 27 | C42: - likwidacja studzienki ściekowej ulicznej betonowej o średnicy 500 mm z wpustem | D42: szt. | E42: 24 | G42: =ROUND(E42*F42,2) -> 0
A43: =1+A42 -> 28 | C43: - likwidacja studzienki kanalizacyjnej rewizyjnej betonowej o średnicy do 1500 mm | D43: kpl. | E43: 10 | G43: =ROUND(E43*F43,2) -> 0
C44: OGÓŁEM | D44: x | E44: x | G44: =SUM(G12:G43) -> 0
A46: * Ceny jednostkowe należy podawać bez VAT.

Sheet 8. Kan. deszczowa Żeromskiego
A1: ROZBUDOWA SKRZYŻOWANIA DROGI KRAJOWEJ NR 32 Z DROGĄ WOJEWÓDZKĄ NR 305 I UL. GAJEWSKICH W M. WOLSZTYN
A3: KOSZTORYS OFERTOWY
A5: ROBOTY BRANŻOWE
A6: Przebudowa kanalizacji deszczowej w ul. Żeromskiego - odcinek Dist. - D1
B9: Nr | D9: Jednostka | F9: Cena | G9: Wartość
A10: Lp. | B10: Specyfikacji | C10: Wyszczególnienie elementów rozliczeniowych | D10: Nazwa | E10: Ilość | F10: jednostkowa
B11: Technicznej | F11: zł*) | G11: zł*)
B12: D.03.00.00. | C12: ODWODNIENIE KORPUSU DROGOWEGO | D12: x | E12: x | F12: x | G12: x
B13: D.03.02.01. | C13: Kanalizacja deszczowa | D13: x | E13: x | F13: x | G13: x
C14: • roboty rozbiórkowe
A15: 1 | C15: - rozebranie obrzeży betonowych | D15: m | E15: 70 | G15: =ROUND(E15*F15,2) -> 0
A16: =A15+1 -> 2 | C16: - rozebranie nawierzchni chodnika | D16: m2 | E16: 70 | G16: =ROUND(E16*F16,2) -> 0
C17: • kanalizacja deszczowa | D17: x | E17: x | F17: x | G17: x
A18: 3 | C18: - roboty pomiarowe | D18: km | E18: 0.1 | G18: =ROUND(E18*F18,2) -> 0
A19: =1+A18 -> 4 | C19: - igłofiltry wpłukiwane w grunt bez obsypki gł. do 4,0 m | D19: szt. | E19: 70 | G19: =ROUND(E19*F19,2) -> 0
A20: =1+A19 -> 5 | C20: - roboty ziemne pionowe mechaniczne na odkład kat. 3-4 z wymiana gruntu, zasypaniem i zagęszczaniem, w obudowie wykopu | D20: m | E20: 72 | G20: =ROUND(E20*F20,2) -> 0
A21: =1+A20 -> 6 | C21: - pompowanie wody z igłofiltrów i wód opadowych | D21: ryczałt | E21: 1 | G21: =ROUND(E21*F21,2) -> 0
A22: =1+A21 -> 7 | C22: - rurociąg tymczasowy | D22: m | E22: 100 | G22: =ROUND(E22*F22,2) -> 0
A23: =1+A22 -> 8 | C23: - montaż konstr. rozp. 4,0 m podw. kabli energ/telekom lekkich | D23: kpl. | E23: 3 | G23: =ROUND(E23*F23,2) -> 0
A24: =1+A23 -> 9 | C24: - demontaż konstr. rozp. 4,0 m podw. kabli energ/telekom lekkich | D24: kpl. | E24: 3 | G24: =ROUND(E24*F24,2) -> 0
A25: =1+A24 -> 10 | C25: - kanał z rur kanalizacyjnych PEHD SN8 fi 800 w wykopie umocnionym | D25: m | E25: 69 | G25: =ROUND(E25*F25,2) -> 0
A26: =1+A25 -> 11 | C26: - Próba szczelności kanałów rurowych | D26: szt. | E26: 1 | G26: =ROUND(E26*F26,2) -> 0
A27: =1+A26 -> 12 | C27: - studnia rewizyjna fi 1500 w gruncie kategorii 1/2 | D27: szt. | E27: 1 | G27: =ROUND(E27*F27,2) -> 0
C28: OGÓŁEM | D28: x | E28: x | G28: =SUM(G12:G27) -> 0
A30: * Ceny jednostkowe należy podawać bez VAT.

Sheet 9. Wodociąg i kan. sanitarna
A1: ROZBUDOWA SKRZYŻOWANIA DROGI KRAJOWEJ NR 32 Z DROGĄ WOJEWÓDZKĄ NR 305 I UL. GAJEWSKICH W M. WOLSZTYN
A3: KOSZTORYS OFERTOWY
A5: ROBOTY BRANŻOWE
A6: Sieć wodociągowa i kanalizacja sanitarna
B9: Nr | D9: Jednostka | F9: Cena | G9: Wartość
A10: Lp. | B10: Specyfikacji | C10: Wyszczególnienie elementów rozliczeniowych | D10: Nazwa | E10: Ilość | F10: jednostkowa
B11: Technicznej | F11: zł*) | G11: zł*)
B12: D-01.03.05. | C12: Sieć wodociągowa i kanaliacja sanitarna | D12: x | E12: x | F12: x | G12: x
C13: Sieć wodociągowa | D13: x | E13: x | F13: x | G13: x
A14: 1 | C14: - Rob.ziem.wyk.koparkami podsiębiernymi 0.40 i 0.60m3,transp.samochodami do 1km pojemność łyżki 0.60m3,kat.gruntu III | D14: m3 | E14: 695.2 | G14: =ROUND(E14*F14,2) -> 0
A15: =A14+1 -> 2 | C15: - Wykopy liniowe o ścianach pionowych pod fundamenty,rurociąg i kolek.w gr.suchych głębokość do 3m, gr.kat.III-IV | D15: m3 | E15: 173.8 | G15: =ROUND(E15*F15,2) -> 0
A16: =A15+1 -> 3 | C16: - Nakłady uzupełniające do T0201-0213 za każde dalsze 0.5km transportu samochodami samowyładowczymi po drogach utwardz.,gr.kat.III-IV | D16: m3 | E16: 228 | G16: =ROUND(E16*F16,2) -> 0
A17: =A16+1 -> 4 | C17: - Pełne umocnienie pionowych ścian wykopów balami drewnianymi w grunt.suchych wykop o szerokości do 1m, głębokość do 3m, kat.gruntu III-IV | D17: m2 | E17: 1826 | G17: =ROUND(E17*F17,2) -> 0
A18: =1+A17 -> 5 | C18: - Podłoża pod kanały i obiekty z materiałów sypkich i stabilizowanych cementem podłoże z materiałów sypkich o grubości 20cm | D18: m3 | E18: 84 | G18: =ROUND(E18*F18,2) -> 0
A19: =1+A18 -> 6 | C19: - Podłoża pod kanały i obiekty z materiałów sypkich i stabilizowanych cementem podłoże z materiałów sypkich o grubości 20cm | D19: m3 | E19: 144 | G19: =ROUND(E19*F19,2) -> 0
A20: =1+A19 -> 7 | C20: - Zasyp.wykopów fundament.podłużnych.,punktowych,rowów,wykopów obiekt.spycharkami zagęszczanie spycharkami,grubość zagęszczanej warstwy 30cm,kat.gruntu III-IV | D20: m3 | E20: 641 | G20: =ROUND(E20*F20,2) -> 0
A21: =1+A20 -> 8 | C21: - Przecisk do 50m metodą wibrową przy użyciu młota pneumatycznego o średnicy 114,3/4,0 mm, grunt kategorii III-IV | D21: m | E21: 12.5 | G21: =ROUND(E21*F21,2) -> 0
A22: =1+A21 -> 9 | C22: - Przeciąganie rur ochronnych przez rury przeciskowe rury ochronne o średnicy 100 mm | D22: m | E22: 12.5 | G22: =ROUND(E22*F22,2) -> 0
A23: =1+A22 -> 10 | C23: - Montaż rurociągów z rur polietylenowych (PE,PEHD) o średnicy zewnętrznej 315mm | D23: m | E23: 55.6 | G23: =ROUND(E23*F23,2) -> 0
A24: =1+A23 -> 11 | C24: - Montaż rurociągów z rur polietylenowych (PE,PEHD) o średnicy zewnętrznej 280mm | D24: m | E24: 71.7 | G24: =ROUND(E24*F24,2) -> 0
A25: =1+A24 -> 12 | C25: - Montaż rurociągów z rur polietylenowych (PE,PEHD) o średnicy zewnętrznej 180mm | D25: m | E25: 132.3 | G25: =ROUND(E25*F25,2) -> 0
A26: =1+A25 -> 13 | C26: - Montaż rurociągów z rur polietylenowych (PE,PEHD) o średnicy zewnętrznej 110mm | D26: m | E26: 60.4 | G26: =ROUND(E26*F26,2) -> 0
A27: =1+A26 -> 14 | C27: - Montaż rurociągów z rur polietylenowych (PE,PEHD) o średnicy zewnętrznej 90mm | D27: m | E27: 42.8 | G27: =ROUND(E27*F27,2) -> 0
A28: =1+A27 -> 15 | C28: - Montaż rurociągów z rur polietylenowych (PE,PEHD) o średnicy zewnętrznej 40 mm | D28: m | E28: 34.2 | G28: =ROUND(E28*F28,2) -> 0
A29: =1+A28 -> 16 | C29: - Montaż rurociągów z rur polietylenowych (PE,PEHD) o średnicy zewnętrznej 40 mm | D29: m | E29: 24.8 | G29: =ROUND(E29*F29,2) -> 0
... A32: =1+A31 -> 19 | C32: - Proba szczelnosci sieci wodociagowych (naklady na 1 probe) Rurociagi o srednicy nominalnej 200-250 mm | D32: szt | E32: 1 | G32: =ROUND(E32*F32,2) -> 0
A33: =A32+1 -> 20 | C33: - Proba szczelnosci sieci wodociagowych (naklady na 1 probe) Rurociagi o srednicy nominalnej 300-350 mm | D33: szt | E33: 1 | G33: =ROUND(E33*F33,2) -> 0
A34: =1+A33 -> 21 | C34: - Proba szczelnosci sieci wodociagowych (naklady na 1 probe) Rurociagi o srednicy nominalnej do 150 mm | D34: szt | E34: 2 | G34: =ROUND(E34*F34,2) -> 0
A35: =1+A34 -> 22 | C35: - Dezynfekcja rurociągów sieci wodociągowych o średnicy nominalnej do 150 mm | D35: szt | E35: 1.473 | G35: =ROUND(E35*F35,2) -> 0
A36: =1+A35 -> 23 | C36: - Dezynfekcja rurociągów sieci wodociągowych o średnicy nominalnej 200 - 250 mm | D36: szt | E36: 0.359 | G36: =ROUND(E36*F36,2) -> 0
A37: =1+A36 -> 24 | C37: - Dezynfekcja rurociągów sieci wodociągowych o średnicy nominalnej 300 mm | D37: szt | E37: 0.278 | G37: =ROUND(E37*F37,2) -> 0
A38: =1+A37 -> 25 | C38: - Rury stalowe ochronne o złączach spawanych o śr zewn. 457 / 10.0 mm z izolacją zewn.z polIetylenu 3xLPE | D38: m | E38: 13 | G38: =ROUND(E38*F38,2) -> 0
A39: =1+A38 -> 26 | C39: - Rury stalowe ochronne o złączach spawanych o śr. zewn 355/ 8.0 mm z izolacją zewn. z polietylenu 3xLPE | D39: m | E39: 15 | G39: =ROUND(E39*F39,2) -> 0
A40: =1+A39 -> 27 | C40: - Rury stalowe ochronne o złączach spawanych o śred. zewn. 273.00 / 7 mm z izolacją zewnętrzna z polietylenu 3xLPE | D40: m | E40: 15 | G40: =ROUND(E40*F40,2) -> 0
A41: =1+A40 -> 28 | C41: - Rury stalowe ochronne o złączach spawanych o śred. zewn. 114 / 4.0 mm z izolacją zewnętrzną z polietylenu 3xLPE | D41: m | E41: 25 | G41: =ROUND(E41*F41,2) -> 0
A42: =1+A41 -> 29 | C42: - Wodomierze skrzydełkowe, zawór antyskażeniowy o śred. nominalnej 20 mm , studzienka wodomierzowa | D42: szt | E42: 2 | G42: =ROUND(E42*F42,2) -> 0
A43: =1+A42 -> 30 | C43: - Zasuwa typu E kołnierzowa z obudową montowaną na rurociągach PVC i PE o średnicy 300mm | D43: kpl | E43: 2 | G43: =ROUND(E43*F43,2) -> 0
A44: =1+A43 -> 31 | C44: - Zasuwa typu E kołnierzowa z obudową montowaną na rurociągach PVC i PE o średnicy 250mm | D44: kpl | E44: 3 | G44: =ROUND(E44*F44,2) -> 0
A45: =1+A44 -> 32 | C45: - Zasuwa typu E kołnierzowa z obudową montowaną na rurociągach PVC i PE o średnicy 150mm | D45: kpl | E45: 2 | G45: =ROUND(E45*F45,2) -> 0
... A97: =1+A96 -> 84 | C97: - Ksztaltki żeliwne ciśnieniowe kołnierzowe o średnicy nominalnej 80 mm | D97: szt | E97: 1 | G97: =ROUND(E97*F97,2) -> 0
...

Sheet 10. Przebudowa gazociągu nc
A1: ROZBUDOWA SKRZYŻOWANIA DROGI KRAJOWEJ NR 32 Z DROGĄ WOJEWÓDZKĄ NR 305 I UL. GAJEWSKICH W M. WOLSZTYN
A3: KOSZTORYS OFERTOWY
A5: ROBOTY BRANŻOWE
A6: Przebudowa gazociągu n/c
B9: Nr | D9: Jednostka | F9: Cena | G9: Wartość
A10: Lp. | B10: Specyfikacji | C10: Wyszczególnienie elementów rozliczeniowych | D10: Nazwa | E10: Ilość | F10: jednostkowa
B11: Technicznej | F11: zł*) | G11: zł*)
B12: D-01.03.06. | C12: Przebudowa kolizji sieci gazowej n/c | D12: x | E12: x | F12: x | G12: x
C13: • Roboty przygotowawcze i ziemne oraz drogowe
A14: 1 | C14: - Roboty pomiarowe - trasa dróg w terenie równinnym | D14: km | E14: 0.052 | G14: =ROUND(E14*F14,2) -> 0
A15: =A14+1 -> 2 | C15: - Rozebranie nawierzchni z płyt betonowych grub 8 cm spoiny piaskowe | D15: m2 | E15: 68 | G15: =ROUND(E15*F15,2) -> 0
A16: 3 | C16: - Ręczne rozebranie podbudowy betonowej grub 15 cm | D16: m2 | E16: 68 | G16: =ROUND(E16*F16,2) -> 0
A17: 4 | C17: - Rob ziemne pionowe mechan na odkład kat 1-2 z obsypką | D17: m | E17: 52 | G17: =ROUND(E17*F17,2) -> 0
A18: 5 | C18: - Podbudowa betonowa | D18: m3 | E18: 10.2 | G18: =ROUND(E18*F18,2) -> 0
A19: 6 | C19: - Podsypka z piasku zagęszczana ręcznie | D19: m3 | E19: 3.4 | G19: =ROUND(E19*F19,2) -> 0
A20: 7 | C20: - Chodnik z kostki betonowej 20x10x6cm pods piask spoin piaskiem | D20: m2 | E20: 68 | G20: =ROUND(E20*F20,2) -> 0
C21: • Roboty montażowe | D21: x | E21: x | F21: x | G21: x
A22: 3 | C22: - Rurociąg gazowy z rur prostych HDPD SDR-17,6 fi 280 | D22: m | E22: 52 | G22: =ROUND(E22*F22,2) -> 0
A23: 4 | C23: - Łączenie metodą zgrzewania czołowego rur PE fi 280 | D23: szt. | E23: 9 | G23: =ROUND(E23*F23,2) -> 0
A24: 5 | C24: - Montaż konstrukcji rozpiętości 4,0 m podwieszeń kabli energetycznych i telekomunikacyjnych typ lekki | D24: kpl. | E24: 8 | G24: =ROUND(E24*F24,2) -> 0
A25: 6 | C25: - Demontaż konstrukcji rozpiętości 4,0 m podwieszeń kabli energetycznych i telekomunikacyjnych typ lekki | D25: kpl. | E25: 8 | G25: =ROUND(E25*F25,2) -> 0
A26: 7 | C26: - Montaż konstrukcji rozpiętości 4,0 m podwieszeń rurociągów i kanałów | D26: kpl. | E26: 4 | G26: =ROUND(E26*F26,2) -> 0
A27: 8 | C27: - Demontaż konstrukcji rozpiętości 4,0 m podwieszeń rurociągów i kanałów | D27: kpl. | E27: 4 | G27: =ROUND(E27*F27,2) -> 0
A28: 9 | C28: - Ustawienie na rurociągu PE zasuwy FIG 043 fi 250 | D28: szt. | E28: 2 | G28: =ROUND(E28*F28,2) -> 0
A29: 10 | C29: - Kształtka stalowa fi 250 - zaślepienie istniejącego gazociągu | D29: szt. | E29: 4 | G29: =ROUND(E29*F29,2) -> 0
A30: 11 | C30: - Montaż kolana elektrooporowego 90°z PE fi 280 | D30: szt. | E30: 1 | G30: =ROUND(E30*F30,2) -> 0
A31: 12 | C31: - Montaż kolana elektrooporowego 45°z PE fi 280 | D31: szt. | E31: 2 | G31: =ROUND(E31*F31,2) -> 0
A32: 13 | C32: - Króciec kołnierzowy fi 150 | D32: kpl. | E32: 1 | G32: =ROUND(E32*F32,2) -> 0
A33: 14 | C33: - Króciec kołnierzowy fi 250 | D33: kpl. | E33: 1 | G33: =ROUND(E33*F33,2) -> 0
... A42: 23 | C42: - Kalkulacja własna: Nadzór i odbiór prac gazoniebezpiecznych | D42: szt. | E42: 1 | G42: =ROUND(E42*F42,2) -> 0
C43: OGÓŁEM | D43: x | E43: x | G43: =SUM(G12:G42) -> 0
A45: * Ceny jednostkowe należy podawać bez VAT.

Sheet 11. B.elektryczna - oświetlenie
A1: ROZBUDOWA SKRZYŻOWANIA DROGI KRAJOWEJ NR 32 Z DROGĄ WOJEWÓDZKĄ NR 305 I UL. GAJEWSKICH W M. WOLSZTYN
A3: KOSZTORYS OFERTOWY
A5: ROBOTY BRANŻOWE
A6: Branża elektryczna - oświetlenie i sygnalizacja
D9: Jednostka | F9: Cena | G9: Wartość
A10: Lp. | C10: Wyszczególnienie elementów rozliczeniowych | D10: Nazwa | E10: Ilość | F10: jednostkowa
F11: zł*) | G11: zł*)
C12: Branża elektryczna | D12: x | E12: x | F12: x | G12: x
C13: • Roboty przygotowawcze i ziemne (dla robót elektroenergetycznych) | D13: x | E13: x | F13: x | G13: x
A14: 1 | C14: - roboty ziemne - wykopy ręczne wraz z zasypaniem, dla słupów elektroenergetycznych linii napowietrznych niskiego napięcia, przy głębokości wykopów do 1,5 m | D14: m3 | E14: 15.375 | G14: =ROUND(E14*F14,2) -> 0
A15: =A14+1 -> 2 | C15: - roboty ziemne - ręczne kopanie rowów dla kabli w gruncie kat.III, przy szerokości dna wykopu do 0,4 m i głębokości rowu do 1,0 m | D15: m | E15: 884 | G15: =ROUND(E15*F15,2) -> 0
A16: =A15+1 -> 3 | C16: - nasypanie warstwy piasku na dnie rowu kablowego o szerokości: do 0.4 m | D16: m | E16: 1768 | G16: =ROUND(E16*F16,2) -> 0
A17: =A16+1 -> 4 | C17: - ręczne zasypywanie rowów dla kabli w gruncie kat.III, przy szerokości dna wykopu do 0,4 m i głębokości rowu do 0,8 m | D17: m | E17: 884 | G17: =ROUND(E17*F17,2) -> 0
A18: =A17+1 -> 5 | C18: - transport nadmiaru gruntu na składowisko Wykonawcy wraz z załadunkiem i rozładunkiem | D18: m3 | E18: 80.56 | G18: =ROUND(E18*F18,2) -> 0
A19: =A18+1 -> 6 | C19: - wywiezienie gruzu z załadowaniem i rozładowaniem | D19: m3 | E19: 5.535 | G19: =ROUND(E19*F19,2) -> 0
C20: • Montaż | D20: x | E20: x | F20: x | G20: x
A21: =A19+1 -> 7 | C21: - układanie w wykopie rur ochronnych z PCW; rury RHDPE grubościenne ø 110/6,3 | D21: m | E21: 133 | G21: =ROUND(E21*F21,2) -> 0
A22: =A21+1 -> 8 | C22: - układanie w wykopie rur ochronnych z PCW; rury HDPE 110 | D22: m | E22: 180 | G22: =ROUND(E22*F22,2) -> 0
A23: =A22+1 -> 9 | C23: - ręczne układanie w rowach kablowych, kabli z przykryciem folią: kabel YAKY 4x35mm2 | D23: m | E23: 1156 | G23: =ROUND(E23*F23,2) -> 0
A24: =A23+1 -> 10 | C24: - układanie w rurach, pustakach lub kanałach zamkniętych: kabel YAKY 4x35mm2 | D24: m | E24: 194 | G24: =ROUND(E24*F24,2) -> 0
A25: =A24+1 -> 11 | C25: - obróbka na sucho kabli energetycznych wielożyłow. z żyłami miedzianymi, na napiecie do 1 kV, o izolacji i powłoce z tworzyw sztucznych; zarobienie końca kabla o przekroju 35mm2 | D25: szt. | E25: 76 | G25: =ROUND(E25*F25,2) -> 0
A26: =A25+1 -> 12 | C26: - mechaniczne stawianie słupów oświetleniowych o o wys 12m, słup stal. na fundmencie prefabrykowanym | D26: szt. | E26: 41 | G26: =ROUND(E26*F26,2) -> 0
A27: =A26+1 -> 13 | C27: - montaż tabliczek: bezpiecznikowych we wnękach słupów | D27: szt. | E27: 41 | G27: =ROUND(E27*F27,2) -> 0
A28: =A27+1 -> 14 | C28: - montaż odgromników na słupie | D28: kpl. | E28: 1 | G28: =ROUND(E28*F28,2) -> 0
A29: =A28+1 -> 15 | C29: - ławy fundamentowe żelbetowe prostokątne o szerokości: do 0,6 m | D29: m3 | E29: 3.4 | G29: =ROUND(E29*F29,2) -> 0
A30: =A29+1 -> 16 | C30: - montaż wysięgników 1,5m na słupie | D30: szt. | E30: 41 | G30: =ROUND(E30*F30,2) -> 0
A31: =A30+1 -> 17 | C31: - montaż opraw oświetlenia zewnętrznego LED 146W, 20400lm na słupie (przyjęto do obliczeń: BGP204 LED 240-4S/740 DM12) z zaprogramowaną 5-stopniową redukcją strumienia | D31: szt. | E31: 6 | G31: =ROUND(E31*F31,2) -> 0
A32: =A31+1 -> 18 | C32: - montaż opraw oświetlenia zewnętrznego LED 82W, 10920lm na słupie (przyjęto do obliczeń: BGP307 LED 130-4S/740 DM11) z zaprogramowaną 5-stopniową redukcją strumienia | D32: szt. | E32: 26 | G32: =ROUND(E32*F32,2) -> 0
A33: =A32+1 -> 19 | C33: - montaż opraw oświetlenia zewnętrznego LED 60W, 8600lm na słupie (przyjęto do obliczeń: BGP307 LED 99-4S/740 DM11) z zaprogramowaną 5-stopniową redukcją strumienia | D33: szt. | E33: 9 | G33: =ROUND(E33*F33,2) -> 0
... A41: =A40+1 -> 27 | C41: - badanie i pomiar uziemienia ochronnego lub roboczego: następny pomiar po pierwszym | D41: pomiar | E41: 41 | G41: =ROUND(E41*F41,2) -> 0
C42: • Demontaż (oświetlenie) | D42: x | E42: x | F42: x | G42: x
A43: =A41+1 -> 28 | C43: - demontaż ręcznie, przewodów o przekroju: do 50 mm2 (R,S=0,50) | D43: km/prz. | E43: 1.16 | G43: =ROUND(E43*F43,2) -> 0
A44: =A43+1 -> 29 | C44: - mechanicznie stawianie słupów stalowych oświetleniowych o wys do 12m - analogia: demontaż (R,S=0,50) | D44: szt. | E44: 41 | G44: =ROUND(E44*F44,2) -> 0
A45: =A44+1 -> 30 | C45: - demontaż wysięgników rurowych o ciężarze: ponad 50 do 60 kg , na słupie (R,S=0,50) | D45: szt. | E45: 41 | G45: =ROUND(E45*F45,2) -> 0
A46: =A45+1 -> 31 | C46: - demontaż na zamontowanym wysięgniku opraw (R,S=0,50) | D46: szt. | E46: 41 | G46: =ROUND(E46*F46,2) -> 0
C47: • Demontaż (sygnalizacja) | D47: x | E47: x | F47: x | G47: x
A48: =A46+1 -> 32 | C48: - demontaż na gotowym fundamencie, szaf sterowniczych oświetlenia zewnętrznego, SO (R,S=0,50) - aparat sterowniczy MSR 2002 (5 grupy syg., 3 wejścia do kamer) | D48: szt. | E48: 1 | G48: =ROUND(E48*F48,2) -> 0
A49: =A48+1 -> 33 | C49: - demontaż okablowania zasilającego maszty/słupy/sygnalizatory | D49: kmpl | E49: 1 | G49: =ROUND(E49*F49,2) -> 0
A50: =A49+1 -> 34 | C50: - demontaż studni kablowych | D50: szt. | E50: 15 | G50: =ROUND(E50*F50,2) -> 0
A51: =A50+1 -> 35 | C51: - demontaż kanalizacji kablowej | D51: mb | E51: 480 | G51: =ROUND(E51*F51,2) -> 0
...

Sheet 12. Br. elektryczna - kolizje
A1: ROZBUDOWA SKRZYŻOWANIA DROGI KRAJOWEJ NR 32 Z DROGĄ WOJEWÓDZKĄ NR 305 I UL. GAJEWSKICH W M. WOLSZTYN
A3: KOSZTORYS OFERTOWY
A5: ROBOTY BRANŻOWE
A6: Branża elektryczna - kolizje elektroenergetyczne
D9: Jednostka | F9: Cena | G9: Wartość
A10: Lp. | C10: Wyszczególnienie elementów rozliczeniowych | D10: Nazwa | E10: Ilość | F10: jednostkowa
F11: zł*) | G11: zł*)
C12: Branża elektryczna | D12: x | E12: x | F12: x | G12: x
C13: • Roboty przygotowawcze i ziemne (dla robót elektroenergetycznych) | D13: x | E13: x | F13: x | G13: x
A14: 1 | C14: - roboty ziemne - ręczne kopanie rowów dla kabli w gruncie kat.III, przy szerokości dna wykopu do 0,4 m i głębokości rowu do 1,0 m | D14: m | E14: 108 | G14: =ROUND(E14*F14,2) -> 0
A15: =A14+1 -> 2 | C15: - nasypanie warstwy piasku na dnie rowu kablowego o szerokości: do 0.4 m | D15: m | E15: 216 | G15: =ROUND(E15*F15,2) -> 0
A16: =A15+1 -> 3 | C16: - ręczne zasypywanie rowów dla kabli w gruncie kat.III, przy szerokości dna wykopu do 0,4 m i głębokości rowu do 0,8 m | D16: m | E16: 108 | G16: =ROUND(E16*F16,2) -> 0
A17: =A16+1 -> 4 | C17: - transport nadmiaru gruntu na składowisko Wykonawcy wraz z załadunkiem i rozładunkiem | D17: m3 | E17: 8.64 | G17: =ROUND(E17*F17,2) -> 0
C18: • Montaż | D18: x | E18: x | F18: x | G18: x
A19: =A17+1 -> 5 | C19: - montaż złącza kablowego 6-polowego zewnętrznego o ciężarze do 100kg | D19: szt. | E19: 2 | G19: =ROUND(E19*F19,2) -> 0
A20: =A19+1 -> 6 | C20: - układanie w wykopie rur ochronnych z PCW; rury RHDPE grubościenne ø 110/6,3 | D20: m | E20: 38 | G20: =ROUND(E20*F20,2) -> 0
A21: =A20+1 -> 7 | C21: - układanie w wykopie rur ochronnych z PCW; rury HDPE 110 | D21: m | E21: 15 | G21: =ROUND(E21*F21,2) -> 0
A22: =A21+1 -> 8 | C22: - ręczne układanie w rowach kablowych, kabli z przykryciem folią: kabel YAKY 4x120mm2 | D22: m | E22: 127 | G22: =ROUND(E22*F22,2) -> 0
A23: =A22+1 -> 9 | C23: - układanie w rurach, pustakach lub kanałach zamkniętych: kabel YAKY 4x120mm2 | D23: m | E23: 53 | G23: =ROUND(E23*F23,2) -> 0
A24: =A23+1 -> 10 | C24: - obróbka na sucho kabli energetycznych wielożyłow. z żyłami miedzianymi, na napiecie do 1 kV, o izolacji i powłoce z tworzyw sztucznych; zarobienie końca kabla o przekroju 120mm2 | D24: szt. | E24: 6 | G24: =ROUND(E24*F24,2) -> 0
A25: =A24+1 -> 11 | C25: - montaż uziomu powierzchniowego, w wykopie o głębokości: ponad 0,6 do 0,8 m grunt kat.III - bednarka ocynkowana 30x4mm | D25: m | E25: 40 | G25: =ROUND(E25*F25,2) -> 0
A26: =A25+1 -> 12 | C26: - montaż złączy kontrolnych w instalacji uziemiającej lub odgromowej - połączenie: drut-płaskownik | D26: szt. | E26: 2 | G26: =ROUND(E26*F26,2) -> 0
A27: =A26+1 -> 13 | C27: - montaż muf przelotowych na kablach YAKY 4x120 mm2 | D27: szt. | E27: 4 | G27: =ROUND(E27*F27,2) -> 0
A28: =A27+1 -> 14 | C28: - badanie linii kablowej - nn o ilości żył do 4 - kable zasilające | D28: odc. | E28: 3 | G28: =ROUND(E28*F28,2) -> 0
A29: =A28+1 -> 15 | C29: - badanie i pomiar uziemienia ochronnego lub roboczego: pierwszy pomiar | D29: pomiar | E29: 1 | G29: =ROUND(E29*F29,2) -> 0
A30: =A29+1 -> 16 | C30: - badanie i pomiar uziemienia ochronnego lub roboczego: następny pomiar po pierwszym | D30: pomiar | E30: 1 | G30: =ROUND(E30*F30,2) -> 0
C31: • Demontaż | D31: x | E31: x | F31: x | G31: x
A32: =A30+1 -> 17 | C32: - demontaż na gotowym fundamencie, złącze kablowe 5-polowe | D32: szt. | E32: 2 | G32: =ROUND(E32*F32,2) -> 0
A33: =A32+1 -> 18 | C33: - demontaż ręcznie, przewodów o przekroju: ponad 95 do 120 mm2 (R,S=0,50) | D33: km/prz. | E33: 0.18 | G33: =ROUND(E33*F33,2) -> 0
C34: OGÓŁEM | D34: x | E34: x | F34: x | G34: =SUM(G13:G33) -> 0
A36: * Ceny jednostkowe należy podawać bez VAT.

Sheet 13. Usunięcie kolizji teletechn
A1: ROZBUDOWA SKRZYŻOWANIA DROGI KRAJOWEJ NR 32 Z DROGĄ WOJEWÓDZKĄ NR 305 I UL. GAJEWSKICH W M. WOLSZTYN
A3: KOSZTORYS OFERTOWY
A5: ROBOTY BRANŻOWE
A6: Branża teletechniczna
B9: Nr | D9: Jednostka | F9: Cena | G9: Wartość
A10: Lp. | B10: Specyfikacji | C10: Wyszczególnienie elementów rozliczeniowych | D10: Nazwa | E10: Ilość | F10: jednostkowa
B11: Technicznej | F11: zł*) | G11: zł*)
B12: D-01.03.04. | C12: Branża teletechniczna | D12: x | E12: x | F12: x | G12: x
C13: • Przebudowa kanalizacji
A14: 1 | C14: - Studnia kablowa magistralna SK-6 prefabrykowana monolityczna w gruncie kategorii 3 | D14: szt | E14: 4 | G14: =ROUND(E14*F14,2) -> 0
A15: =A14+1 -> 2 | C15: - Budowa gardeł dodatkowych SK-6 z bloczków w gruncie kategorii 3 | D15: szt | E15: 2 | G15: =ROUND(E15*F15,2) -> 0
A16: =A15+1 -> 3 | C16: - Studnia kablowa prefabrykowana rozdzielcza SKR-2 w gruncie kategorii 3 | D16: szt | E16: 5 | G16: =ROUND(E16*F16,2) -> 0
A17: =A16+1 -> 4 | C17: - Montaż pokrywy z listwami na ramie ciężkiej studni | D17: szt | E17: 9 | G17: =ROUND(E17*F17,2) -> 0
A18: =A17+1 -> 5 | C18: - Wykonanie przepustów pod drogami i torami, prostoliniowo, przeciskiem hydraulicznym, z powrotnym wci_x0007_ganiem rur (kategoria gruntu III-IV), długość do 10 m rura HDPE 110 | D18: metr | E18: 240 | G18: =ROUND(E18*F18,2) -> 0
A19: =A18+1 -> 6 | C19: - Wykonanie przepustów pod drogami i torami, prostoliniowo, przeciskiem hydraulicznym, z powrotnym wci_x0007_ganiem rur (kategoria gruntu III-IV), długość ponad 10 m rura HDPE 110 | D19: metr | E19: 264 | G19: =ROUND(E19*F19,2) -> 0
