Workbook
Name OLE_LINK1: '1. DK32 Żeromskiego'!#REF!
Name OLE_LINK1: '10. Przebudowa gazociągu nc'!#REF!
Name OLE_LINK1: '11. B.elektryczna - oświetlenie'!#REF!
Name OLE_LINK1: '12. Br. elektryczna - kolizje'!#REF!
Name OLE_LINK1: '13. Usunięcie kolizji teletechn'!#REF!
Name OLE_LINK1: '2. DW305 Fabryczna'!#REF!
Name OLE_LINK1: '3. DP3831P Gajewskich'!#REF!
Name OLE_LINK1: '4. Dr. wewnętrzna'!#REF!
Name OLE_LINK1: '5. Miejsca postojowe'!#REF!
Name OLE_LINK1: '6. Chodnik Dworcowa'!#REF!
Name OLE_LINK1: '7. Kanalizacja deszczowa'!#REF!
Name OLE_LINK1: '8. Kan. deszczowa Żeromskiego'!#REF!
Name OLE_LINK1: '9. Wodociąg i kan. sanitarna'!#REF!

Sheet ZZK
A1: ROZBUDOWA SKRZYŻOWANIA DROGI KRAJOWEJ NR 32 Z DROGĄ WOJEWÓDZKĄ NR 305 I UL. GAJEWSKICH W M. WOLSZTYN
B4: ZBIORCZE ZESTAWIENIE KOSZTÓW
B7: Lp. | C7: Element | D7: Wartość
B8: 1 | C8: Droga krajowa nr 32 (ul. Żeromskiego) | D8: ='1. DK32 Żeromskiego'!G171 -> 0
B9: 2 | C9: Droga wojewódzka nr 305 (ul. Fabryczna) | D9: ='2. DW305 Fabryczna'!G111 -> 0
B10: 3 | C10: Droga powiatowa nr 3831P (ul. Gajewskich) | D10: ='3. DP3831P Gajewskich'!G98 -> 0
B11: 4 | C11: Droga wewnętrzna (dojazd do Urzędu Skarbowego) | D11: ='4. Dr. wewnętrzna'!G80 -> 0
B12: 5 | C12: Miejsca postojowe | D12: ='5. Miejsca postojowe'!G104 -> 0
B13: 6 | C13: Chodnik od miejsc parkingowych do ul. Dworcowej | D13: ='6. Chodnik Dworcowa'!G39 -> 0
B14: 7 | C14: Przebudowa kanalizacji deszczowej | D14: ='7. Kanalizacja deszczowa'!G44 -> 0
B15: 8 | C15: Przebudowa kanalizacji deszczowej w ul. Żeromskiego | D15: ='8. Kan. deszczowa Żeromskiego'!G28 -> 0
B16: 9 | C16: Przebudowa sieci wodociągowej i kanalizacji sanitarnej | D16: ='9. Wodociąg i kan. sanitarna'!G121 -> 0
B17: 10 | C17: Przebudowa kolizji sieci gazowej n/c | D17: ='10. Przebudowa gazociągu nc'!G43 -> 0
B18: 11 | C18: Branża elektryczna - oświetlenie i sygnalizacja | D18: ='11. B.elektryczna - oświetlenie'!G79 -> 0
B19: 12 | C19: Branża elektryczna - kolizje elektroenegetyczne | D19: ='12. Br. elektryczna - kolizje'!G34 -> 0
B20: 13 | C20: Usunięcie kolizji teletechnicznych | D20: ='13. Usunięcie kolizji teletechn'!G209 -> 0
B21: 14 | C21: Zabezpieczenie robót | D21: ='13. Usunięcie kolizji teletechn'!G210 -> 0
C22: Wartość łączna netto | D22: =SUM(D8:D21) -> 0
C23: Podatek VAT 23% | D23: =ROUND(D22*0.23,2) -> 0
C24: Wartość brutto | D24: =SUM(D22:D23) -> 0

Sheet 1. DK32 Żeromskiego
A1: ROZBUDOWA SKRZYŻOWANIA DROGI KRAJOWEJ NR 32 Z DROGĄ WOJEWÓDZKĄ NR 305 I UL. GAJEWSKICH W M. WOLSZTYN
A3: Część drogowa - droga krajowa nr 32 (ul. Żeromskiego)
A5: KOSZTORYS OFERTOWY
A7: ROBOTY DROGOWE
B9: Nr | D9: Jednostka | F9: Cena | G9: Wartość
A10: Lp. | B10: Specyfikacji | C10: Wyszczególnienie elementów rozliczeniowych | D10: Nazwa | E10: Ilość | F10: jednostkowa
B11: Technicznej | F11: zł*) | G11: zł*)
A12: 1 | B12: 2 | C12: 3 | D12: 4 | E12: 5 | F12: 6 | G12: 7
B13: D.01.00.00. | C13: ROBOTY PRZYGOTOWAWCZE | D13: x | E13: x | F13: x | G13: x
B14: D.01.01.01. | C14: Odtworzenie trasy i punktów wysokościowych | D14: x | E14: x | F14: x | G14: x
A15: 1 | C15: - roboty pomiarowe dla potrzeb przebudowy wiaduktu w terenie równinnym | D15: km | E15: 0.31 | G15: =ROUND(E15*F15,2) -> 0 | H15: 1.1
B16: D.01.02.01. | C16: Usunięcie drzew lub krzaków | D16: x | E16: x | F16: x | G16: x
C17: - wycięcie i karczowanie drzew | H17: 1.2
A18: =A15+1 -> 2 | C18: - o średnicy 26-35 cm | D18: szt. | E18: 1 | G18: =ROUND(E18*F18,2) -> 0
A19: =A18+1 -> 3 | C19: - o średnicy 56-65 cm | D19: szt. | E19: 1 | G19: =ROUND(E19*F19,2) -> 0
A20: =A19+1 -> 4 | C20: - usunięcie krzewów | D20: ha | E20: 0.002 | G20: =ROUND(E20*F20,2) -> 0 | H20: 1.3
A21: =A20+1 -> 5 | C21: - transport dłużyc na składowisko Wykonawcy wraz z załadunkiem i rozładunkiem | D21: m3 | E21: 0.8 | G21: =ROUND(E21*F21,2) -> 0
A22: =A21+1 -> 6 | C22: - transport karpiny i gałęzi na składowisko Wykonawcy wraz z załadunkiem i rozładunkiem | D22: mp | E22: 3.3 | G22: =ROUND(E22*F22,2) -> 0
B23: D.01.02.02. | C23: Zdjęcie warstwy humusu | D23: x | E23: x | F23: x | G23: x
A24: =1+A22 -> 7 | C24: ="- mechaniczne zdjęcie warstwy humusu grubości 20 cm z przemieszczeniem oraz spryzmowaniem tymczasowym ("&ROUND(0.2*E24,0)&" m^3)" -> - mechaniczne zdjęcie warstwy humusu grubości 20 cm z przemieszczeniem oraz spryzmowaniem tymczasowym (655 m^3) | D24: m2 | E24: 3273 | G24: =ROUND(E24*F24,2) -> 0 | H24: 3.1
A25: =1+A24 -> 8 | C25: - transport nadmiaru humusu na składowisko Wykonawcy wraz z załadunkiem | D25: m3 | E25: 442 | G25: =ROUND(E25*F25,2) -> 0
B26: D.01.02.04. | C26: Rozbiórki elementów dróg i ulic | D26: x | E26: x | F26: x | G26: x
A27: =A25+1 -> 9 | C27: - rozebranie mechaniczne nawierzchni bitumicznej - grubości do 30 cm | D27: m2 | E27: 3278 | G27: =ROUND(E27*F27,2) -> 0 | H27: 2.2
A28: =A27+1 -> 10 | C28: - rozebranie ręczne nawierzchni bitumicznej - grubości do 10 cm wraz z przecięciem nawierzchni piłą - pod osadzenie krawężnika | D28: m2 | E28: 141 | G28: =ROUND(E28*F28,2) -> 0 | H28: 2.2
A29: =A28+1 -> 11 | C29: - rozebranie ręczne nawierzchni bitumicznej - grubości do 19 cm wraz z przecięciem nawierzchni piłą - pod osadzenie krawężnika | D29: m2 | E29: 41 | G29: =ROUND(E29*F29,2) -> 0 | H29: 2.2
A30: =A29+1 -> 12 | C30: - rozebranie mechaniczne nawierzchni z betonu asfaltowego - grubości 5 cm | D30: m2 | E30: 348 | G30: =ROUND(E30*F30,2) -> 0 | H30: 2.14
A31: =A30+1 -> 13 | C31: - rozebranie mechaniczne podbudowy betonowej - grubości 10 cm - pieszo-jezdnia | D31: m3 | E31: 559 | G31: =ROUND(E31*F31,2) -> 0
A32: =A31+1 -> 14 | C32: - rozebranie mechaniczne podbudowy nawierzchni z kruszywa stabilizowanego mechanicznie, grubość warstwy 20 cm | D32: m2 | E32: 2476 | G32: =ROUND(E32*F32,2) -> 0 | H32: 2.4
A33: =A32+1 -> 15 | C33: - rozebranie mechaniczne podbudowy betonowej - grubości 12 cm - pod kioskiem | D33: m2 | E33: 8.75 | G33: =ROUND(E33*F33,2) -> 0
A34: =A33+1 -> 16 | C34: - rozebranie mechaniczne nawierzchni chodników, z płyt betonowych 25×25×5 cm na podsypce piaskowej | D34: m2 | E34: 6 | G34: =ROUND(E34*F34,2) -> 0 | H34: 2.5
A35: =1+A34 -> 17 | C35: - rozebranie mechaniczne nawierzchni z kostki betonowej na podsypce cementowo-piaskowej, przy grubość kostki 8 cm | D35: m2 | E35: 1404 | G35: =ROUND(E35*F35,2) -> 0 | H35: 2.6
A36: =A35+1 -> 18 | C36: - rozebranie mechaniczne nawierzchni chodników, z płyt betonowych 20×20×5 cm na podsypce piaskowej | D36: m2 | E36: 453 | G36: =ROUND(E36*F36,2) -> 0 | H36: 2.5
A37: =A36+1 -> 19 | C37: - rozebranie mechaniczne nawierzchni z "trylinki" grubości 12 cm | D37: m2 | E37: 393 | G37: =ROUND(E37*F37,2) -> 0 | H37: 2.7
A38: =1+A37 -> 20 | C38: - rozebranie mechaniczne krawężnika betonowego 20×30 cm na podsypce cementowo-piaskowej | D38: m | E38: 955 | G38: =ROUND(E38*F38,2) -> 0 | H38: 2.8
A39: =1+A38 -> 21 | C39: - rozebranie mechaniczne ław betonowych pod krawężniki betonowe | D39: m3 | E39: 114.6 | G39: =ROUND(E39*F39,2) -> 0 | H39: 2.9
A40: =1+A39 -> 22 | C40: - rozebranie mechaniczne krawężnika betonowego trapezowego 20×30 cm na podsypce cementowo-piaskowej | D40: m | E40: 60 | G40: =ROUND(E40*F40,2) -> 0
A41: =1+A40 -> 23 | C41: - rozebranie mechaniczne ław betonowych pod krawężniki betonowe trapezowe | D41: m3 | E41: 3.9 | G41: =ROUND(E41*F41,2) -> 0 | H41: 2.10
A42: =1+A41 -> 24 | C42: - rozebranie mechaniczne krawężnika kamiennego trapezowego 20×30 cm na podsypce cementowo-piaskowej | D42: m | E42: 174 | G42: =ROUND(E42*F42,2) -> 0 | H42: 2.8
A43: =1+A42 -> 25 | C43: - rozebranie mechaniczne ław betonowych pod krawężniki kamienne trapezowe | D43: m3 | E43: 14.8 | G43: =ROUND(E43*F43,2) -> 0 | H43: 2.9
A44: =A43+1 -> 26 | C44: - rozebranie mechaniczne opornika betonowego 12x25 cm na podsypce piaskowej | D44: m | E44: 288 | G44: =ROUND(E44*F44,2) -> 0 | H44: 2.11
A45: =A44+1 -> 27 | C45: - rozebranie mechaniczne obrzeża betonowego 30×8 cm na podsypce piaskowej | D45: m | E45: 750 | G45: =ROUND(E45*F45,2) -> 0 | H45: 2.11
A46: =1+A45 -> 28 | C46: - rozebranie barier stalowych pojedyńczych | D46: m | E46: 150 | G46: =ROUND(E46*F46,2) -> 0 | H46: 2.12
A47: =A46+1 -> 29 | C47: - demontaż istniejącej barierki łańcuchowej | D47: m | E47: 30 | G47: =ROUND(E47*F47,2) -> 0 | H47: X
A48: =A47+1 -> 30 | C48: - demontaż istniejącej bramy wjazdowej do posesji z segmentów stalowych oraz ogrodzenia z segmentów stalowych 8*1,8=14,4m^2 | D48: m | E48: 8 | G48: =ROUND(E48*F48,2) -> 0 | H48: X
A49: =A48+1 -> 31 | C49: - rozebranie ogrodzenia murowanego (wys. 1,8m, szer. 20cm) na ławej betonowej (otynkowane, pomalowane i z opierzeniem metalowym) 12*1,8*0,25=5,4m^3 | D49: m | E49: 12 | G49: =ROUND(E49*F49,2) -> 0 | H49: X
A50: =A49+1 -> 32 | C50: - demontaż istniejącego oznakowania - słupki pionowe znaków drogowych z rur stalowych o średnicy 70 mm | D50: szt. | E50: 28 | G50: =ROUND(E50*F50,2) -> 0 | H50: X
A51: =A50+1 -> 33 | C51: - demontaż tablic znaków drogowych (zakazu, nakazu, ostrzegawczych, informacyjnych) | D51: szt. | E51: 45 | G51: =ROUND(E51*F51,2) -> 0
A52: =A51+1 -> 34 | C52: - demontaż tablic znaków drogowych drogowskazowych | D52: szt. | E52: 8 | G52: =ROUND(E52*F52,2) -> 0
A53: =A52+1 -> 35 | C53: - rozebranie pylonów U-5a | D53: szt. | E53: 4 | G53: =ROUND(E53*F53,2) -> 0
A54: =1+A53 -> 36 | C54: - demontaż kamer (fotokomórki) | D54: szt. | E54: 4 | G54: =ROUND(E54*F54,2) -> 0 | H54: X
A55: =1+A54 -> 37 | C55: - demontaż szafki sterowniczej | D55: kpl. | E55: 1 | G55: =ROUND(E55*F55,2) -> 0
A56: =A55+1 -> 38 | C56: - demontaż sygnalizatorów świetlnych dużych (o ilości świateł 3) | D56: szt. | E56: 16 | G56: =ROUND(E56*F56,2) -> 0
A57: =A56+1 -> 39 | C57: - demontaż sygnalizatorów świetlnych małych na przejściach dla pieszych (o ilości świateł 2) | D57: szt. | E57: 16 | G57: =ROUND(E57*F57,2) -> 0
A58: =A61+1 -> 42 | C58: - demontaż konstrukcji bramowej | D58: Mg | E58: 1.8 | G58: =ROUND(E58*F58,2) -> 0 | H58: X
A59: =A58+1 -> 43 | C59: - demontaż wysięgnika rurowego | D59: Mg | E59: 0.5 | G59: =ROUND(E59*F59,2) -> 0 | H59: X
A60: =A57+1 -> 40 | C60: - przestawienie dużych tablic reklamowych na słupkach stalowych (po 2 słupki) | D60: szt. | E60: 6 | G60: =ROUND(E60*F60,2) -> 0 | H60: X
A61: =A60+1 -> 41 | C61: - przestawienie dużych tablic reklamowych "bilbord" | D61: szt. | E61: 1 | G61: =ROUND(E61*F61,2) -> 0 | H61: X
A62: =A61+1 -> 42 | C62: - przestawienie słupków pionowych z rur stalowych o średnicy 70 mm | D62: szt. | E62: 12 | G62: =ROUND(E62*F62,2) -> 0 | H62: X
A63: =1+A62 -> 43 | C63: - wywiezienie gruzu z terenu rozbiórki (z transportem na składowisko Wykonawcy z mech. załadunkiem i rozładunkiem) | D63: m3 | E63: 1183 | G63: =ROUND(E63*F63,2) -> 0 | H63: 2.15
A64: =A63+1 -> 44 | C64: - wywiezienie gruzu (destruktu - nawierzchni) z terenu rozbiórki (z transportem na składowisko Wykonawcy z mech. załadunkiem i rozładunkiem) | D64: m3 | E64: 1329 | G64: =ROUND(E64*F64,2) -> 0 | H64: 2.15
A65: =A64+1 -> 45 | C65: - wywiezienie elementów stalowych z terenu rozbiórki (z transportem na składowisko Wykonawcy z mech. załadunkiem i rozładunkiem) | D65: Mg | E65: 2.8 | G65: =ROUND(E65*F65,2) -> 0 | H65: 2.15
B66: D.02.00.00. | C66: ROBOTY ZIEMNE | D66: x | E66: x | F66: x | G66: x
B67: D.02.01.01. | C67: Wykonanie wykopów w gruntach kategorii I÷V | D67: x | E67: x | F67: x | G67: x
A68: =A65+1 -> 46 | C68: - mechaniczne wykonanie wykopów w gruntach kategorii III÷IV z załadunkiem i transportem gruntu (85m3) na składowisko Wykonawcy | D68: m3 | E68: 791 | G68: =ROUND(E68*F68,2) -> 0 | H68: 3.2, 3.4
B69: D.02.03.01. | C69: Wykonanie nasypów | D69: x | E69: x | F69: x | G69: x
A70: =A68+1 -> 47 | C70: - formowanie nasypu o wysokości do 3,0 m wraz z zagęszczeniem z gruntu kategorii I-III z wykopu | D70: m3 | E70: 460 | G70: =ROUND(E70*F70,2) -> 0 | H70: 3.3
A71: =A70+1 -> 48 | C71: - formowanie nasypu o wysokości do 3,0 m wraz z zagęszczeniem z gruntu kategorii I-III z dokopu | D71: m3 | E71: 50 | G71: =ROUND(E71*F71,2) -> 0 | H71: 3.3
B72: D.04.00.00. | C72: PODBUDOWY | D72: x | E72: x | F72: x | G72: x
B73: D.04.01.01. | C73: Koryto wraz z profilowaniem i zagęszczeniem podłoża | D73: x | E73: x | F73: x | G73: x
A74: =A71+1 -> 49 | C74: - mechaniczne profilowanie i zagęszczenie podłoża - pod warstwy konstrukcyjne nawierzchni | D74: m2 | E74: 2728 | G74: =ROUND(E74*F74,2) -> 0
B75: D.04.03.01. | C75: Oczyszczenie i skropienie warstw konstrukcyjnych | D75: x | E75: x | F75: x | G75: x
A76: =1+A74 -> 50 | C76: - oczyszczenie podbudowy nawierzchni niebitumicznej | D76: m2 | E76: 8679 | G76: =ROUND(E76*F76,2) -> 0
A77: =A76+1 -> 51 | C77: - oczyszczenie warstw bitumicznych | D77: m2 | E77: 10932 | G77: =ROUND(E77*F77,2) -> 0
A78: =A77+1 -> 52 | C78: - skropienie warstw niebitumicznych | D78: m2 | E78: 2928 | G78: =ROUND(E78*F78,2) -> 0
A79: =A78+1 -> 53 | C79: - skropienie warstw bitumicznych | D79: m2 | E79: 10932 | G79: =ROUND(E79*F79,2) -> 0
B80: D.04.04.02. | C80: Podbudowa z kruszywa łamanego | D80: x | E80: x | F80: x | G80: x
A81: =1+A79 -> 54 | C81: - wykonanie podbudowy sasadniczej z mieszanki niezwiązanej C90/3 (0/31,5mm) grubości 20 cm | D81: m2 | E81: 2928 | G81: =ROUND(E81*F81,2) -> 0 | H81: 5.4
A82: =A81+1 -> 55 | C82: - wykonanie podbudowy sasadniczej z mieszanki niezwiązanej C90/3 (0/31,5mm) grubości 15 cm | D82: m2 | E82: 791 | G82: =ROUND(E82*F82,2) -> 0 | H82: 5.8
B83: D.04.05.01. | C83: Podbudowa z gruntu lub kruszywa stabilizowanego cementem | D83: x | E83: x | F83: x | G83: x
A84: =A81+1 -> 55 | C84: - wykonanie podbudowy pomocniczej z kruszywa związanego cementem C3/4, grubości 10 cm | D84: m2 | E84: 62 | G84: =ROUND(E84*F84,2) -> 0 | H84: 5.15
A85: =A82+1 -> 56 | C85: - wykonanie podbudowy pomocniczej z kruszywa związanego cementem C3/4, grubości 15 cm | D85: m2 | E85: 4306 | G85: =ROUND(E85*F85,2) -> 0 | H85: 5.15
A86: 56a | C86: - wykonanie podbudowy pomocniczej z kruszywa związanego cementem C5/6, grubości 20 cm | D86: m2 | E86: =2928+654 -> 3582 | G86: =ROUND(E86*F86,2) -> 0
B87: D.04.06.02. | C87: Podbudowa betonowa
A88: =1+A85 -> 57 | C88: - wykonanie podbudowy zasadniczej z betonu klasy C16/20, dylatowanej grubości po zagęszczeniu 30-31 cm wraz z pielęgnacją | D88: m2 | E88: 654 | G88: =ROUND(E88*F88,2) -> 0 | H88: 5.5
B89: D.05.03.05C | C89: Podbudowa z betonu asfaltowego o wysokim module sztywności | D89: x | E89: x | F89: x | G89: x
A90: =A88+1 -> 58 | C90: - wykonanie podbudowy zasadniczej z betonu asfaltowego o wysokim module sztywności AC 16 P WMS 20/30 grubości 10 cm | D90: m2 | E90: =2379+258 -> 2637 | G90: =ROUND(E90*F90,2) -> 0 | H90: 5.3
B91: D.04.07.01. | C91: Podbudowa z betonu asfaltowego | D91: x | E91: x | F91: x | G91: x
A92: =A90+1 -> 59 | H92: 5.3
A93: =A92+1 -> 60 | C93: - wykonanie podbudowy zasadniczej z betonu asfaltowego AC 22 P 35/50 grubości 7 cm | D93: m2 | E93: 391 | G93: =ROUND(E93*F93,2) -> 0 | H93: 5.3
B94: D.05.03.05A | C94: Wyrównanie podbudowy betonem asfaltowym jak na w-wę wiążącą
A95: =A93+1 -> 61 | C95: - wyrównanie istniejącej podbudowy betonem asfaltowym AC 16 W 35/50 grubość wg dokumentacji | D95: t | E95: 46 | G95: =ROUND(E95*F95,2) -> 0
B96: D.04.03.01. | C96: Zabezpieczenie nawierzchni geokompozytem
A97: 61a | C97: - ułożenie geokompozytu polipropylenowego wzmocnionego włuknem szklanym o właściwościach: * Wytrzymałość na rozciąganie (wzdłuż/wszerz): 100/100 kN/m * Wytrzymałość przy 2 %wydłużeniu: 90/90 kN/m * Wydłużenie przy zerwaniu: 3 % * Masa powierzchniowa: Min. 600 g/m2 Przed ułożeniem geokompozytu należy skropić podłoże ilością min. 1,1 kg/m2 asfaltem rezydualnym pochodzącym z emulsji 69%. | D97: m2 | E97: =2*315*1.2 -> 756 | G97: =ROUND(E97*F97,2) -> 0
B98: D.05.00.00. | C98: NAWIERZCHNIE | D98: x | E98: x | F98: x | G98: x
B99: D.05.03.01. | C99: Nawierzchnia z kostki kamiennej | D99: x | E99: x | F99: x | G99: x
A100: =A95+1 -> 62 | C100: - wykonanie nawierzchni na z kostki granitowej 15x15 i wysokości 17 cm na podsypce cementowo-piaskowej grubości 5 cm | D100: m2 | E100: 714 | G100: =ROUND(E100*F100,2) -> 0 | H100: 6.3
B101: D.05.03.05C | C101: Nawierzchnia z betonu asfaltowego o wysokim module sztywności - warstwa wiążąca | D101: x | E101: x | F101: x | G101: x
A102: =A100+1 -> 63 | C102: - ułożenie warstwy wiążącej z betonu asfaltowego o wysokim module sztywności AC 16 W WMS 20/30 grubości 10 cm | D102: m2 | E102: 3737 | G102: =ROUND(E102*F102,2) -> 0 | H102: 6.1
B103: D.05.03.05A | C103: Nawierzchnia z betonu asfaltowego - warstwa wiążąca | D103: x | E103: x | F103: x | G103: x
A104: =A102+1 -> 64 | C104: - ułożenie warstwy wiążącej z betonu asfaltowego AC 16 W 35/50 grubości 7 cm | D104: m2 | E104: 174 | G104: =ROUND(E104*F104,2) -> 0 | H104: 6.1
...

Sheet 2. DW305 Fabryczna
A1: ROZBUDOWA SKRZYŻOWANIA DROGI KRAJOWEJ NR 32 Z DROGĄ WOJEWÓDZKĄ NR 305 I UL. GAJEWSKICH W M. WOLSZTYN
A3: Część drogowa - droga wojewódzka nr 305 (ul.Fabryczna)
A5: KOSZTORYS OFERTOWY
A7: ROBOTY DROGOWE
B9: Nr | D9: Jednostka | F9: Cena | G9: Wartość
A10: Lp. | B10: Specyfikacji | C10: Wyszczególnienie elementów rozliczeniowych | D10: Nazwa | E10: Ilość | F10: jednostkowa
B11: Technicznej | F11: zł*) | G11: zł*)
A12: 1 | B12: 2 | C12: 3 | D12: 4 | E12: 5 | F12: 6 | G12: 7
B13: D.01.00.00. | C13: ROBOTY PRZYGOTOWAWCZE | D13: x | E13: x | F13: x | G13: x
B14: D.01.01.01. | C14: Odtworzenie trasy i punktów wysokościowych | D14: x | E14: x | F14: x | G14: x
A15: 1 | C15: - roboty pomiarowe dla potrzeb przebudowy wiaduktu w terenie równinnym | D15: km | E15: 0.07 | G15: =ROUND(E15*F15,2) -> 0 | H15: 1.1
B16: D.01.02.01. | C16: Usunięcie drzew lub krzaków | D16: x | E16: x | F16: x | G16: x
C17: - wycięcie i karczowanie drzew | H17: 1.2
A18: =A15+1 -> 2 | C18: - o średnicy 36-45 cm | D18: szt. | E18: 3 | G18: =ROUND(E18*F18,2) -> 0
A19: =A18+1 -> 3 | C19: - o średnicy 46-55 cm | D19: szt. | E19: 2 | G19: =ROUND(E19*F19,2) -> 0
A20: =A19+1 -> 4 | C20: - o średnicy 56-65 cm | D20: szt. | E20: 1 | G20: =ROUND(E20*F20,2) -> 0
A21: =A20+1 -> 5 | C21: - transport dłużyc na składowisko Wykonawcy wraz z załadunkiem i rozładunkiem | D21: m3 | E21: 2.3 | G21: =ROUND(E21*F21,2) -> 0
A22: =A21+1 -> 6 | C22: - transport karpiny i gałęzi na składowisko Wykonawcy wraz z załadunkiem i rozładunkiem | D22: mp | E22: 9.4 | G22: =ROUND(E22*F22,2) -> 0
B23: D.01.02.02. | C23: Zdjęcie warstwy humusu | D23: x | E23: x | F23: x | G23: x
A24: =1+A22 -> 7 | C24: ="- mechaniczne zdjęcie warstwy humusu grubości 20 cm z przemieszczeniem oraz spryzmowaniem tymczasowym ("&ROUND(0.2*E24,0)&" m^3)" -> - mechaniczne zdjęcie warstwy humusu grubości 20 cm z przemieszczeniem oraz spryzmowaniem tymczasowym (120 m^3) | D24: m2 | E24: 600 | G24: =ROUND(E24*F24,2) -> 0 | H24: 3.1
A25: =1+A24 -> 8 | C25: - transport nadmiaru humusu na składowisko Wykonawcy wraz z załadunkiem | D25: m3 | E25: 120 | G25: =ROUND(E25*F25,2) -> 0
B26: D.01.02.04. | C26: Rozbiórki elementów dróg i ulic | D26: x | E26: x | F26: x | G26: x
A27: =A25+1 -> 9 | C27: - rozebranie mechaniczne nawierzchni bitumicznej - grubości do 20 cm | D27: m2 | E27: 618 | G27: =ROUND(E27*F27,2) -> 0 | H27: 2.2
A28: =A27+1 -> 10 | C28: - rozebranie ręczne nawierzchni bitumicznej - grubości do 10 cm wraz z przecięciem nawierzchni piłą - pod osadzenie krawężnika | D28: m2 | E28: 133 | G28: =ROUND(E28*F28,2) -> 0
A29: =A28+1 -> 11 | C29: - rozebranie mechaniczne podbudowy nawierzchni z kruszywa stabilizowanego mechanicznie, grubość warstwy 20 cm | D29: m2 | E29: 167 | G29: =ROUND(E29*F29,2) -> 0 | H29: 2.4
A30: =A29+1 -> 12 | C30: - rozebranie mechaniczne podbudowy nawierzchni z kruszywa stabilizowanego mechanicznie, grubość warstwy 22 cm | D30: m2 | E30: 31 | G30: =ROUND(E30*F30,2) -> 0 | H30: 2.4
A31: =A30+1 -> 13 | C31: - rozebranie mechaniczne nawierzchni z kostki granitowej na podsypce cementowo-piaskowej, przy grubość kostki 8 cm | D31: m2 | E31: 31 | G31: =ROUND(E31*F31,2) -> 0 | H31: 2.5
A32: =A31+1 -> 14 | C32: - rozebranie mechaniczne nawierzchni z kostki betonowej typu "Domino" na podsypce cementowo-piaskowej, przy grubość kostki 8 cm | D32: m2 | E32: 105 | G32: =ROUND(E32*F32,2) -> 0 | H32: 2.5
A33: =1+A32 -> 15 | C33: - rozebranie mechaniczne nawierzchni chodników, z płyt betonowych 30×30×5 cm na podsypce cementowo-piaskowej | D33: m2 | E33: 23 | G33: =ROUND(E33*F33,2) -> 0 | H33: 2.6
A34: =A33+1 -> 16 | C34: - rozebranie mechaniczne krawężnika betonowego 20×30 cm na podsypce cementowo-piaskowej | D34: m | E34: 219 | G34: =ROUND(E34*F34,2) -> 0 | H34: 2.8
A35: =1+A34 -> 17 | C35: - rozebranie mechaniczne ław betonowych pod krawężniki betonowe | D35: m3 | E35: 26.7 | G35: =ROUND(E35*F35,2) -> 0 | H35: 2.9
A36: =1+A35 -> 18 | C36: - rozebranie mechaniczne krawężnika betonowego trapezowego 20×30 cm na podsypce cementowo-piaskowej | D36: m | E36: 22 | G36: =ROUND(E36*F36,2) -> 0
A37: =1+A36 -> 19 | C37: - rozebranie mechaniczne ław betonowych pod krawężniki betonowe trapezowe | D37: m3 | E37: 1.71 | G37: =ROUND(E37*F37,2) -> 0 | H37: 2.10
A38: =A37+1 -> 20 | C38: - rozebranie mechaniczne obrzeża betonowego 30×8 cm na podsypce piaskowej | D38: m | E38: 99 | G38: =ROUND(E38*F38,2) -> 0 | H38: 2.11
A39: =A38+1 -> 21 | C39: - demontaż istniejącego oznakowania - słupki pionowe znaków drogowych z rur stalowych o średnicy 70 mm | D39: szt. | E39: 13 | G39: =ROUND(E39*F39,2) -> 0 | H39: X
A40: =A39+1 -> 22 | C40: - demontaż tablic znaków drogowych (zakazu, nakazu, ostrzegawczych, informacyjnych) | D40: szt. | E40: 15 | G40: =ROUND(E40*F40,2) -> 0
A41: =A40+1 -> 23 | C41: - rozebranie pylonów U-5a | D41: szt. | E41: 2 | G41: =ROUND(E41*F41,2) -> 0
A42: =A41+1 -> 24 | C42: - demontaż konstrukcji wsporczej | D42: Mg | E42: 0.45 | G42: =ROUND(E42*F42,2) -> 0 | H42: X
A43: =A42+1 -> 25 | C43: - wywiezienie gruzu z terenu rozbiórki (z transportem na składowisko Wykonawcy z mech. załadunkiem i rozładunkiem) | D43: m3 | E43: 127 | G43: =ROUND(E43*F43,2) -> 0 | H43: 2.15
A44: =A43+1 -> 26 | C44: - wywiezienie gruzu (destruktu - nawierzchni) z terenu rozbiórki (z transportem na składowisko Wykonawcy z mech. załadunkiem i rozładunkiem) | D44: m3 | E44: 178 | G44: =ROUND(E44*F44,2) -> 0 | H44: 2.15
A45: =A44+1 -> 27 | C45: - wywiezienie elementów stalowych z terenu rozbiórki (z transportem na składowisko Wykonawcy z mech. załadunkiem i rozładunkiem) | D45: Mg | E45: 0.5 | G45: =ROUND(E45*F45,2) -> 0 | H45: 2.15
B46: D.02.00.00. | C46: ROBOTY ZIEMNE | D46: x | E46: x | F46: x | G46: x
B47: D.02.01.01. | C47: Wykonanie wykopów w gruntach kategorii I÷V | D47: x | E47: x | F47: x | G47: x
A48: =A45+1 -> 28 | C48: - mechaniczne wykonanie wykopów w gruntach kategorii III÷IV z załadunkiem i transportem gruntu (68,1m3) na składowisko Wykonawcy | D48: m3 | E48: 158.5 | G48: =ROUND(E48*F48,2) -> 0 | H48: 3.2, 3.4
B49: D.02.03.01. | C49: Wykonanie nasypów | D49: x | E49: x | F49: x | G49: x
A50: =A48+1 -> 29 | C50: - formowanie nasypu o wysokości do 3,0 m wraz z zagęszczeniem z gruntu kategorii I-III z wykopu | D50: m3 | E50: 90.4 | G50: =ROUND(E50*F50,2) -> 0 | H50: 3.3
A51: =A50+1 -> 30 | C51: - formowanie nasypu o wysokości do 3,0 m wraz z zagęszczeniem z gruntu kategorii I-III z dokopu | D51: m3 | E51: 61 | G51: =ROUND(E51*F51,2) -> 0 | H51: 3.3
B52: D.04.00.00. | C52: PODBUDOWY | D52: x | E52: x | F52: x | G52: x
B53: D.04.01.01. | C53: Koryto wraz z profilowaniem i zagęszczeniem podłoża | D53: x | E53: x | F53: x | G53: x
A54: =A51+1 -> 31 | C54: - mechaniczne profilowanie i zagęszczenie podłoża - pod warstwy konstrukcyjne nawierzchni | D54: m2 | E54: 683 | G54: =ROUND(E54*F54,2) -> 0
B55: D.04.03.01. | C55: Oczyszczenie i skropienie warstw konstrukcyjnych | D55: x | E55: x | F55: x | G55: x
A56: =1+A54 -> 32 | C56: - oczyszczenie podbudowy nawierzchni niebitumicznej | D56: m2 | E56: 430 | G56: =ROUND(E56*F56,2) -> 0
A57: =A56+1 -> 33 | C57: - oczyszczenie warstw bitumicznych | D57: m2 | E57: 1996 | G57: =ROUND(E57*F57,2) -> 0
A58: =A57+1 -> 34 | C58: - skropienie warstw niebitumicznych | D58: m2 | E58: 430 | G58: =ROUND(E58*F58,2) -> 0
A59: =A58+1 -> 35 | C59: - skropienie warstw bitumicznych | D59: m2 | E59: 1996 | G59: =ROUND(E59*F59,2) -> 0
B60: D.04.04.02. | C60: Podbudowa z kruszywa łamanego | D60: x | E60: x | F60: x | G60: x
A61: =1+A59 -> 36 | C61: - wykonanie podbudowy sasadniczej z mieszanki niezwiązanej C90/3 (0/31,5mm) grubości 20 cm | D61: m2 | E61: 430 | G61: =ROUND(E61*F61,2) -> 0 | H61: 5.4
B62: D.04.05.01. | C62: Podbudowa z gruntu lub kruszywa stabilizowanego cementem | D62: x | E62: x | F62: x | G62: x
A63: =A61+1 -> 37 | C63: - '- wykonanie podbudowy pomocniczej z kruszywa związanego cementem C3/4, grubości 12 cm | D63: m2 | E63: 213 | G63: =ROUND(E63*F63,2) -> 0 | H63: 5.15
A64: =A63+1 -> 38 | C64: - '- wykonanie podbudowy pomocniczej z kruszywa związanego cementem C3/4, grubości 15 cm | D64: m2 | E64: 470 | G64: =ROUND(E64*F64,2) -> 0 | H64: 5.15
A65: 38a | C65: - wykonanie podbudowy pomocniczej z kruszywa związanego cementem C3/4, grubości 20 cm | D65: m2 | E65: 430 | G65: =ROUND(E65*F65,2) -> 0
B66: D.05.03.05C | C66: Podbudowa z betonu asfaltowego | D66: x | E66: x | F66: x | G66: x
A67: =A64+1 -> 39 | C67: - wykonanie podbudowy zasadniczej grubości 10 cm z betonu asfaltowego o wysokim module sztywności AC 16 P WMS 20/30 grubości 8 cm | D67: m2 | E67: 470 | G67: =ROUND(E67*F67,2) -> 0 | H67: 5.3
B68: D.05.03.05A | C68: Wyrównanie podbudowy betonem asfaltowym jak na w-wę wiążącą | G68: =ROUND(E68*F68,2) -> 0
A69: =A67+1 -> 40 | C69: - wyrównanie istniejącej podbudowy betonem asfaltowym AC 16 W 35/50 grubość wg dokumentacji | D69: t | E69: 0.175 | G69: =ROUND(E69*F69,2) -> 0
B70: D.04.03.01. | C70: Zabezpieczenie nawierzchni geokompozytem
A71: 40a | C71: - ułożenie geokompozytu polipropylenowego wzmocnionego włuknem szklanym o właściwościach: * Wytrzymałość na rozciąganie (wzdłuż/wszerz): 100/100 kN/m * Wytrzymałość przy 2 %wydłużeniu: 90/90 kN/m * Wydłużenie przy zerwaniu: 3 % * Masa powierzchniowa: Min. 600 g/m2 Przed ułożeniem geokompozytu należy skropić podłoże ilością min. 1,1 kg/m2 asfaltem rezydualnym pochodzącym z emulsji 69%. | D71: m2 | E71: =2*75*1.2 -> 180 | G71: =ROUND(E71*F71,2) -> 0 | I71: =G71 -> 0
B72: D.05.00.00. | C72: NAWIERZCHNIE | D72: x | E72: x | F72: x | G72: x
B73: D.05.03.05C | C73: Nawierzchnia z betonu asfaltowego o wysokim module sztywności - warstwa wiążąca | D73: x | E73: x | F73: x | G73: x
A74: =A69+1 -> 41 | C74: - ułożenie warstwy wiążącej z betonu asfaltowego o wysokim module sztywności AC 16 W WMS 20/30 grubości 8 cm | D74: m2 | E74: 916 | G74: =ROUND(E74*F74,2) -> 0 | H74: 6.1
B75: D.05.03.11. | C75: Frezowanie nawierzchni bitumicznej na zimno | D75: x | E75: x | F75: x | G75: x
A76: =A74+1 -> 42 | C76: - frezowanie nawierzchni asfaltowej na zimno, z odwozem ścinki na składowisko Zamawiającego lub Wykonawcy (z załadunkiem i wyładunkiem) - głębokość frezowania do 10 cm | D76: m2 | E76: 40 | G76: =ROUND(E76*F76,2) -> 0 | H76: 25
A77: =A76+1 -> 43 | C77: - frezowanie nawierzchni asfaltowej na zimno, z odwozem ścinki na składowisko Zamawiającego lub Wykonawcy (z załadunkiem i wyładunkiem) - głębokość frezowania do 5 cm | D77: m2 | E77: 25 | G77: =ROUND(E77*F77,2) -> 0 | H77: 25
B78: D.05.03.13. | C78: Nawierzchnia z mieszanki grysowo-mastyksowej (typu SMA) - warstwa ścieralna | D78: x | E78: x | F78: x | G78: x
A79: =A74+1 -> 42 | C79: - ułożenie warstwy ścieralnej z mieszanki grysowo-mastyksowej SMA 11 PMB 45/80-65 grbości 4 cm | D79: m2 | E79: 796 | G79: =ROUND(E79*F79,2) -> 0 | H79: 6.2
B80: D.05.03.23. | C80: Nawierzchnia z kostki brukowej betonowej | D80: x | E80: x | F80: x | G80: x
A81: =A79+1 -> 43 | C81: - wykonanie nawierzchni z kostki typu cegła koloru szarego z betonu wibroprasowanego grubości 8 cm na podsypce cementowo-piaskowej grubości 3 cm - chodniki | D81: m2 | E81: 117 | G81: =ROUND(E81*F81,2) -> 0 | H81: 6.4
A82: =A81+1 -> 44 | C82: - wykonanie nawierzchni z kostki typu cegła koloru szarego z betonu wibroprasowanego grubości 8 cm na podsypce cementowo-piaskowej grubości 5 cm | D82: m2 | E82: 120 | G82: =ROUND(E82*F82,2) -> 0 | H82: 6.4
A83: =A82+1 -> 45 | C83: - wykonanie nawierzchni z kostki typu cegła koloru czerwonego z betonu wibroprasowanego grubości 8 cm na podsypce cementowo-piaskowej grubości 3 cm - ścieżki rowerowe | D83: m2 | E83: 96 | G83: =ROUND(E83*F83,2) -> 0 | H83: 6.5
B84: D.06.00.00. | C84: ROBOTY WYKOŃCZENIOWE | D84: x | E84: x | F84: x | G84: x
B85: D.06.01.01. | C85: Umocnienie skarp i rowów przez humusowanie, obsianie trawą, darniowanie | D85: x | E85: x | F85: x | G85: x
C86: • umocnienie skarp nasypów i wykopów
A87: =A83+1 -> 46 | C87: - plantowanie (obrobienie na czysto) powierzchni skarp i korony nasypów | D87: m2 | E87: 571 | G87: =ROUND(E87*F87,2) -> 0 | H87: 3.5
A88: =A87+1 -> 47 | C88: - humusowanie skarp, poboczy warstwą grubości 10 cm | D88: m2 | E88: 571 | G88: =ROUND(E88*F88,2) -> 0 | H88: 7.1
A89: =1+A88 -> 48 | C89: - obsianie trawą zahumusowanych powierzchni, | D89: m2 | E89: 571 | G89: =ROUND(E89*F89,2) -> 0 | H89: 7.2
B90: D.07.00.00 | C90: URZĄDZENIA BEZPIECZEŃSTWA RUCHU | D90: x | E90: x | F90: x | G90: x
B91: D.07.01.01. | C91: Oznakowanie poziome | D91: x | E91: x | F91: x | G91: x
C92: • oznakowanie stałe | G92: =E92*F92 -> 0
A93: =A89+1 -> 49 | C93: - malowanie linii krawędziowych i segregacyjnych ciągłych na jezdni - grubowarstwowo | D93: m2 | E93: 42.24 | G93: =ROUND(E93*F93,2) -> 0 | H93: 8.2
A94: =1+A93 -> 50 | C94: - malowanie linii krawędziowych i segregacyjnych przerywanych na jezdni - grubowarstwowo | D94: m2 | E94: 6.24 | G94: =ROUND(E94*F94,2) -> 0 | H94: 8.3
A95: =A94+1 -> 51 | C95: - malowanie linii ręcznie (strzałki i inne symbole) na jezdni - grubowarstwowo | D95: m2 | E95: 65.32 | G95: =ROUND(E95*F95,2) -> 0 | H95: 8.4
A96: 51a | C96: - oznakowanie tymczasowe cienkowarstwowe w kolorze żółtym | D96: m2 | E96: 113.8 | G96: =ROUND(E96*F96,2) -> 0 | H96: 8.4
B97: D.07.02.01. | C97: Oznakowanie pionowe | D97: x | E97: x | F97: x | G97: x
C98: • montaż oznakowania stałego | G98: =E98*F98 -> 0
A99: =A95+1 -> 52 | C99: - słupki pionowe znaków drogowych z rur stalowych o średnicy 70 mm | D99: szt. | E99: 3 | G99: =ROUND(E99*F99,2) -> 0 | H99: 8.6
A100: =1+A99 -> 53 | C100: - tablice znaków drogowych - ostrzegawczych, nakazu, zakazu i informacyjne o powierzchni około 0,3 m2 | D100: szt. | E100: 7 | G100: =ROUND(E100*F100,2) -> 0 | H100: 8.5
A101: =A100+1 -> 54 | C101: - konstrukcje wsporcze | D101: szt. | E101: 2 | G101: =ROUND(E101*F101,2) -> 0 | H101: 8.7
B102: D.08.00.00. | C102: ELEMENTY ULIC | D102: x | E102: x | F102: x | G102: x
B103: D.08.01.01. | C103: Krawężniki betonowe | D103: x | E103: x | F103: x | G103: x
A104: =A101+1 -> 55 | C104: - ustawienie krawężników betonowych 20×30×100 cm na podsypce cementowo-piaskowej grubości 5 cm - DK | D104: m | E104: 134 | G104: =ROUND(E104*F104,2) -> 0 | H104: 9.1
...

Sheet 3. DP3831P Gajewskich
A1: ROZBUDOWA SKRZYŻOWANIA DROGI KRAJOWEJ NR 32 Z DROGĄ WOJEWÓDZKĄ NR 305 I UL. GAJEWSKICH W M. WOLSZTYN
A3: Część drogowa - droga powiatowa nr 3831 (ul. Gajewskich)
A5: KOSZTORYS OFERTOWY
A7: ROBOTY DROGOWE
B9: Nr | D9: Jednostka | F9: Cena | G9: Wartość
A10: Lp. | B10: Specyfikacji | C10: Wyszczególnienie elementów rozliczeniowych | D10: Nazwa | E10: Ilość | F10: jednostkowa
B11: Technicznej | F11: zł*) | G11: zł*)
A12: 1 | B12: 2 | C12: 3 | D12: 4 | E12: 5 | F12: 6 | G12: 7
B13: D.01.00.00. | C13: ROBOTY PRZYGOTOWAWCZE | D13: x | E13: x | F13: x | G13: x
B14: D.01.01.01. | C14: Odtworzenie trasy i punktów wysokościowych | D14: x | E14: x | F14: x | G14: x
A15: 1 | C15: - roboty pomiarowe dla potrzeb przebudowy wiaduktu w terenie równinnym | D15: km | E15: 0.03 | G15: =ROUND(E15*F15,2) -> 0 | H15: 1.1
B16: D.01.02.01. | C16: Usunięcie drzew lub krzaków | D16: x | E16: x | F16: x | G16: x
C17: - wycięcie i karczowanie drzew | H17: 1.2
A18: =A15+1 -> 2 | C18: - o średnicy 26-35 cm | D18: szt. | E18: 2 | G18: =ROUND(E18*F18,2) -> 0
A19: =A18+1 -> 3 | C19: - transport dłużyc na składowisko Wykonawcy wraz z załadunkiem i rozładunkiem | D19: m3 | E19: 0.5 | G19: =ROUND(E19*F19,2) -> 0
A20: =A19+1 -> 4 | C20: - transport karpiny i gałęzi na składowisko Wykonawcy wraz z załadunkiem i rozładunkiem | D20: mp | E20: 1.1 | G20: =ROUND(E20*F20,2) -> 0
B21: D.01.02.02. | C21: Zdjęcie warstwy humusu | D21: x | E21: x | F21: x | G21: x
A22: =1+A20 -> 5 | C22: - mechaniczne zdjęcie warstwy humusu grubości 20 cm z przemieszczeniem oraz spryzmowaniem tymczasowym | D22: m2 | E22: 370 | G22: =ROUND(E22*F22,2) -> 0 | H22: 3.1
A23: =1+A22 -> 6 | C23: - transport nadmiaru humusu na składowisko Wykonawcy wraz z załadunkiem | D23: m3 | E23: 74 | G23: =ROUND(E23*F23,2) -> 0
B24: D.01.02.04. | C24: Rozbiórki elementów dróg i ulic | D24: x | E24: x | F24: x | G24: x
A25: =A23+1 -> 7 | C25: - rozebranie mechaniczne nawierzchni bitumicznej - grubości do 20 cm | D25: m2 | E25: 16 | G25: =ROUND(E25*F25,2) -> 0 | H25: 2.2
A26: =A25+1 -> 8 | C26: - rozebranie mechaniczne podbudowy nawierzchni z kruszywa stabilizowanego mechanicznie, grubość warstwy 20 cm | D26: m2 | E26: 16 | G26: =ROUND(E26*F26,2) -> 0 | H26: 2.4
A27: =A26+1 -> 9 | C27: - rozebranie mechaniczne nawierzchni chodników, z płyt betonowych 30×30×5 cm na podsypce piaskowej | D27: m2 | E27: 79 | G27: =ROUND(E27*F27,2) -> 0 | H27: 2.6
A28: =1+A27 -> 10 | C28: - rozebranie mechaniczne nawierzchni z "trylinki" grubości 12 cm | D28: m2 | E28: 52 | G28: =ROUND(E28*F28,2) -> 0 | H28: 2.7
A29: =1+A28 -> 11 | C29: - rozebranie mechaniczne krawężnika betonowego 20×30 cm na podsypce cementowo-piaskowej | D29: m | E29: 46 | G29: =ROUND(E29*F29,2) -> 0 | H29: 2.8
A30: =1+A29 -> 12 | C30: - rozebranie mechaniczne ław betonowych pod krawężniki betonowe | D30: m3 | E30: 5.61 | G30: =ROUND(E30*F30,2) -> 0 | H30: 2.9
A31: =A30+1 -> 13 | C31: - rozebranie mechaniczne obrzeża betonowego 30×8 cm na podsypce piaskowej | D31: m | E31: 73 | G31: =ROUND(E31*F31,2) -> 0 | H31: 2.11
A32: =A31+1 -> 14 | C32: - demontaż istniejącego oznakowania - słupki pionowe znaków drogowych z rur stalowych o średnicy 70 mm | D32: szt. | E32: 5 | G32: =ROUND(E32*F32,2) -> 0 | H32: X
A33: =A32+1 -> 15 | C33: - demontaż tablic znaków drogowych (zakazu, nakazu, ostrzegawczych, informacyjnych) | D33: szt. | E33: 7 | G33: =ROUND(E33*F33,2) -> 0
A34: =A33+1 -> 16 | C34: - wywiezienie gruzu z terenu rozbiórki (z transportem na składowisko Wykonawcy z mech. załadunkiem i rozładunkiem) | D34: m3 | E34: 31 | G34: =ROUND(E34*F34,2) -> 0 | H34: 2.15
A35: =A34+1 -> 17 | C35: - wywiezienie gruzu (destruktu - nawierzchni) z terenu rozbiórki (z transportem na składowisko Wykonawcy z mech. załadunkiem i rozładunkiem) | D35: m3 | E35: 4 | G35: =ROUND(E35*F35,2) -> 0 | H35: 2.15
B36: D.02.00.00. | C36: ROBOTY ZIEMNE | D36: x | E36: x | F36: x | G36: x
B37: D.02.01.01. | C37: Wykonanie wykopów w gruntach kategorii I÷V | D37: x | E37: x | F37: x | G37: x
A38: =A35+1 -> 18 | C38: - mechaniczne wykonanie wykopów w gruntach kategorii III÷IV z załadunkiem i transportem gruntu (35,6m3) na składowisko Wykonawcy | D38: m3 | E38: 43 | G38: =ROUND(E38*F38,2) -> 0 | H38: 3.2, 3.4
B39: D.02.03.01. | C39: Wykonanie nasypów | D39: x | E39: x | F39: x | G39: x
A40: =A38+1 -> 19 | C40: - formowanie nasypu o wysokości do 3,0 m wraz z zagęszczeniem z gruntu kategorii I-III z wykopu | D40: m3 | E40: 7.4 | G40: =ROUND(E40*F40,2) -> 0 | H40: 3.3
B41: D.04.00.00. | C41: PODBUDOWY | D41: x | E41: x | F41: x | G41: x
B42: D.04.01.01. | C42: Koryto wraz z profilowaniem i zagęszczeniem podłoża | D42: x | E42: x | F42: x | G42: x
A43: =A40+1 -> 20 | C43: - mechaniczne profilowanie i zagęszczenie podłoża - pod warstwy konstrukcyjne nawierzchni | D43: m2 | E43: 214 | G43: =ROUND(E43*F43,2) -> 0
B44: D.04.03.01. | C44: Oczyszczenie i skropienie warstw konstrukcyjnych | D44: x | E44: x | F44: x | G44: x
A45: =1+A43 -> 21 | C45: - oczyszczenie podbudowy nawierzchni niebitumicznej | D45: m2 | E45: 112 | G45: =ROUND(E45*F45,2) -> 0
A46: =A45+1 -> 22 | C46: - oczyszczenie warstw bitumicznych | D46: m2 | E46: 502 | G46: =ROUND(E46*F46,2) -> 0
A47: =A46+1 -> 23 | C47: - skropienie warstw niebitumicznych | D47: m2 | E47: 40 | G47: =ROUND(E47*F47,2) -> 0
A48: =A47+1 -> 24 | C48: - skropienie warstw bitumicznych | D48: m2 | E48: 502 | G48: =ROUND(E48*F48,2) -> 0
B49: D.04.04.02. | C49: Podbudowa z kruszywa łamanego | D49: x | E49: x | F49: x | G49: x
A50: =1+A48 -> 25 | C50: - wykonanie podbudowy sasadniczej z mieszanki niezwiązanej C90/3 (0/31,5mm) grubości 20 cm | D50: m2 | E50: 110 | G50: =ROUND(E50*F50,2) -> 0 | H50: 5.4
A51: =A50+1 -> 26 | C51: - wykonanie podbudowy sasadniczej z mieszanki niezwiązanej C90/3 (0/31,5mm) grubości 15 cm - zjazdy indywidualne | D51: m2 | E51: 72 | G51: =ROUND(E51*F51,2) -> 0 | H51: 5.8
B52: D.04.05.01. | C52: Podbudowa z gruntu lub kruszywa stabilizowanego cementem | D52: x | E52: x | F52: x | G52: x
A53: =A51+1 -> 27 | C53: - wykonanie podbudowy pomocniczej z kruszywa związanego cementem C3/4, grubości 10 cm | D53: m2 | E53: 151 | G53: =ROUND(E53*F53,2) -> 0 | H53: 5.15
A54: =A53+1 -> 28 | C54: - wykonanie podbudowy pomocniczej z kruszywa związanego cementem C3/4, grubości 15 cm | D54: m2 | E54: 63 | G54: =ROUND(E54*F54,2) -> 0 | H54: 5.15
A55: 28a | C55: - wykonanie podbudowy pomocniczej z kruszywa związanego cementem C3/4, grubości 20 cm | D55: m2 | E55: 110 | G55: =ROUND(E55*F55,2) -> 0
B56: D.04.07.01. | C56: Podbudowa z betonu asfaltowego | D56: x | E56: x | F56: x | G56: x
A57: =A54+1 -> 29 | C57: - wykonanie podbudowy zasadniczej z betonu asfaltowego AC 22P 35/50 grubości 8 cm - jezdnia | D57: m2 | E57: 110 | G57: =ROUND(E57*F57,2) -> 0 | H57: 5.3
B58: D.05.03.05A | C58: Wyrównanie podbudowy betonem asfaltowym jak na w-wę wiążącą | D58: x | E58: x | F58: x | G58: x
A59: =A57+1 -> 30 | C59: - wyrównanie istniejącej podbudowy betonem asfaltowym AC 16 W 35/50 grubość wg dokumentacji | D59: t | E59: 2 | G59: =ROUND(E59*F59,2) -> 0
B60: D.04.03.01. | C60: Zabezpieczenie nawierzchni geokompozytem
A61: 30a | C61: - ułożenie geokompozytu polipropylenowego wzmocnionego włuknem szklanym o właściwościach: * Wytrzymałość na rozciąganie (wzdłuż/wszerz): 100/100 kN/m * Wytrzymałość przy 2 %wydłużeniu: 90/90 kN/m * Wydłużenie przy zerwaniu: 3 % * Masa powierzchniowa: Min. 600 g/m2 Przed ułożeniem geokompozytu należy skropić podłoże ilością min. 1,1 kg/m2 asfaltem rezydualnym pochodzącym z emulsji 69%. | D61: m2 | E61: =2*15*1.2 -> 36 | G61: =ROUND(E61*F61,2) -> 0 | I61: =G61 -> 0
B62: D.05.00.00. | C62: NAWIERZCHNIE | D62: x | E62: x | F62: x | G62: x
B63: D.05.03.05a | C63: Nawierzchnia z betonu asfaltowego - warstwa wiążąca | D63: x | E63: x | F63: x | G63: x
A64: =A59+1 -> 31 | C64: - ułożenie warstwy wiążącej z betonu asfaltowego AC 16 W 35/50 grubości 6 cm | D64: m2 | E64: 260 | G64: =ROUND(E64*F64,2) -> 0 | H64: 6.1
B65: D.05.03.13. | C65: Nawierzchnia z mieszanki grysowo-mastyksowej (typu SMA) - warstwa ścieralna | D65: x | E65: x | F65: x | G65: x
A66: =A64+1 -> 32 | C66: - ułożenie warstwy ścieralnej z mieszanki grysowo-mastyksowej SMA 11 PMB 45/80-65 grbości 4 cm | D66: m2 | E66: 260 | G66: =ROUND(E66*F66,2) -> 0 | H66: 6.1
B67: D.05.03.11 | C67: Frezowanie nawierzchni bitumicznych na zimno | D67: x | E67: x | F67: x | G67: x
A68: =A66+1 -> 33 | C68: - frezowanie nawierzchni asfaltowej na zimno, z odwozem ścinki na składowisko Zamawiającego lub Wykonawcy (z załadunkiem i wyładunkiem) - głębokość frezowania do 10 cm | D68: m2 | E68: 23 | G68: =ROUND(E68*F68,2) -> 0 | H68: 6.1
A69: =A68+1 -> 34 | C69: - frezowanie nawierzchni asfaltowej na zimno, z odwozem ścinki na składowisko Zamawiającego lub Wykonawcy (z załadunkiem i wyładunkiem) - głębokość frezowania do 4 cm | D69: m2 | E69: 7.6 | G69: =ROUND(E69*F69,2) -> 0 | H69: 6.1
B70: D.05.03.23. | C70: Nawierzchnia z kostki brukowej betonowej | D70: x | E70: x | F70: x | G70: x
A71: =A69+1 -> 35 | C71: - wykonanie nawierzchni z kostki typu cegła koloru szarego z betonu wibroprasowanego grubości 8 cm na podsypce cementowo-piaskowej grubości 3 cm - chodniki | D71: m2 | E71: 79 | G71: =ROUND(E71*F71,2) -> 0 | H71: 6.4
A72: =A71+1 -> 36 | C72: - wykonanie nawierzchni z kostki typu cegła koloru grafitowego z betonu wibroprasowanego grubości 8 cm na podsypce cementowo-piaskowej grubości 3 cm - zjazdy indywidualne | D72: m2 | E72: 72 | G72: =ROUND(E72*F72,2) -> 0 | H72: 6.6
B73: D.06.00.00. | C73: ROBOTY WYKOŃCZENIOWE | D73: x | E73: x | F73: x | G73: x
B74: D.06.01.01. | C74: Umocnienie skarp i rowów przez humusowanie, obsianie trawą, darniowanie | D74: x | E74: x | F74: x | G74: x
C75: • umocnienie skarp nasypów i wykopów
A76: =A72+1 -> 37 | C76: - plantowanie (obrobienie na czysto) powierzchni skarp i korony nasypów | D76: m2 | E76: 120 | G76: =ROUND(E76*F76,2) -> 0 | H76: 3.5
A77: =A76+1 -> 38 | C77: - humusowanie skarp, poboczy warstwą grubości 10 cm | D77: m2 | E77: 120 | G77: =ROUND(E77*F77,2) -> 0 | H77: 7.1
A78: =1+A77 -> 39 | C78: - obsianie trawą zahumusowanych powierzchni, | D78: m2 | E78: 120 | G78: =ROUND(E78*F78,2) -> 0 | H78: 7.2
B79: D.07.00.00 | C79: URZĄDZENIA BEZPIECZEŃSTWA RUCHU | D79: x | E79: x | F79: x | G79: x
B80: D.07.01.01. | C80: Oznakowanie poziome | D80: x | E80: x | F80: x | G80: x
C81: • oznakowanie stałe | G81: =E81*F81 -> 0
A82: =A78+1 -> 40 | C82: - malowanie linii krawędziowych i segregacyjnych ciągłych na jezdni - grubowarstwowo | D82: m2 | E82: 2.88 | G82: =ROUND(E82*F82,2) -> 0 | H82: 8.2
A83: =1+A82 -> 41 | C83: - malowanie linii krawędziowych i segregacyjnych przerywanych na jezdni - grubowarstwowo | D83: m2 | E83: 2.88 | G83: =ROUND(E83*F83,2) -> 0 | H83: 8.3
A84: 41a | C84: - oznakowanie tymczasowe cienkowarstwowe w kolorze żółtym | D84: m2 | E84: 5.76 | G84: =ROUND(E84*F84,2) -> 0 | H84: 8.4
B85: D.07.02.01. | C85: Oznakowanie pionowe | D85: x | E85: x | F85: x | G85: x
C86: • montaż oznakowania stałego | G86: =E86*F86 -> 0
A87: =A83+1 -> 42 | C87: - tablice znaków drogowych - drogowskaz jednoramienny | D87: szt. | E87: 1 | G87: =ROUND(E87*F87,2) -> 0 | H87: 8.5
A88: =A87+1 -> 43 | C88: - konstrukcje wsporcze | D88: szt. | E88: 1 | G88: =ROUND(E88*F88,2) -> 0 | H88: 8.7
B89: D.08.00.00. | C89: ELEMENTY ULIC | D89: x | E89: x | F89: x | G89: x
B90: D.08.01.01. | C90: Krawężniki betonowe | D90: x | E90: x | F90: x | G90: x
A91: =A88+1 -> 44 | C91: - ustawienie krawężników betonowych 20×30×100 cm na podsypce cementowo-piaskowej grubości 5 cm | D91: m | E91: 46 | G91: =ROUND(E91*F91,2) -> 0 | H91: 9.1
A92: =A91+1 -> 45 | C92: - wykonanie ławy betonowej B15 z oporem (pod krawężnik ze ściekiem) | D92: m3 | E92: 7.5 | G92: =ROUND(E92*F92,2) -> 0 | H92: 9.5
B93: D.08.03.01. | C93: Obrzeża betonowe | D93: x | E93: x | F93: x | G93: x
A94: =A92+1 -> 46 | C94: - ustawienie obrzeży betonowych 8×30cm na podsypce piaskowej - grubości 3 cm - chodnik+obrzeże przy zjazdach | D94: m | E94: 113 | G94: =ROUND(E94*F94,2) -> 0 | H94: 9.3
A95: =A94+1 -> 47 | C95: - wykonanie ławy betonowej B15 z oporem (pod obrzeże na zjazdach) | D95: m3 | E95: 1.6 | G95: =ROUND(E95*F95,2) -> 0 | H95: 9.3
B96: D.08.05.02. | C96: Ściek uliczny - z kostki betonowej | D96: x | E96: x | F96: x | G96: x
A97: =A95+1 -> 48 | C97: - ułożenie ścieku przykrawężnikowego z kostki brukowej, betonowej 14/14/17 cm koloru szarego na podsypce cementowo-piaskowej grubości 3 cm | D97: m | E97: 46 | G97: =ROUND(E97*F97,2) -> 0 | H97: 4.7
C98: OGÓŁEM | D98: x | E98: x | F98: x | G98: =SUM(G15:G97) -> 0
A100: * Ceny jednostkowe należy podawać bez VAT.

Sheet 4. Dr. wewnętrzna
A1: ROZBUDOWA SKRZYŻOWANIA DROGI KRAJOWEJ NR 32 Z DROGĄ WOJEWÓDZKĄ NR 305 I UL. GAJEWSKICH W M. WOLSZTYN
A3: Część drogowa - droga wewnętrzna (dojazd do Urzędu Skarbowego)
A5: KOSZTORYS OFERTOWY
A7: ROBOTY DROGOWE
B9: Nr | D9: Jednostka | F9: Cena | G9: Wartość
A10: Lp. | B10: Specyfikacji | C10: Wyszczególnienie elementów rozliczeniowych | D10: Nazwa | E10: Ilość | F10: jednostkowa
B11: Technicznej | F11: zł*) | G11: zł*)
A12: 1 | B12: 2 | C12: 3 | D12: 4 | E12: 5 | F12: 6 | G12: 7
B13: D.01.00.00. | C13: ROBOTY PRZYGOTOWAWCZE | D13: x | E13: x | F13: x | G13: x
B14: D.01.01.01. | C14: Odtworzenie trasy i punktów wysokościowych | D14: x | E14: x | F14: x | G14: x
A15: 1 | C15: - roboty pomiarowe dla potrzeb przebudowy wiaduktu w terenie równinnym | D15: km | E15: 0.012 | G15: =ROUND(E15*F15,2) -> 0 | H15: 1.1
B16: D.01.02.02. | C16: Zdjęcie warstwy humusu | D16: x | E16: x | F16: x | G16: x
A17: =A15+1 -> 2 | C17: ="- mechaniczne zdjęcie warstwy humusu grubości 20 cm z przemieszczeniem oraz spryzmowaniem tymczasowym ("&ROUND(0.2*E17,2)&" m^3)" -> - mechaniczne zdjęcie warstwy humusu grubości 20 cm z przemieszczeniem oraz spryzmowaniem tymczasowym (3,4 m^3) | D17: m2 | E17: 17 | G17: =ROUND(E17*F17,2) -> 0 | H17: 3.1
A18: =1+A17 -> 3 | C18: - transport nadmiaru humusu na składowisko Wykonawcy wraz z załadunkiem | D18: m3 | E18: 3.4 | G18: =ROUND(E18*F18,2) -> 0
B19: D.01.02.04. | C19: Rozbiórki elementów dróg i ulic | D19: x | E19: x | F19: x | G19: x
A20: =A18+1 -> 4 | C20: - rozebranie mechaniczne nawierzchni z betonu asfaltowego - grubości 5 cm - parking | D20: m2 | E20: 148 | G20: =ROUND(E20*F20,2) -> 0 | H20: 2.14
A21: =A20+1 -> 5 | C21: - rozebranie mechaniczne nawierzchni z kostki betonowej typu "Uni Stone" na podsypce piaskowej, przy grubość kostki 6 cm | D21: m2 | E21: 77 | G21: =ROUND(E21*F21,2) -> 0 | H21: 2.5
A22: =1+A21 -> 6 | C22: - rozebranie mechaniczne nawierzchni chodników, z płyt betonowych 30×30×5 cm na podsypce piaskowej - chodnik | D22: m2 | E22: 16 | G22: =ROUND(E22*F22,2) -> 0 | H22: 2.6
A23: =1+A22 -> 7 | C23: - rozebranie mechaniczne nawierzchni z "trylinki" grubości 12 cm | D23: m2 | E23: 148 | G23: =ROUND(E23*F23,2) -> 0 | H23: 2.7
A24: =1+A23 -> 8 | C24: - rozebranie mechaniczne krawężnika betonowego 20×30 cm na podsypce cementowo-piaskowej | D24: m | E24: 38 | G24: =ROUND(E24*F24,2) -> 0 | H24: 2.8
A25: =1+A24 -> 9 | C25: - rozebranie mechaniczne ław betonowych pod krawężniki betonowe | D25: m3 | E25: 4.15 | G25: =ROUND(E25*F25,2) -> 0 | H25: 2.9
A26: =1+A25 -> 10 | C26: - rozebranie mechaniczne krawężnika betonowego trapezowego 20×30 cm na podsypce cementowo-piaskowej | D26: m | E26: 15 | G26: =ROUND(E26*F26,2) -> 0
A27: =1+A26 -> 11 | C27: - rozebranie mechaniczne ław betonowych pod krawężniki betonowe trapezowe | D27: m3 | E27: 1.16 | G27: =ROUND(E27*F27,2) -> 0 | H27: 2.10
A28: =A27+1 -> 12 | C28: - rozebranie mechaniczne obrzeża betonowego 30×8 cm na podsypce piaskowej | D28: m | E28: 22 | G28: =ROUND(E28*F28,2) -> 0 | H28: 2.11
A29: =A28+1 -> 13 | C29: - wywiezienie gruzu z terenu rozbiórki (z transportem na składowisko Wykonawcy z mech. załadunkiem i rozładunkiem) | D29: m3 | E29: 42 | G29: =ROUND(E29*F29,2) -> 0 | H29: 2.15
A30: =A29+1 -> 14 | C30: - wywiezienie gruzu (destruktu - nawierzchni) z terenu rozbiórki (z transportem na składowisko Wykonawcy z mech. załadunkiem i rozładunkiem) | D30: m3 | E30: 58 | G30: =ROUND(E30*F30,2) -> 0 | H30: 2.15
B31: D.02.00.00. | C31: ROBOTY ZIEMNE | D31: x | E31: x | F31: x | G31: x
B32: D.02.01.01. | C32: Wykonanie wykopów w gruntach kategorii I÷V | D32: x | E32: x | F32: x | G32: x
A33: =A30+1 -> 15 | C33: - mechaniczne wykonanie wykopów w gruntach kategorii III÷IV z załadunkiem i transportem gruntu na składowisko Wykonawcy | D33: m3 | E33: 4.53 | G33: =ROUND(E33*F33,2) -> 0 | H33: 3.2, 3.4
B34: D.02.03.01. | C34: Wykonanie nasypów | D34: x | E34: x | F34: x | G34: x
A35: =A33+1 -> 16 | C35: - formowanie nasypu o wysokości do 3,0 m wraz z zagęszczeniem z gruntu kategorii I-III z dokopu | D35: m3 | E35: 29.13 | G35: =ROUND(E35*F35,2) -> 0 | H35: 3.3
B36: D.04.00.00. | C36: PODBUDOWY | D36: x | E36: x | F36: x | G36: x
B37: D.04.01.01. | C37: Koryto wraz z profilowaniem i zagęszczeniem podłoża | D37: x | E37: x | F37: x | G37: x
A38: =A35+1 -> 17 | C38: - mechaniczne profilowanie i zagęszczenie podłoża - pod warstwy konstrukcyjne nawierzchni | D38: m2 | E38: 192 | G38: =ROUND(E38*F38,2) -> 0
B39: D.04.03.01. | C39: Oczyszczenie i skropienie warstw konstrukcyjnych | D39: x | E39: x | F39: x | G39: x
A40: =1+A38 -> 18 | C40: - oczyszczenie podbudowy nawierzchni niebitumicznej | D40: m2 | E40: 98 | G40: =ROUND(E40*F40,2) -> 0
A41: =A40+1 -> 19 | C41: - oczyszczenie warstw bitumicznych | D41: m2 | E41: 98 | G41: =ROUND(E41*F41,2) -> 0
A42: =A41+1 -> 20 | C42: - skropienie warstw niebitumicznych | D42: m2 | E42: 98 | G42: =ROUND(E42*F42,2) -> 0
A43: =A42+1 -> 21 | C43: - skropienie warstw bitumicznych | D43: m2 | E43: 98 | G43: =ROUND(E43*F43,2) -> 0
B44: D.04.04.02. | C44: Podbudowa z kruszywa łamanego | D44: x | E44: x | F44: x | G44: x
A45: =A43+1 -> 22 | C45: - wykonanie podbudowy sasadniczej z mieszanki niezwiązanej C90/3 (0/31,5mm) grubości 20 cm | D45: m2 | E45: 98 | G45: =ROUND(E45*F45,2) -> 0 | H45: 5.4
A46: =A45+1 -> 23 | C46: - wykonanie podbudowy sasadniczej z mieszanki niezwiązanej C90/3 (0/31,5mm) grubości 15 cm | D46: m2 | E46: 73 | G46: =ROUND(E46*F46,2) -> 0 | H46: 5.4
B47: D.04.05.01. | C47: Podbudowa z gruntu lub kruszywa stabilizowanego cementem | D47: x | E47: x | F47: x | G47: x
A48: =A46+1 -> 24 | C48: - wykonanie podbudowy pomocniczej z kruszywa związanego cementem C3/4, grubości 15 cm | D48: m2 | E48: 171 | G48: =ROUND(E48*F48,2) -> 0 | H48: 5.15
A49: =A48+1 -> 25 | C49: - wykonanie podbudowy pomocniczej z kruszywa związanego cementem C3/4, grubości 10 cm | D49: m2 | E49: 21 | G49: =ROUND(E49*F49,2) -> 0 | H49: 5.15
B50: D.04.07.01. | C50: Podbudowa z betonu asfaltowego | D50: x | E50: x | F50: x | G50: x
A51: =A49+1 -> 26 | H51: 5.3
B52: D.05.00.00. | C52: NAWIERZCHNIE | D52: x | E52: x | F52: x | G52: x
B53: D.05.03.05a | C53: Nawierzchnia z betonu asfaltowego - warstwa wiążąca | D53: x | E53: x | F53: x | G53: x
A54: =A51+1 -> 27 | C54: - ułożenie warstwy wiążącej z betonu asfaltowego AC 16 W 35/50 grubości 7 cm | D54: m2 | E54: 98 | G54: =ROUND(E54*F54,2) -> 0 | H54: 6.1
B55: D.05.03.05b | C55: Nawierzchnia z betonu asfaltowego - warstwa ścieralna | D55: x | E55: x | F55: x | G55: x
A56: =A51+1 -> 27 | C56: - ułożenie warstwy ścieralnej z betonu asfaltowego AC 11 S 50/70 grubości 4 cm | D56: m2 | E56: 98 | G56: =ROUND(E56*F56,2) -> 0 | H56: 6.1
B57: D.05.03.23. | C57: Nawierzchnia z kostki brukowej betonowej | D57: x | E57: x | F57: x | G57: x
A58: =A56+1 -> 28 | C58: - wykonanie nawierzchni z kostki typu cegła koloru szarego z betonu wibroprasowanego grubości 8 cm na podsypce cementowo-piaskowej grubości 3 cm | D58: m2 | E58: 73 | G58: =ROUND(E58*F58,2) -> 0 | H58: 6.4
A59: =A58+1 -> 29 | C59: - wykonanie nawierzchni z kostki typu cegła koloru czerwonego z betonu wibroprasowanego grubości 8 cm na podsypce cementowo-piaskowej grubości 3 cm | D59: m2 | E59: 21 | G59: =ROUND(E59*F59,2) -> 0 | H59: 6.5
B60: D.06.00.00. | C60: ROBOTY WYKOŃCZENIOWE | D60: x
B61: D.06.01.01. | C61: Umocnienie skarp i rowów przez humusowanie, obsianie trawą, darniowanie | D61: x | E61: x | F61: x | G61: x
C62: • umocnienie skarp nasypów i wykopów
A63: =A59+1 -> 30 | C63: - plantowanie (obrobienie na czysto) powierzchni skarp i korony nasypów | D63: m2 | E63: 155 | G63: =ROUND(E63*F63,2) -> 0 | H63: 3.5
A64: =A63+1 -> 31 | C64: - humusowanie skarp, poboczy warstwą grubości 10 cm | D64: m2 | E64: 155 | G64: =ROUND(E64*F64,2) -> 0 | H64: 7.1
A65: =1+A64 -> 32 | C65: - obsianie trawą zahumusowanych powierzchni, | D65: m2 | E65: =E64 -> 155 | G65: =ROUND(E65*F65,2) -> 0 | H65: 7.2
B66: D.07.00.00 | C66: URZĄDZENIA BEZPIECZEŃSTWA RUCHU | D66: x | E66: x | F66: x | G66: x
B67: D.07.01.01. | C67: Oznakowanie poziome | D67: x | E67: x | F67: x | G67: x
C68: • oznakowanie stałe | G68: =E68*F68 -> 0
A69: =A65+1 -> 33 | C69: - malowanie linii krawędziowych i segregacyjnych ciągłych na jezdni - grubowarstwowo | D69: m2 | E69: 4.84 | G69: =ROUND(E69*F69,2) -> 0 | H69: 8.2
A70: =A69+1 -> 34 | C70: - malowanie linii ręcznie (strzałki i inne symbole) na jezdni - grubowarstwowo | D70: m2 | E70: 8.46 | G70: =ROUND(E70*F70,2) -> 0 | H70: 8.4
A71: =A70+1 -> 35 | C71: - oznakowanie tymczasowe cienkowarstwowe w kolorze żółtym | D71: m2 | E71: 13.3 | G71: =ROUND(E71*F71,2) -> 0 | H71: 8.4
B72: D.08.00.00. | C72: ELEMENTY ULIC | D72: x | E72: x | F72: x | G72: x
B73: D.08.01.01. | C73: Krawężniki betonowe | D73: x | E73: x | F73: x | G73: x
A74: =A70+1 -> 35 | C74: - ustawienie krawężników betonowych 20×30×100 cm na podsypce cementowo-piaskowej grubości 5 cm | D74: m | E74: 36 | G74: =ROUND(E74*F74,2) -> 0 | H74: 9.1
A75: =A74+1 -> 36 | C75: - wykonanie ławy betonowej B15 z oporem (pod krawężnik ze ściekiem) | D75: m3 | E75: 6.27 | G75: =ROUND(E75*F75,2) -> 0 | H75: 9.5
B76: D.08.03.01. | C76: Obrzeża betonowe
A77: =A75+1 -> 37 | C77: - ustawienie obrzeży betonowych 8×30cm na podsypce piaskowej - grubości 3 cm - chodnik+ścieżka rowerowa+obrzeże przy zjazdach | D77: m | E77: 10 | G77: =ROUND(E77*F77,2) -> 0 | H77: 9.3
B78: D.08.05.02. | C78: Ściek uliczny - z kostki betonowej | D78: x | E78: x | F78: x | G78: x
A79: =A77+1 -> 38 | C79: - ułożenie ścieku przykrawężnikowego z kostki brukowej, betonowej 8/8/20 cm koloru szarego na podsypce cementowo-piaskowej grubości 3 cm (szerokość 2 rzędy na płask) | D79: m | E79: 36 | G79: =ROUND(E79*F79,2) -> 0 | H79: 4.7
C80: OGÓŁEM | D80: x | E80: x | F80: x | G80: =SUM(G15:G79) -> 0
A82: * Ceny jednostkowe należy podawać bez VAT.

Sheet 5. Miejsca postojowe
A1: ROZBUDOWA SKRZYŻOWANIA DROGI KRAJOWEJ NR 32 Z DROGĄ WOJEWÓDZKĄ NR 305 I UL. GAJEWSKICH W M. WOLSZTYN
A3: Część drogowa - budowa miejsc parkingowych
A5: KOSZTORYS OFERTOWY
A7: ROBOTY DROGOWE
B9: Nr | D9: Jednostka | F9: Cena | G9: Wartość
A10: Lp. | B10: Specyfikacji | C10: Wyszczególnienie elementów rozliczeniowych | D10: Nazwa | E10: Ilość | F10: jednostkowa
B11: Technicznej | F11: zł*) | G11: zł*)
A12: 1 | B12: 2 | C12: 3 | D12: 4 | E12: 5 | F12: 6 | G12: 7
B13: D.01.00.00. | C13: ROBOTY PRZYGOTOWAWCZE | D13: x | E13: x | F13: x | G13: x
B14: D.01.01.01. | C14: Odtworzenie trasy i punktów wysokościowych | D14: x | E14: x | F14: x | G14: x
A15: 1 | C15: - roboty pomiarowe dla potrzeb przebudowy wiaduktu w terenie równinnym | D15: km | E15: 0.1 | G15: =ROUND(E15*F15,2) -> 0 | H15: 1.1
B16: D.01.02.01. | C16: Usunięcie drzew lub krzaków | D16: x | E16: x | F16: x | G16: x
C17: - wycięcie i karczowanie drzew | H17: 1.2
A18: =A15+1 -> 2 | C18: - o średnicy 46-55 cm | D18: szt. | E18: 1 | G18: =ROUND(E18*F18,2) -> 0
A19: =A18+1 -> 3 | C19: - usunięcie krzewów | D19: ha | E19: 0.002 | G19: =ROUND(E19*F19,2) -> 0 | H19: 1.3
A20: =A19+1 -> 4 | C20: - transport dłużyc na składowisko Wykonawcy wraz z załadunkiem i rozładunkiem | D20: m3 | E20: 0.4 | G20: =ROUND(E20*F20,2) -> 0
A21: =A20+1 -> 5 | C21: - transport karpiny i gałęzi na składowisko Wykonawcy wraz z załadunkiem i rozładunkiem | D21: mp | E21: 1.9 | G21: =ROUND(E21*F21,2) -> 0
B22: D.01.02.02. | C22: Zdjęcie warstwy humusu | D22: x | E22: x | F22: x | G22: x
A23: =1+A21 -> 6 | C23: ="- mechaniczne zdjęcie warstwy humusu grubości 20 cm z przemieszczeniem oraz spryzmowaniem tymczasowym ("&ROUND(0.2*E23,0)&" m^3)" -> - mechaniczne zdjęcie warstwy humusu grubości 20 cm z przemieszczeniem oraz spryzmowaniem tymczasowym (212 m^3) | D23: m2 | E23: 1060 | G23: =ROUND(E23*F23,2) -> 0 | H23: 3.1
A24: =1+A23 -> 7 | C24: - transport nadmiaru humusu na składowisko Wykonawcy wraz z załadunkiem | D24: m3 | E24: 212 | G24: =ROUND(E24*F24,2) -> 0
B25: D.01.02.04. | C25: Rozbiórki elementów dróg i ulic | D25: x | E25: x | F25: x | G25: x
A26: =A24+1 -> 8 | C26: - rozebranie ręczne nawierzchni bitumicznej - grubości do 10 cm wraz z przecięciem nawierzchni piłą - pod osadzenie krawężnika | D26: m2 | E26: 19.5 | G26: =ROUND(E26*F26,2) -> 0 | H26: 2.2
A27: =A26+1 -> 9 | C27: - rozebranie mechaniczne nawierzchni bitumicznej - grubości do 20 cm | D27: m2 | E27: 75 | G27: =ROUND(E27*F27,2) -> 0 | H27: 2.2
A28: =A27+1 -> 10 | C28: - rozebranie mechaniczne podbudowy nawierzchni z kruszywa stabilizowanego mechanicznie, grubość warstwy 20 cm | D28: m2 | E28: 35 | G28: =ROUND(E28*F28,2) -> 0 | H28: 2.4
A29: =A28+1 -> 11 | C29: - rozebranie mechaniczne nawierzchni chodników, z płyt betonowych 30×30×5 cm na podsypce piaskowej | D29: m2 | E29: 199 | G29: =ROUND(E29*F29,2) -> 0 | H29: 2.6
A30: =A29+1 -> 12 | C30: - rozebranie mechaniczne krawężnika betonowego 20×30 cm na podsypce cementowo-piaskowej | D30: m | E30: 204 | G30: =ROUND(E30*F30,2) -> 0 | H30: 2.8
A31: =1+A30 -> 13 | C31: - rozebranie mechaniczne ław betonowych pod krawężniki betonowe | D31: m3 | E31: 18.06 | G31: =ROUND(E31*F31,2) -> 0 | H31: 2.9
A32: =1+A31 -> 14 | C32: - rozebranie mechaniczne krawężnika betonowego trapezowego 20×30 cm na podsypce cementowo-piaskowej | D32: m | E32: 13 | G32: =ROUND(E32*F32,2) -> 0
A33: =1+A32 -> 15 | C33: - rozebranie mechaniczne ław betonowych pod krawężniki betonowe trapezowe | D33: m3 | E33: 1.01 | G33: =ROUND(E33*F33,2) -> 0 | H33: 2.10
A34: =A33+1 -> 16 | C34: - rozebranie mechaniczne obrzeża betonowego 30×8 cm na podsypce piaskowej | D34: m | E34: 198 | G34: =ROUND(E34*F34,2) -> 0 | H34: 2.11
A35: =A34+1 -> 17 | C35: - demontaż istniejącego oznakowania - słupki pionowe znaków drogowych z rur stalowych o średnicy 70 mm | D35: szt. | E35: 8 | G35: =ROUND(E35*F35,2) -> 0 | H35: X
A36: =A35+1 -> 18 | C36: - demontaż tablic znaków drogowych (zakazu, nakazu, ostrzegawczych, informacyjnych) | D36: szt. | E36: 12 | G36: =ROUND(E36*F36,2) -> 0
A37: =A36+1 -> 19 | C37: - rozebranie pylonów U-5a | D37: szt. | E37: 1 | G37: =ROUND(E37*F37,2) -> 0
A38: =A37+1 -> 20 | C38: - demontaż konstrukcji wsporczej | D38: Mg | E38: 0.9 | G38: =ROUND(E38*F38,2) -> 0 | H38: X
A39: =A38+1 -> 21 | C39: - wywiezienie gruzu z terenu rozbiórki (z transportem na składowisko Wykonawcy z mech. załadunkiem i rozładunkiem) | D39: m3 | E39: 61 | G39: =ROUND(E39*F39,2) -> 0 | H39: 2.15
A40: =A39+1 -> 22 | C40: - wywiezienie gruzu (destruktu - nawierzchni) z terenu rozbiórki (z transportem na składowisko Wykonawcy z mech. załadunkiem i rozładunkiem) | D40: m3 | E40: 3 | G40: =ROUND(E40*F40,2) -> 0 | H40: 2.15
A41: =A40+1 -> 23 | C41: - wywiezienie elementów stalowych z terenu rozbiórki (z transportem na składowisko Wykonawcy z mech. załadunkiem i rozładunkiem) | D41: Mg | E41: 1 | G41: =ROUND(E41*F41,2) -> 0 | H41: 2.15
B42: D.02.00.00. | C42: ROBOTY ZIEMNE | D42: x | E42: x | F42: x | G42: x
B43: D.02.01.01. | C43: Wykonanie wykopów w gruntach kategorii I÷V | D43: x | E43: x | F43: x | G43: x
A44: =A41+1 -> 24 | C44: - mechaniczne wykonanie wykopów w gruntach kategorii III÷IV z załadunkiem i transportem gruntu (378m3) na składowisko Wykonawcy | D44: m3 | E44: 416 | G44: =ROUND(E44*F44,2) -> 0 | H44: 3.2, 3.4
B45: D.02.03.01. | C45: Wykonanie nasypów | D45: x | E45: x | F45: x | G45: x
A46: =A44+1 -> 25 | C46: - formowanie nasypu o wysokości do 3,0 m wraz z zagęszczeniem z gruntu kategorii I-III z wykopu | D46: m3 | E46: 38 | G46: =ROUND(E46*F46,2) -> 0 | H46: 3.3
B47: D.04.00.00. | C47: PODBUDOWY | D47: x | E47: x | F47: x | G47: x
B48: D.04.01.01. | C48: Koryto wraz z profilowaniem i zagęszczeniem podłoża | D48: x | E48: x | F48: x | G48: x
A49: =A46+1 -> 26 | C49: - mechaniczne profilowanie i zagęszczenie podłoża - pod warstwy konstrukcyjne nawierzchni | D49: m2 | E49: 1208 | G49: =ROUND(E49*F49,2) -> 0
B50: D.04.03.01. | C50: Oczyszczenie i skropienie warstw konstrukcyjnych | D50: x | E50: x | F50: x | G50: x
A51: =1+A49 -> 27 | C51: - oczyszczenie podbudowy nawierzchni niebitumicznej | D51: m2 | E51: 441 | G51: =ROUND(E51*F51,2) -> 0
A52: =A51+1 -> 28 | C52: - oczyszczenie warstw bitumicznych | D52: m2 | E52: 959 | G52: =ROUND(E52*F52,2) -> 0
A53: =A52+1 -> 29 | C53: - skropienie warstw niebitumicznych | D53: m2 | E53: 441 | G53: =ROUND(E53*F53,2) -> 0
A54: =A53+1 -> 30 | C54: - skropienie warstw bitumicznych | D54: m2 | E54: 959 | G54: =ROUND(E54*F54,2) -> 0
B55: D.04.04.02. | C55: Podbudowa z kruszywa łamanego | D55: x | E55: x | F55: x | G55: x
A56: =1+A54 -> 31 | C56: - wykonanie podbudowy sasadniczej z mieszanki niezwiązanej C90/3 (0/31,5mm) grubości 20 cm | D56: m2 | E56: 441 | G56: =ROUND(E56*F56,2) -> 0 | H56: 5.4
A57: =A56+1 -> 32 | C57: - wykonanie podbudowy sasadniczej z mieszanki niezwiązanej C90/3 (0/31,5mm) grubości 20 cm | D57: m2 | E57: 474 | G57: =ROUND(E57*F57,2) -> 0 | H57: 5.8
B58: D.04.05.01. | C58: Podbudowa z gruntu lub kruszywa stabilizowanego cementem | D58: x | E58: x | F58: x | G58: x
A59: =A57+1 -> 33 | C59: - wykonanie podbudowy pomocniczej z kruszywa związanego cementem C3/4, grubości 15 cm | D59: m2 | E59: 770 | G59: =ROUND(E59*F59,2) -> 0 | H59: 5.15
A60: =A59+1 -> 34 | C60: - wykonanie podbudowy pomocniczej z kruszywa związanego cementem C3/4, grubości 10 cm | D60: m2 | E60: 331 | G60: =ROUND(E60*F60,2) -> 0 | H60: 5.15
B61: D.05.03.05A | C61: Wyrównanie podbudowy betonem asfaltowym jak na w-wę wiążącą | D61: x | E61: x | F61: x | G61: x
A62: =A60+1 -> 35 | C62: - wyrównanie istniejącej podbudowy betonem asfaltowym AC 16 W 35/50 grubość wg dokumentacji | D62: t | E62: 12 | G62: =ROUND(E62*F62,2) -> 0 | H62: 6.3
B63: D.05.00.00. | C63: NAWIERZCHNIE | D63: x | E63: x | F63: x | G63: x
B64: D.05.03.05/a | C64: Nawierzchnia z betonu asfaltowego - warstwa wiążąca | D64: x | E64: x | F64: x | G64: x
A65: =A62+1 -> 36 | C65: - ułożenie warstwy wiążącej z betonu asfaltowego AC 16 W 35/50 grubości 4 cm | D65: m2 | E65: 441 | G65: =ROUND(E65*F65,2) -> 0 | H65: 6.1
B66: D.05.03.05/b | C66: Nawierzchnia z betonu asfaltowego - warstwa ścieralna | D66: x | E66: x | F66: x | G66: x
A67: =A65+1 -> 37 | C67: - ułożenie warstwy ścieralnej z betonu asfaltowego AC 11 S 50/70 grubości 4 cm | D67: m2 | E67: 939 | G67: =ROUND(E67*F67,2) -> 0 | H67: 6.1
B68: D.05.03.11. | C68: Frezowanie nawierzchni bitumicznej na zimno | D68: x | E68: x | F68: x | G68: x
A69: =A67+1 -> 38 | C69: - frezowanie nawierzchni asfaltowej na zimno, z odwozem ścinki na składowisko Zamawiającego lub Wykonawcy (z załadunkiem i wyładunkiem) - głębokość frezowania do 6 cm | D69: m2 | E69: 36.5 | G69: =ROUND(E69*F69,2) -> 0 | H69: 25
B70: D.05.03.23. | C70: Nawierzchnia z kostki brukowej betonowej | D70: x | E70: x | G70: x
A71: =A69+1 -> 39 | C71: - wykonanie nawierzchni z kostki typu cegła koloru szarego z betonu wibroprasowanego grubości 8 cm na podsypce cementowo-piaskowej grubości 3 cm - chodniki | D71: m2 | E71: 331 | G71: =ROUND(E71*F71,2) -> 0 | H71: 6.4
A72: =A71+1 -> 40 | C72: - wykonanie nawierzchni z kostki typu cegła koloru grafitowego z betonu wibroprasowanego grubości 8 cm na podsypce cementowo-piaskowej grubości 3 cm - miejsca postojowe | D72: m2 | E72: 460 | G72: =ROUND(E72*F72,2) -> 0 | H72: 6.6
B73: D.06.00.00. | C73: ROBOTY WYKOŃCZENIOWE | D73: x | E73: x | F73: x | G73: x
B74: D.06.01.01. | C74: Umocnienie skarp i rowów przez humusowanie, obsianie trawą, darniowanie | D74: x | E74: x | F74: x | G74: x
C75: • umocnienie skarp nasypów i wykopów
A76: =A72+1 -> 41 | C76: - plantowanie (obrobienie na czysto) powierzchni skarp i korony nasypów | D76: m2 | E76: 336 | G76: =ROUND(E76*F76,2) -> 0 | H76: 3.5
A77: =A76+1 -> 42 | C77: - humusowanie skarp, poboczy warstwą grubości 10 cm | D77: m2 | E77: 336 | G77: =ROUND(E77*F77,2) -> 0 | H77: 7.1
A78: =1+A77 -> 43 | C78: - obsianie trawą zahumusowanych powierzchni, | D78: m2 | E78: =E77 -> 336 | G78: =ROUND(E78*F78,2) -> 0 | H78: 7.2
B79: D.07.00.00 | C79: URZĄDZENIA BEZPIECZEŃSTWA RUCHU | D79: x | E79: x | F79: x | G79: x
B80: D.07.01.01. | C80: Oznakowanie poziome | D80: x | E80: x | F80: x | G80: x
C81: • oznakowanie stałe | G81: =E81*F81 -> 0
A82: =A78+1 -> 44 | C82: - malowanie linii krawędziowych i segregacyjnych ciągłych na jezdni - grubowarstwowo | D82: m2 | E82: 27.91 | G82: =ROUND(E82*F82,2) -> 0 | H82: 8.2
A83: =1+A82 -> 45 | C83: - malowanie linii krawędziowych i segregacyjnych przerywanych na jezdni - grubowarstwowo | D83: m2 | E83: 5.76 | G83: =ROUND(E83*F83,2) -> 0 | H83: 8.3
A84: =A83+1 -> 46 | C84: - malowanie linii ręcznie (strzałki i inne symbole) na jezdni - grubowarstwowo | D84: m2 | E84: 71.39 | G84: =ROUND(E84*F84,2) -> 0 | H84: 8.4
A85: =A84+1 -> 47 | C85: - malowanie krawężnika żółtą farbą na długości przejścia dla pieszych 18x0,2=3,60m^2 | D85: mb | E85: 18 | G85: =ROUND(E85*F85,2) -> 0 | H85: 8.4
A86: =A85+1 -> 48 | C86: - wykonanie mat guzikowych przy przejściach dla pieszych | D86: m2 | E86: 8 | G86: =ROUND(E86*F86,2) -> 0
B87: D.07.02.01. | C87: Oznakowanie pionowe | D87: x | E87: x | F87: x | G87: x
C88: • montaż oznakowania stałego | G88: =E88*F88 -> 0
A89: =A86+1 -> 49 | C89: - słupki pionowe znaków drogowych z rur stalowych o średnicy 70 mm | D89: szt. | E89: 11 | G89: =ROUND(E89*F89,2) -> 0 | H89: 8.6
A90: =1+A89 -> 50 | C90: - tablice znaków drogowych - ostrzegawczych, nakazu, zakazu i informacyjne o powierzchni około 0,3 m2 | D90: szt. | E90: 12 | G90: =ROUND(E90*F90,2) -> 0 | H90: 8.5
A91: =A90+1 -> 51 | C91: - przymocowanie tabliczek do znaków | D91: szt. | E91: 5 | G91: =ROUND(E91*F91,2) -> 0 | H91: 8.6
A92: =A91+1 -> 52 | C92: - słupki przeszkodowe U-5a | D92: szt. | E92: 1 | G92: =ROUND(E92*F92,2) -> 0 | H92: 8.6
B93: D.08.00.00. | C93: ELEMENTY ULIC | D93: x | E93: x | F93: x | G93: x
B94: D.08.01.01. | C94: Krawężniki betonowe | D94: x | E94: x | F94: x | G94: x
A95: =A92+1 -> 53 | C95: - ustawienie krawężników betonowych 20×30×100 cm na podsypce cementowo-piaskowej grubości 5 cm | D95: m | E95: 354 | G95: =ROUND(E95*F95,2) -> 0 | H95: 9.1
A96: =A95+1 -> 54 | C96: - wykonanie ławy betonowej B15 z oporem (pod krawężnik bet. 20x30) | D96: m3 | E96: 18.35 | G96: =ROUND(E96*F96,2) -> 0 | H96: 9.5
A97: =A96+1 -> 55 | C97: - wykonanie ławy betonowej B15 z oporem (pod krawężnik ze ściekiem) | D97: m3 | E97: 30.52 | G97: =ROUND(E97*F97,2) -> 0 | H97: 9.5
B98: D.08.01.02. | C98: Krawężniki kamienne | D98: x | E98: x | F98: x | G98: x
A99: =A97+1 -> 56 | C99: - ustawienie krawężników kamiennych trapezowych 20×35 cm na podsypce cementowo-piaskowej grubości 5 cm | D99: m | E99: 53 | G99: =ROUND(E99*F99,2) -> 0 | H99: 9.1
B100: D.08.03.01. | C100: Obrzeża betonowe | D100: x | E100: x | F100: x | G100: x
A101: =A99+1 -> 57 | C101: - ustawienie obrzeży betonowych 8×30cm na podsypce piaskowej - grubości 3 cm - chodnik | D101: m | E101: 102 | G101: =ROUND(E101*F101,2) -> 0 | H101: 9.3
B102: D.08.05.02. | C102: Ściek uliczny - z kostki betonowej | D102: x | E102: x | F102: x | G102: x
A103: =A101+1 -> 58 | C103: - ułożenie ścieku przykrawężnikowego z kostki brukowej, betonowej 8/8/20 cm koloru szarego na podsypce cementowo-piaskowej grubości 3 cm (szerokość 2 rzędy na płask) | D103: m | E103: 214 | G103: =ROUND(E103*F103,2) -> 0 | H103: 4.7
C104: OGÓŁEM | D104: x | E104: x | F104: x | G104: =SUM(G15:G103) -> 0
...

Sheet 6. Chodnik Dworcowa
A1: ROZBUDOWA SKRZYŻOWANIA DROGI KRAJOWEJ NR 32 Z DROGĄ WOJEWÓDZKĄ NR 305 I UL. GAJEWSKICH W M. WOLSZTYN
A3: Część drogowa - Chodnik od miejsc parkingowych do ulicy Dworcowej
A5: KOSZTORYS OFERTOWY
A7: ROBOTY DROGOWE
B9: Nr | D9: Jednostka | F9: Cena | G9: Wartość
A10: Lp. | B10: Specyfikacji | C10: Wyszczególnienie elementów rozliczeniowych | D10: Nazwa | E10: Ilość | F10: jednostkowa
B11: Technicznej | F11: zł*) | G11: zł*)
A12: 1 | B12: 2 | C12: 3 | D12: 4 | E12: 5 | F12: 6 | G12: 7
B13: D.01.00.00. | C13: ROBOTY PRZYGOTOWAWCZE | D13: x | E13: x | F13: x | G13: x
B14: D.01.02.04. | C14: Rozbiórka elementów dróg i ulich | D14: x | E14: x | F14: x | G14: x
A15: 1 | C15: - rozebranie naweirzchni chodników z płyt betonowych 50x50x7 cm na podsypce piaskowej | D15: m2 | E15: 169 | G15: =ROUND(E15*F15,2) -> 0 | H15: 1.1
A16: 2 | C16: - rozebranie obrzeża betonoweog 30x8 cm na podsypce piaskowej | D16: m | E16: 199 | G16: =ROUND(E16*F16,2) -> 0 | H16: 1.1
A17: 3 | C17: - wywiezienie gruzu z terenu rozbiórki (z transportem na skadowisko Wykonawcy z mech. załadunkiem i rozłądunkiem) | D17: m3 | E17: 16.6 | G17: =ROUND(E17*F17,2) -> 0 | H17: 1.1
B18: D.02.00.00. | C18: ROBOTY ZIEMNE | D18: x | E18: x | F18: x | G18: x
B19: D.02.01.01. | C19: Wykonanie wykopów w gruntach kategorii I÷V | D19: x | E19: x | F19: x | G19: x
A20: 4 | C20: - mechaniczne wykonanie wykopów w gruntach kategorii III÷IV z załadunkiem i transportem gruntu na składowisko Wykonawcy | D20: m3 | E20: 29 | G20: =ROUND(E20*F20,2) -> 0 | H20: 3.2, 3.4
B21: D.04.00.00. | C21: PODBUDOWY | D21: x | E21: x | F21: x | G21: x
B22: D.04.01.01. | C22: Koryto wraz z profilowaniem i zagęszczeniem podłoża | D22: x | E22: x | F22: x | G22: x
A23: 5 | C23: - mechaniczne profilowanie i zagęszczenie podłoża - pod warstwy konstrukcyjne nawierzchni | D23: m2 | E23: 181 | G23: =ROUND(E23*F23,2) -> 0
B24: D.04.05.01. | C24: Podbudowa z gruntu lub kruszywa stabilizowanego cementem | D24: x | E24: x | F24: x | G24: x
A25: 6 | C25: - wykonanie podbudowy z kruszywa związanego cementem C3/4, grubości 10 cm | D25: m2 | E25: 181 | G25: =ROUND(E25*F25,2) -> 0 | H25: 5.15
B26: D.05.00.00. | C26: NAWIERZCHNIE | D26: x | E26: x | F26: x | G26: x
B27: D.05.03.23. | C27: Nawierzchnia z kostki brukowej betonowej | D27: x | E27: x | F27: x | G27: x
A28: 7 | C28: - wykonanie nawierzchni z kostki typu cegła koloru szarego z betonu wibroprasowanego grubości 8 cm na podsypce cementowo-piaskowej grubości 3 cm - chodniki | D28: m2 | E28: 181 | G28: =ROUND(E28*F28,2) -> 0 | H28: 6.4 | J28: =G28 -> 0
B29: D.06.00.00. | C29: ROBOTY WYKOŃCZENIOWE | D29: x | E29: x | F29: x | G29: x
B30: D.06.01.01. | C30: Umocnienie skarp i rowów przez humusowanie, obsianie trawą, darniowanie | D30: x | E30: x | F30: x | G30: x
C31: • umocnienie skarp nasypów i wykopów
A32: 8 | C32: - plantowanie (obrobienie na czysto) powierzchni skarp i korony nasypów | D32: m2 | E32: 209 | G32: =ROUND(E32*F32,2) -> 0 | H32: 3.5
A33: 9 | C33: - humusowanie skarp, poboczy warstwą grubości 10 cm | D33: m2 | E33: 209 | G33: =ROUND(E33*F33,2) -> 0 | H33: 7.1
A34: 10 | C34: - obsianie trawą zahumusowanych powierzchni, | D34: m2 | E34: 209 | G34: =ROUND(E34*F34,2) -> 0 | H34: 7.2
B35: D.08.00.00. | C35: ELEMENTY ULIC | D35: x | E35: x | F35: x | G35: x
B36: D.08.03.01. | C36: Obrzeża betonowe | D36: x | E36: x | F36: x | G36: x
A37: 11 | C37: - ustawienie obrzeży betonowych 8×30cm na podsypce piaskowej - grubości 3 cm - chodnik | D37: m | E37: 102 | G37: =ROUND(E37*F37,2) -> 0 | H37: 9.3 | J37: =G37 -> 0
A38: 12 | C38: - wykonanie ławy betonowej B15 z oporem (pod obrzeże) | D38: m3 | E38: 6.12 | G38: =ROUND(E38*F38,2) -> 0 | H38: 9.5 | J38: =G38 -> 0
C39: OGÓŁEM | D39: x | E39: x | F39: x | G39: =SUM(G17:G38) -> 0 | I39: =SUM(I1:I38) -> 0 | J39: =SUM(J1:J38) -> 0
A41: * Ceny jednostkowe należy podawać bez VAT.

Sheet 7. Kanalizacja deszczowa
A1: ROZBUDOWA SKRZYŻOWANIA DROGI KRAJOWEJ NR 32 Z DROGĄ WOJEWÓDZKĄ NR 305 I UL. GAJEWSKICH W M. WOLSZTYN
A3: KOSZTORYS OFERTOWY
A5: ROBOTY BRANŻOWE
A6: Kanalizacja deszczowa
B9: Nr | D9: Jednostka | F9: Cena | G9: Wartość
A10: Lp. | B10: Specyfikacji | C10: Wyszczególnienie elementów rozliczeniowych | D10: Nazwa | E10: Ilość | F10: jednostkowa
B11: Technicznej | F11: zł*) | G11: zł*)
B12: D.03.00.00. | C12: ODWODNIENIE KORPUSU DROGOWEGO | D12: x | E12: x | F12: x | G12: x
B13: D.03.02.01. | C13: Kanalizacja deszczowa | D13: x | E13: x | F13: x | G13: x
C14: • budowa kanalizacji
A15: 1 | C15: - roboty ziemne - wykopy mechaniczne liniowe ze złożeniem gruntu na odkład tymczasowy | D15: m3 | E15: 2080.8 | G15: =ROUND(E15*F15,2) -> 0
A16: =A15+1 -> 2 | C16: - roboty ziemne - wykopy ręczne liniowe szerokości 0,8-1,5 m i głębokości do 3,0 m ze złożeniem gruntu na odkład tymczasowy | D16: m3 | E16: 214.8 | G16: =ROUND(E16*F16,2) -> 0
A17: =A16+1 -> 3 | C17: - roboty ziemne - wykopy ręczne liniowe szerokości 1,6-2,5 m i głębokości do 3,0 m ze złożeniem gruntu na odkład tymczasowy | D17: m3 | E17: 137.8 | G17: =ROUND(E17*F17,2) -> 0
A18: =A17+1 -> 4 | C18: - roboty ziemne - wykopy ręczne liniowe szerokości 1,6-2,5 m i głębokości do 6,0 m ze złożeniem gruntu na odkład tymczasowy | D18: m3 | E18: 167.8 | G18: =ROUND(E18*F18,2) -> 0
A19: =1+A18 -> 5 | C19: - transport nadmiaru gruntu na składowisko Wykonawcy wraz z załadunkiem i rozładunkiem | D19: m3 | E19: 209.2 | G19: =ROUND(E19*F19,2) -> 0
A20: =1+A19 -> 6 | C20: - pełne umocnienie ścian wykopów balami drewnianymi wraz z rozbiórką | D20: m2 | E20: 3268 | G20: =ROUND(E20*F20,2) -> 0
A21: =1+A20 -> 7 | C21: - ułożenie podłoża pod rury wodociągowe z piasku o grubości do 20 cm | D21: m3 | E21: 163 | G21: =ROUND(E21*F21,2) -> 0
A22: =1+A21 -> 8 | C22: - wykonanie obsypki rur gazowych z piasku o grubości 20 cm ponad wierzch rury | D22: m3 | E22: 136 | G22: =ROUND(E22*F22,2) -> 0
A23: =1+A22 -> 9 | C23: - roboty ziemne - zasypanie wykopów z zagęszczeniem mechanicznym gruntem z odkładu tymczasowego | D23: m3 | E23: 2392 | G23: =ROUND(E23*F23,2) -> 0
A24: =1+A23 -> 10 | C24: - budowa kanału deszczowego średnicy f 1000 mm z rur PE SN 8 kN/m2 | D24: m | E24: 209.09 | G24: =ROUND(E24*F24,2) -> 0
A25: =1+A24 -> 11 | C25: - budowa kanału deszczowego średnicy f 600 mm z rur PE SN 8 kN/m2 | D25: m | E25: 91.28 | G25: =ROUND(E25*F25,2) -> 0
A26: =1+A25 -> 12 | C26: - budowa kanału deszczowego średnicy f 400 mm z rur PE SN 8 kN/m2 | D26: m | E26: 59.19 | G26: =ROUND(E26*F26,2) -> 0
A27: =1+A26 -> 13 | C27: - budowa kanału deszczowego średnicy f 300 mm z rur PE SN 8 kN/m2 | D27: m | E27: 80 | G27: =ROUND(E27*F27,2) -> 0
A28: =1+A27 -> 14 | C28: - budowa kanału deszczowego średnicy f 200 mm z rur PE SN 8 kN/m2 | D28: m | E28: 229.34 | G28: =ROUND(E28*F28,2) -> 0
A29: =1+A28 -> 15 | C29: - próba wodna szczelności kanałów rurowych, z rur o średnicy 1000 mm | D29: próba | E29: 1 | G29: =ROUND(E29*F29,2) -> 0
A30: =1+A29 -> 16 | C30: - próba wodna szczelności kanałów rurowych, z rur o średnicy 600 mm | D30: próba | E30: 1 | G30: =ROUND(E30*F30,2) -> 0
... A33: =1+A32 -> 19 | C33: - próba wodna szczelności kanałów rurowych, z rur o średnicy 200 mm | D33: próba | E33: 1 | G33: =ROUND(E33*F33,2) -> 0
A34: =A33+1 -> 20 | C34: - budowa komory kanalizacyjnej z PE SN 8 kN/m2 o średnicy f 2600 mm (komplet) | D34: szt. | E34: 1 | G34: =ROUND(E34*F34,2) -> 0 | I34: 19
A35: =1+A34 -> 21 | C35: - budowa studni rewizyjnej kanalizacyjnej z PE SN 8 kN/m2 o średnicy f 1400 mm (komplet) na kolektorze 600 mm | D35: szt. | E35: 14 | G35: =ROUND(E35*F35,2) -> 0 | I35: 20
A36: =1+A35 -> 22 | C36: - budowa studni rewizyjnej kanalizacyjnej z PE SN 8 kN/m2 o średnicy f 1200 mm (komplet) na kolektorze 400 mm | D36: szt. | E36: 8 | G36: =ROUND(E36*F36,2) -> 0
A37: =1+A36 -> 23 | C37: - budowa studzienki wpustowej z PE SN 8 kN/m2 o średnicy f 400 mm (komplet) na przykanaliku 200 mm | D37: szt. | E37: 23 | G37: =ROUND(E37*F37,2) -> 0
A38: =1+A37 -> 24 | C38: - budowa studni kanalizacyjnych ściekowych, ulicznych, betonowych z gotowych elementów, o średnicy 500 mm: z osadnikiem bez syfonu wraz ze wpustem ściekowym ulicznym klasy C 250 - wg KPED 02.14 | D38: szt. | E38: 2 | G38: =ROUND(E38*F38,2) -> 0
A39: =1+A38 -> 25 | C39: - regulacja pionowa istniejących studni kanalizacji deszczowej | D39: szt. | E39: 9 | G39: =ROUND(E39*F39,2) -> 0
C40: • likwidacja istniejącej kanalizacji | D40: x | E40: x | F40: x | G40: x
A41: =1+A39 -> 26 | C41: - likwidacja kanalizacji deszczowej | D41: m | E41: 460 | G41: =ROUND(E41*F41,2) -> 0
A42: =1+A41 -> 27 | C42: - likwidacja studzienki ściekowej ulicznej betonowej o średnicy 500 mm z wpustem | D42: szt. | E42: 24 | G42: =ROUND(E42*F42,2) -> 0
A43: =1+A42 -> 28 | C43: - likwidacja studzienki kanalizacyjnej rewizyjnej betonowej o średnicy do 1500 mm | D43: kpl. | E43: 10 | G43: =ROUND(E43*F43,2) -> 0
C44: OGÓŁEM | D44: x | E44: x | G44: =SUM(G12:G43) -> 0
A46: * Ceny jednostkowe należy podawać bez VAT.

Sheet 8. Kan. deszczowa Żeromskiego
A1: ROZBUDOWA SKRZYŻOWANIA DROGI KRAJOWEJ NR 32 Z DROGĄ WOJEWÓDZKĄ NR 305 I UL. GAJEWSKICH W M. WOLSZTYN
A3: KOSZTORYS OFERTOWY
A5: ROBOTY BRANŻOWE
A6: Przebudowa kanalizacji deszczowej w ul. Żeromskiego - odcinek Dist. - D1
B9: Nr | D9: Jednostka | F9: Cena | G9: Wartość
A10: Lp. | B10: Specyfikacji | C10: Wyszczególnienie elementów rozliczeniowych | D10: Nazwa | E10: Ilość | F10: jednostkowa
B11: Technicznej | F11: zł*) | G11: zł*)
B12: D.03.00.00. | C12: ODWODNIENIE KORPUSU DROGOWEGO | D12: x | E12: x | F12: x | G12: x
B13: D.03.02.01. | C13: Kanalizacja deszczowa | D13: x | E13: x | F13: x | G13: x
C14: • roboty rozbiórkowe
A15: 1 | C15: - rozebranie obrzeży betonowych | D15: m | E15: 70 | G15: =ROUND(E15*F15,2) -> 0
A16: =A15+1 -> 2 | C16: - rozebranie nawierzchni chodnika | D16: m2 | E16: 70 | G16: =ROUND(E16*F16,2) -> 0
C17: • kanalizacja deszczowa | D17: x | E17: x | F17: x | G17: x
A18: 3 | C18: - roboty pomiarowe | D18: km | E18: 0.1 | G18: =ROUND(E18*F18,2) -> 0
A19: =1+A18 -> 4 | C19: - igłofiltry wpłukiwane w grunt bez obsypki gł. do 4,0 m | D19: szt. | E19: 70 | G19: =ROUND(E19*F19,2) -> 0
A20: =1+A19 -> 5 | C20: - roboty ziemne pionowe mechaniczne na odkład kat. 3-4 z wymiana gruntu, zasypaniem i zagęszczaniem, w obudowie wykopu | D20: m | E20: 72 | G20: =ROUND(E20*F20,2) -> 0
A21: =1+A20 -> 6 | C21: - pompowanie wody z igłofiltrów i wód opadowych | D21: ryczałt | E21: 1 | G21: =ROUND(E21*F21,2) -> 0
A22: =1+A21 -> 7 | C22: - rurociąg tymczasowy | D22: m | E22: 100 | G22: =ROUND(E22*F22,2) -> 0
A23: =1+A22 -> 8 | C23: - montaż konstr. rozp. 4,0 m podw. kabli energ/telekom lekkich | D23: kpl. | E23: 3 | G23: =ROUND(E23*F23,2) -> 0
A24: =1+A23 -> 9 | C24: - demontaż konstr. rozp. 4,0 m podw. kabli energ/telekom lekkich | D24: kpl. | E24: 3 | G24: =ROUND(E24*F24,2) -> 0
A25: =1+A24 -> 10 | C25: - kanał z rur kanalizacyjnych PEHD SN8 fi 800 w wykopie umocnionym | D25: m | E25: 69 | G25: =ROUND(E25*F25,2) -> 0
A26: =1+A25 -> 11 | C26: - Próba szczelności kanałów rurowych | D26: szt. | E26: 1 | G26: =ROUND(E26*F26,2) -> 0
A27: =1+A26 -> 12 | C27: - studnia rewizyjna fi 1500 w gruncie kategorii 1/2 | D27: szt. | E27: 1 | G27: =ROUND(E27*F27,2) -> 0
C28: OGÓŁEM | D28: x | E28: x | G28: =SUM(G12:G27) -> 0
A30: * Ceny jednostkowe należy podawać bez VAT.

Sheet 9. Wodociąg i kan. sanitarna
A1: ROZBUDOWA SKRZYŻOWANIA DROGI KRAJOWEJ NR 32 Z DROGĄ WOJEWÓDZKĄ NR 305 I UL. GAJEWSKICH W M. WOLSZTYN
A3: KOSZTORYS OFERTOWY
A5: ROBOTY BRANŻOWE
A6: Sieć wodociągowa i kanalizacja sanitarna
B9: Nr | D9: Jednostka | F9: Cena | G9: Wartość
A10: Lp. | B10: Specyfikacji | C10: Wyszczególnienie elementów rozliczeniowych | D10: Nazwa | E10: Ilość | F10: jednostkowa
B11: Technicznej | F11: zł*) | G11: zł*)
B12: D-01.03.05. | C12: Sieć wodociągowa i kanaliacja sanitarna | D12: x | E12: x | F12: x | G12: x
C13: Sieć wodociągowa | D13: x | E13: x | F13: x | G13: x
A14: 1 | C14: - Rob.ziem.wyk.koparkami podsiębiernymi 0.40 i 0.60m3,transp.samochodami do 1km pojemność łyżki 0.60m3,kat.gruntu III | D14: m3 | E14: 695.2 | G14: =ROUND(E14*F14,2) -> 0
A15: =A14+1 -> 2 | C15: - Wykopy liniowe o ścianach pionowych pod fundamenty,rurociąg i kolek.w gr.suchych głębokość do 3m, gr.kat.III-IV | D15: m3 | E15: 173.8 | G15: =ROUND(E15*F15,2) -> 0
A16: =A15+1 -> 3 | C16: - Nakłady uzupełniające do T0201-0213 za każde dalsze 0.5km transportu samochodami samowyładowczymi po drogach utwardz.,gr.kat.III-IV | D16: m3 | E16: 228 | G16: =ROUND(E16*F16,2) -> 0
A17: =A16+1 -> 4 | C17: - Pełne umocnienie pionowych ścian wykopów balami drewnianymi w grunt.suchych wykop o szerokości do 1m, głębokość do 3m, kat.gruntu III-IV | D17: m2 | E17: 1826 | G17: =ROUND(E17*F17,2) -> 0
A18: =1+A17 -> 5 | C18: - Podłoża pod kanały i obiekty z materiałów sypkich i stabilizowanych cementem podłoże z materiałów sypkich o grubości 20cm | D18: m3 | E18: 84 | G18: =ROUND(E18*F18,2) -> 0
A19: =1+A18 -> 6 | C19: - Podłoża pod kanały i obiekty z materiałów sypkich i stabilizowanych cementem podłoże z materiałów sypkich o grubości 20cm | D19: m3 | E19: 144 | G19: =ROUND(E19*F19,2) -> 0
A20: =1+A19 -> 7 | C20: - Zasyp.wykopów fundament.podłużnych.,punktowych,rowów,wykopów obiekt.spycharkami zagęszczanie spycharkami,grubość zagęszczanej warstwy 30cm,kat.gruntu III-IV | D20: m3 | E20: 641 | G20: =ROUND(E20*F20,2) -> 0
A21: =1+A20 -> 8 | C21: - Przecisk do 50m metodą wibrową przy użyciu młota pneumatycznego o średnicy 114,3/4,0 mm, grunt kategorii III-IV | D21: m | E21: 12.5 | G21: =ROUND(E21*F21,2) -> 0
A22: =1+A21 -> 9 | C22: - Przeciąganie rur ochronnych przez rury przeciskowe rury ochronne o średnicy 100 mm | D22: m | E22: 12.5 | G22: =ROUND(E22*F22,2) -> 0
A23: =1+A22 -> 10 | C23: - Montaż rurociągów z rur polietylenowych (PE,PEHD) o średnicy zewnętrznej 315mm | D23: m | E23: 55.6 | G23: =ROUND(E23*F23,2) -> 0
A24: =1+A23 -> 11 | C24: - Montaż rurociągów z rur polietylenowych (PE,PEHD) o średnicy zewnętrznej 280mm | D24: m | E24: 71.7 | G24: =ROUND(E24*F24,2) -> 0
A25: =1+A24 -> 12 | C25: - Montaż rurociągów z rur polietylenowych (PE,PEHD) o średnicy zewnętrznej 180mm | D25: m | E25: 132.3 | G25: =ROUND(E25*F25,2) -> 0
A26: =1+A25 -> 13 | C26: - Montaż rurociągów z rur polietylenowych (PE,PEHD) o średnicy zewnętrznej 110mm | D26: m | E26: 60.4 | G26: =ROUND(E26*F26,2) -> 0
A27: =1+A26 -> 14 | C27: - Montaż rurociągów z rur polietylenowych (PE,PEHD) o średnicy zewnętrznej 90mm | D27: m | E27: 42.8 | G27: =ROUND(E27*F27,2) -> 0
A28: =1+A27 -> 15 | C28: - Montaż rurociągów z rur polietylenowych (PE,PEHD) o średnicy zewnętrznej 40 mm | D28: m | E28: 34.2 | G28: =ROUND(E28*F28,2) -> 0
A29: =1+A28 -> 16 | C29: - Montaż rurociągów z rur polietylenowych (PE,PEHD) o średnicy zewnętrznej 40 mm | D29: m | E29: 24.8 | G29: =ROUND(E29*F29,2) -> 0
... A32: =1+A31 -> 19 | C32: - Proba szczelnosci sieci wodociagowych (naklady na 1 probe) Rurociagi o srednicy nominalnej 200-250 mm | D32: szt | E32: 1 | G32: =ROUND(E32*F32,2) -> 0
A33: =A32+1 -> 20 | C33: - Proba szczelnosci sieci wodociagowych (naklady na 1 probe) Rurociagi o srednicy nominalnej 300-350 mm | D33: szt | E33: 1 | G33: =ROUND(E33*F33,2) -> 0
A34: =1+A33 -> 21 | C34: - Proba szczelnosci sieci wodociagowych (naklady na 1 probe) Rurociagi o srednicy nominalnej do 150 mm | D34: szt | E34: 2 | G34: =ROUND(E34*F34,2) -> 0
A35: =1+A34 -> 22 | C35: - Dezynfekcja rurociągów sieci wodociągowych o średnicy nominalnej do 150 mm | D35: szt | E35: 1.473 | G35: =ROUND(E35*F35,2) -> 0
A36: =1+A35 -> 23 | C36: - Dezynfekcja rurociągów sieci wodociągowych o średnicy nominalnej 200 - 250 mm | D36: szt | E36: 0.359 | G36: =ROUND(E36*F36,2) -> 0
A37: =1+A36 -> 24 | C37: - Dezynfekcja rurociągów sieci wodociągowych o średnicy nominalnej 300 mm | D37: szt | E37: 0.278 | G37: =ROUND(E37*F37,2) -> 0
A38: =1+A37 -> 25 | C38: - Rury stalowe ochronne o złączach spawanych o śr zewn. 457 / 10.0 mm z izolacją zewn.z polIetylenu 3xLPE | D38: m | E38: 13 | G38: =ROUND(E38*F38,2) -> 0
A39: =1+A38 -> 26 | C39: - Rury stalowe ochronne o złączach spawanych o śr. zewn 355/ 8.0 mm z izolacją zewn. z polietylenu 3xLPE | D39: m | E39: 15 | G39: =ROUND(E39*F39,2) -> 0
A40: =1+A39 -> 27 | C40: - Rury stalowe ochronne o złączach spawanych o śred. zewn. 273.00 / 7 mm z izolacją zewnętrzna z polietylenu 3xLPE | D40: m | E40: 15 | G40: =ROUND(E40*F40,2) -> 0
A41: =1+A40 -> 28 | C41: - Rury stalowe ochronne o złączach spawanych o śred. zewn. 114 / 4.0 mm z izolacją zewnętrzną z polietylenu 3xLPE | D41: m | E41: 25 | G41: =ROUND(E41*F41,2) -> 0
A42: =1+A41 -> 29 | C42: - Wodomierze skrzydełkowe, zawór antyskażeniowy o śred. nominalnej 20 mm , studzienka wodomierzowa | D42: szt | E42: 2 | G42: =ROUND(E42*F42,2) -> 0
A43: =1+A42 -> 30 | C43: - Zasuwa typu E kołnierzowa z obudową montowaną na rurociągach PVC i PE o średnicy 300mm | D43: kpl | E43: 2 | G43: =ROUND(E43*F43,2) -> 0
A44: =1+A43 -> 31 | C44: - Zasuwa typu E kołnierzowa z obudową montowaną na rurociągach PVC i PE o średnicy 250mm | D44: kpl | E44: 3 | G44: =ROUND(E44*F44,2) -> 0
A45: =1+A44 -> 32 | C45: - Zasuwa typu E kołnierzowa z obudową montowaną na rurociągach PVC i PE o średnicy 150mm | D45: kpl | E45: 2 | G45: =ROUND(E45*F45,2) -> 0
... A97: =1+A96 -> 84 | C97: - Ksztaltki żeliwne ciśnieniowe kołnierzowe o średnicy nominalnej 80 mm | D97: szt | E97: 1 | G97: =ROUND(E97*F97,2) -> 0
C98: Kanalizacja Sanitarna | D98: x | E98: x | F98: x | G98: x
A99: =A97+1 -> 85 | C99: - Zabezpieczenie przed rozszczelnieniem głównych rurociągów fi. 300 i fi. 500 mm | D99: kpl. | E99: 2 | G99: =ROUND(E99*F99,2) -> 0
A100: =A99+1 -> 86 | C100: - Przełączenie głównej sieci wodociągowej fi. 300 i fi. 500 mm miasta Wolsztyna Czas przełączenia 12 godzin | D100: kpl. | E100: 1 | G100: =ROUND(E100*F100,2) -> 0
A101: =A100+1 -> 87 | C101: - Demontaz studni rewizyjnych z kregow bet.w gotowym wykopie o srednicy kregow 1200 mm i glebokosci 4,9 m | D101: kpl | E101: 2 | G101: =ROUND(E101*F101,2) -> 0
A102: =A101+1 -> 88 | C102: - Demontaz studni rewizyjnych z kregow bet.w gotowym wykopie o srednicy 1200 mm, za kazde pelne 0.5m roznicy glebokosci | D102: szt | E102: 2 | G102: =ROUND(E102*F102,2) -> 0
A103: =A102+1 -> 89 | C103: - Demontaz ruroc.zelbetowego laczonego na styk opaska betonowa o srednicy nominalnej 600 mm | D103: m | E103: 17 | G103: =ROUND(E103*F103,2) -> 0
A104: =A103+1 -> 90 | C104: - Wywóz gruzu Samochodami samowyładowczymi po rozbiórce konstr.żwiro-i żelbet.na odl. do 1 km | D104: m3 | E104: 5.2 | G104: =ROUND(E104*F104,2) -> 0
A105: =A104+1 -> 91 | C105: - Wywóz gruzu Samochodami samowyładowczymi po rozbiórce konstrukcji - za każdy 1 km | D105: m3 | E105: 5.2 | G105: =ROUND(E105*F105,2) -> 0
A106: =A105+1 -> 92 | C106: - Roboty ziemne wyk.koparkami przedsięb.z transp.urobku samochodami samowył.do 1km koparki o pojemności łyżki 0.6 m3, kat.gruntu III | D106: m3 | E106: 340.2 | G106: =ROUND(E106*F106,2) -> 0
A107: =A106+1 -> 93 | C107: - Pełne umocnienie wykopów wraz z rozbiórką w gruntach suchych wykopy szerokości do 1m,głębokość do 6.0m | D107: m2 | E107: 226.8 | G107: =ROUND(E107*F107,2) -> 0
A108: =A107+1 -> 94 | C108: - Pełne umocnienie wykopów wraz z rozbiórką balami drewnianymi w gruntach suchych dodatek za każdy 1m szerokości,głębokość do 6.0m | D108: m2 | E108: 226.8 | G108: =ROUND(E108*F108,2) -> 0
A109: =A108+1 -> 95 | C109: - Zasyp.wykopów .podłużnych..spycharkami zagęszczanie warstwy 30cm,kat.gruntu III-IV | D109: m3 | E109: 320.506 | G109: =ROUND(E109*F109,2) -> 0
A110: =A109+1 -> 96 | C110: - Igłostudnie o średnicy 50mm,wpłukiwane na głębokość graniczną 9.0m | D110: szt | E110: 26 | G110: =ROUND(E110*F110,2) -> 0
A111: =A110+1 -> 97 | C111: - Pompowanie wody z wykopów. | D111: godz | E111: 320 | G111: =ROUND(E111*F111,2) -> 0
... A120: =A119+1 -> 106 | C120: - Łącznik rurowo- kołnierzowy - połączenie ruroc. beton. z ruroc. PVC o średnicy nominalnej 500 mm | D120: szt | E120: 2 | G120: =ROUND(E120*F120,2) -> 0
C121: OGÓŁEM | D121: x | E121: x | G121: =SUM(G12:G120) -> 0
A123: * Ceny jednostkowe należy podawać bez VAT.

Sheet 10. Przebudowa gazociągu nc
A1: ROZBUDOWA SKRZYŻOWANIA DROGI KRAJOWEJ NR 32 Z DROGĄ WOJEWÓDZKĄ NR 305 I UL. GAJEWSKICH W M. WOLSZTYN
A3: KOSZTORYS OFERTOWY
A5: ROBOTY BRANŻOWE
A6: Przebudowa gazociągu n/c
B9: Nr | D9: Jednostka | F9: Cena | G9: Wartość
A10: Lp. | B10: Specyfikacji | C10: Wyszczególnienie elementów rozliczeniowych | D10: Nazwa | E10: Ilość | F10: jednostkowa
B11: Technicznej | F11: zł*) | G11: zł*)
B12: D-01.03.06. | C12: Przebudowa kolizji sieci gazowej n/c | D12: x | E12: x | F12: x | G12: x
C13: • Roboty przygotowawcze i ziemne oraz drogowe
A14: 1 | C14: - Roboty pomiarowe - trasa dróg w terenie równinnym | D14: km | E14: 0.052 | G14: =ROUND(E14*F14,2) -> 0
A15: =A14+1 -> 2 | C15: - Rozebranie nawierzchni z płyt betonowych grub 8 cm spoiny piaskowe | D15: m2 | E15: 68 | G15: =ROUND(E15*F15,2) -> 0
A16: 3 | C16: - Ręczne rozebranie podbudowy betonowej grub 15 cm | D16: m2 | E16: 68 | G16: =ROUND(E16*F16,2) -> 0
A17: 4 | C17: - Rob ziemne pionowe mechan na odkład kat 1-2 z obsypką | D17: m | E17: 52 | G17: =ROUND(E17*F17,2) -> 0
A18: 5 | C18: - Podbudowa betonowa | D18: m3 | E18: 10.2 | G18: =ROUND(E18*F18,2) -> 0
A19: 6 | C19: - Podsypka z piasku zagęszczana ręcznie | D19: m3 | E19: 3.4 | G19: =ROUND(E19*F19,2) -> 0
A20: 7 | C20: - Chodnik z kostki betonowej 20x10x6cm pods piask spoin piaskiem | D20: m2 | E20: 68 | G20: =ROUND(E20*F20,2) -> 0
C21: • Roboty montażowe | D21: x | E21: x | F21: x | G21: x
A22: 3 | C22: - Rurociąg gazowy z rur prostych HDPD SDR-17,6 fi 280 | D22: m | E22: 52 | G22: =ROUND(E22*F22,2) -> 0
A23: 4 | C23: - Łączenie metodą zgrzewania czołowego rur PE fi 280 | D23: szt. | E23: 9 | G23: =ROUND(E23*F23,2) -> 0
A24: 5 | C24: - Montaż konstrukcji rozpiętości 4,0 m podwieszeń kabli energetycznych i telekomunikacyjnych typ lekki | D24: kpl. | E24: 8 | G24: =ROUND(E24*F24,2) -> 0
A25: 6 | C25: - Demontaż konstrukcji rozpiętości 4,0 m podwieszeń kabli energetycznych i telekomunikacyjnych typ lekki | D25: kpl. | E25: 8 | G25: =ROUND(E25*F25,2) -> 0
A26: 7 | C26: - Montaż konstrukcji rozpiętości 4,0 m podwieszeń rurociągów i kanałów | D26: kpl. | E26: 4 | G26: =ROUND(E26*F26,2) -> 0
A27: 8 | C27: - Demontaż konstrukcji rozpiętości 4,0 m podwieszeń rurociągów i kanałów | D27: kpl. | E27: 4 | G27: =ROUND(E27*F27,2) -> 0
A28: 9 | C28: - Ustawienie na rurociągu PE zasuwy FIG 043 fi 250 | D28: szt. | E28: 2 | G28: =ROUND(E28*F28,2) -> 0
A29: 10 | C29: - Kształtka stalowa fi 250 - zaślepienie istniejącego gazociągu | D29: szt. | E29: 4 | G29: =ROUND(E29*F29,2) -> 0
A30: 11 | C30: - Montaż kolana elektrooporowego 90°z PE fi 280 | D30: szt. | E30: 1 | G30: =ROUND(E30*F30,2) -> 0
A31: 12 | C31: - Montaż kolana elektrooporowego 45°z PE fi 280 | D31: szt. | E31: 2 | G31: =ROUND(E31*F31,2) -> 0
A32: 13 | C32: - Króciec kołnierzowy fi 150 | D32: kpl. | E32: 1 | G32: =ROUND(E32*F32,2) -> 0
A33: 14 | C33: - Króciec kołnierzowy fi 250 | D33: kpl. | E33: 1 | G33: =ROUND(E33*F33,2) -> 0
... A42: 23 | C42: - Kalkulacja własna: Nadzór i odbiór prac gazoniebezpiecznych | D42: szt. | E42: 1 | G42: =ROUND(E42*F42,2) -> 0
C43: OGÓŁEM | D43: x | E43: x | G43: =SUM(G12:G42) -> 0
A45: * Ceny jednostkowe należy podawać bez VAT.

Sheet 11. B.elektryczna - oświetlenie
A1: ROZBUDOWA SKRZYŻOWANIA DROGI KRAJOWEJ NR 32 Z DROGĄ WOJEWÓDZKĄ NR 305 I UL. GAJEWSKICH W M. WOLSZTYN
A3: KOSZTORYS OFERTOWY
A5: ROBOTY BRANŻOWE
A6: Branża elektryczna - oświetlenie i sygnalizacja
D9: Jednostka | F9: Cena | G9: Wartość
A10: Lp. | C10: Wyszczególnienie elementów rozliczeniowych | D10: Nazwa | E10: Ilość | F10: jednostkowa
F11: zł*) | G11: zł*)
C12: Branża elektryczna | D12: x | E12: x | F12: x | G12: x
C13: • Roboty przygotowawcze i ziemne (dla robót elektroenergetycznych) | D13: x | E13: x | F13: x | G13: x
A14: 1 | C14: - roboty ziemne - wykopy ręczne wraz z zasypaniem, dla słupów elektroenergetycznych linii napowietrznych niskiego napięcia, przy głębokości wykopów do 1,5 m | D14: m3 | E14: 15.375 | G14: =ROUND(E14*F14,2) -> 0
A15: =A14+1 -> 2 | C15: - roboty ziemne - ręczne kopanie rowów dla kabli w gruncie kat.III, przy szerokości dna wykopu do 0,4 m i głębokości rowu do 1,0 m | D15: m | E15: 884 | G15: =ROUND(E15*F15,2) -> 0
A16: =A15+1 -> 3 | C16: - nasypanie warstwy piasku na dnie rowu kablowego o szerokości: do 0.4 m | D16: m | E16: 1768 | G16: =ROUND(E16*F16,2) -> 0
A17: =A16+1 -> 4 | C17: - ręczne zasypywanie rowów dla kabli w gruncie kat.III, przy szerokości dna wykopu do 0,4 m i głębokości rowu do 0,8 m | D17: m | E17: 884 | G17: =ROUND(E17*F17,2) -> 0
A18: =A17+1 -> 5 | C18: - transport nadmiaru gruntu na składowisko Wykonawcy wraz z załadunkiem i rozładunkiem | D18: m3 | E18: 80.56 | G18: =ROUND(E18*F18,2) -> 0
A19: =A18+1 -> 6 | C19: - wywiezienie gruzu z załadowaniem i rozładowaniem | D19: m3 | E19: 5.535 | G19: =ROUND(E19*F19,2) -> 0
C20: • Montaż | D20: x | E20: x | F20: x | G20: x
A21: =A19+1 -> 7 | C21: - układanie w wykopie rur ochronnych z PCW; rury RHDPE grubościenne ø 110/6,3 | D21: m | E21: 133 | G21: =ROUND(E21*F21,2) -> 0
A22: =A21+1 -> 8 | C22: - układanie w wykopie rur ochronnych z PCW; rury HDPE 110 | D22: m | E22: 180 | G22: =ROUND(E22*F22,2) -> 0
A23: =A22+1 -> 9 | C23: - ręczne układanie w rowach kablowych, kabli z przykryciem folią: kabel YAKY 4x35mm2 | D23: m | E23: 1156 | G23: =ROUND(E23*F23,2) -> 0
A24: =A23+1 -> 10 | C24: - układanie w rurach, pustakach lub kanałach zamkniętych: kabel YAKY 4x35mm2 | D24: m | E24: 194 | G24: =ROUND(E24*F24,2) -> 0
A25: =A24+1 -> 11 | C25: - obróbka na sucho kabli energetycznych wielożyłow. z żyłami miedzianymi, na napiecie do 1 kV, o izolacji i powłoce z tworzyw sztucznych; zarobienie końca kabla o przekroju 35mm2 | D25: szt. | E25: 76 | G25: =ROUND(E25*F25,2) -> 0
A26: =A25+1 -> 12 | C26: - mechaniczne stawianie słupów oświetleniowych o o wys 12m, słup stal. na fundmencie prefabrykowanym | D26: szt. | E26: 41 | G26: =ROUND(E26*F26,2) -> 0
A27: =A26+1 -> 13 | C27: - montaż tabliczek: bezpiecznikowych we wnękach słupów | D27: szt. | E27: 41 | G27: =ROUND(E27*F27,2) -> 0
A28: =A27+1 -> 14 | C28: - montaż odgromników na słupie | D28: kpl. | E28: 1 | G28: =ROUND(E28*F28,2) -> 0
A29: =A28+1 -> 15 | C29: - ławy fundamentowe żelbetowe prostokątne o szerokości: do 0,6 m | D29: m3 | E29: 3.4 | G29: =ROUND(E29*F29,2) -> 0
A30: =A29+1 -> 16 | C30: - montaż wysięgników 1,5m na słupie | D30: szt. | E30: 41 | G30: =ROUND(E30*F30,2) -> 0
A31: =A30+1 -> 17 | C31: - montaż opraw oświetlenia zewnętrznego LED 146W, 20400lm na słupie (przyjęto do obliczeń: BGP204 LED 240-4S/740 DM12) z zaprogramowaną 5-stopniową redukcją strumienia | D31: szt. | E31: 6 | G31: =ROUND(E31*F31,2) -> 0
A32: =A31+1 -> 18 | C32: - montaż opraw oświetlenia zewnętrznego LED 82W, 10920lm na słupie (przyjęto do obliczeń: BGP307 LED 130-4S/740 DM11) z zaprogramowaną 5-stopniową redukcją strumienia | D32: szt. | E32: 26 | G32: =ROUND(E32*F32,2) -> 0
A33: =A32+1 -> 19 | C33: - montaż opraw oświetlenia zewnętrznego LED 60W, 8600lm na słupie (przyjęto do obliczeń: BGP307 LED 99-4S/740 DM11) z zaprogramowaną 5-stopniową redukcją strumienia | D33: szt. | E33: 9 | G33: =ROUND(E33*F33,2) -> 0
... A41: =A40+1 -> 27 | C41: - badanie i pomiar uziemienia ochronnego lub roboczego: następny pomiar po pierwszym | D41: pomiar | E41: 41 | G41: =ROUND(E41*F41,2) -> 0
C42: • Demontaż (oświetlenie) | D42: x | E42: x | F42: x | G42: x
A43: =A41+1 -> 28 | C43: - demontaż ręcznie, przewodów o przekroju: do 50 mm2 (R,S=0,50) | D43: km/prz. | E43: 1.16 | G43: =ROUND(E43*F43,2) -> 0
A44: =A43+1 -> 29 | C44: - mechanicznie stawianie słupów stalowych oświetleniowych o wys do 12m - analogia: demontaż (R,S=0,50) | D44: szt. | E44: 41 | G44: =ROUND(E44*F44,2) -> 0
A45: =A44+1 -> 30 | C45: - demontaż wysięgników rurowych o ciężarze: ponad 50 do 60 kg , na słupie (R,S=0,50) | D45: szt. | E45: 41 | G45: =ROUND(E45*F45,2) -> 0
A46: =A45+1 -> 31 | C46: - demontaż na zamontowanym wysięgniku opraw (R,S=0,50) | D46: szt. | E46: 41 | G46: =ROUND(E46*F46,2) -> 0
C47: • Demontaż (sygnalizacja) | D47: x | E47: x | F47: x | G47: x
A48: =A46+1 -> 32 | C48: - demontaż na gotowym fundamencie, szaf sterowniczych oświetlenia zewnętrznego, SO (R,S=0,50) - aparat sterowniczy MSR 2002 (5 grupy syg., 3 wejścia do kamer) | D48: szt. | E48: 1 | G48: =ROUND(E48*F48,2) -> 0
A49: =A48+1 -> 33 | C49: - demontaż okablowania zasilającego maszty/słupy/sygnalizatory | D49: kmpl | E49: 1 | G49: =ROUND(E49*F49,2) -> 0
A50: =A49+1 -> 34 | C50: - demontaż studni kablowych | D50: szt. | E50: 15 | G50: =ROUND(E50*F50,2) -> 0
A51: =A50+1 -> 35 | C51: - demontaż kanalizacji kablowej | D51: mb | E51: 480 | G51: =ROUND(E51*F51,2) -> 0
A52: =A51+1 -> 36 | C52: - mechaniczne stawianie słupów oświetleniowych o masie: ponad 480 do 890kg, w gr.kat.I-III, słup stal. - analogia: demontaż (R,S=0,50) - słup sygnalizacyjny wys. 4,8m z wnęką kablową | D52: szt. | E52: 14 | G52: =ROUND(E52*F52,2) -> 0
A53: =A52+1 -> 37 | C53: - mechaniczne stawianie słupów oświetleniowych o masie: ponad 480 do 890kg, w gr.kat.I-III, słup stal. - analogia: demontaż (R,S=0,50) - słup sygnalizacyjny wys. 6m z wnęką kablową | D53: szt. | E53: 2 | G53: =ROUND(E53*F53,2) -> 0
A54: =A53+1 -> 38 | C54: - mechaniczne stawianie słupów oświetleniowych o masie: ponad 480 do 1100kg, w gr.kat.I-III, słup stal. - analogia: demontaż (R,S=0,50) - słup sygnalizacyjny wys. 6m z wnęką kablową | D54: szt. | E54: 2 | G54: =ROUND(E54*F54,2) -> 0
A55: =A54+1 -> 39 | C55: - demontaż wysięgników rurowych o ciężarze: ponad 50 do 60 kg, na słupie (R,S=0,50) - wysięgnik sygnalizacyjny | D55: szt. | E55: 2 | G55: =ROUND(E55*F55,2) -> 0
A56: =A55+1 -> 40 | C56: - mechaniczne stawianie słupów oświetleniowych o masie: ponad 480 do 1100kg, w gr.kat.I-III, słup stal. - analogia: demontaż (R,S=0,50) - bramownica | D56: szt. | E56: 2 | G56: =ROUND(E56*F56,2) -> 0
A57: =A56+1 -> 41 | C57: - demontaż konsol sygnalizatorów ulicznych na konstrukcji lub wysięgniku, przy ilości konsol w komplecie: 1 (R,S=0,50) | D57: szt. | E57: 22 | G57: =ROUND(E57*F57,2) -> 0
A58: =A57+1 -> 42 | C58: - demontaż latarń sygnałów ulicznych na gotowych przewieszkach lub konstrukcjach bramowych, przy ilości komór: ponad 2 do 4 - (R,S=0,50) - sygnalizator kołowy ogólny 3x300 LED | D58: kpl. | E58: 6 | G58: =ROUND(E58*F58,2) -> 0
A59: =A58+1 -> 43 | C59: - demontaż latarń sygnałów ulicznych na gotowych przewieszkach lub konstrukcjach bramowych, przy ilości komór: ponad 2 do 4 - (R,S=0,50) - sygnalizator pieszy 2x200 LED | D59: kpl. | E59: 16 | G59: =ROUND(E59*F59,2) -> 0
A60: =A59+1 -> 44 | C60: - ułożenie, w szafach i na tablicach, w wiązkach przewodów, o przekroju do 1,5 mm2, typu: DY-250 V - analogia: demontaż (R,S=0,50) - okablowanie szafy | D60: szt. | E60: 70 | G60: =ROUND(E60*F60,2) -> 0
C61: • Oświetlenie przejść | D61: x | E61: x | F61: x | G61: x
A62: =A60+1 -> 45 | C62: - roboty ziemne - wykopy ręczne wraz z zasypaniem, dla słupów elektroenergetycznych linii napowietrznych niskiego napięcia, przy głębokości wykopów do 1,5 m | D62: m3 | E62: 2.88 | G62: =ROUND(E62*F62,2) -> 0
A63: =A62+1 -> 46 | C63: - roboty ziemne - ręczne kopanie rowów dla kabli w gruncie kat.III, przy szerokości dna wykopu do 0,4 m i głębokości rowu do 1,0 m | D63: m | E63: 59 | G63: =ROUND(E63*F63,2) -> 0
A64: =A63+1 -> 47 | C64: - nasypanie warstwy piasku na dnie rowu kablowego o szerokości: do 0.4 m | D64: m | E64: 118 | G64: =ROUND(E64*F64,2) -> 0
A65: =A64+1 -> 48 | C65: - ręczne zasypywanie rowów dla kabli w gruncie kat.III, przy szerokości dna wykopu do 0,4 m i głębokości rowu do 0,8 m | D65: m | E65: 59 | G65: =ROUND(E65*F65,2) -> 0
A66: =A65+1 -> 49 | C66: - transport nadmiaru gruntu na składowisko Wykonawcy wraz z załadunkiem i rozładunkiem | D66: m3 | E66: 1.26 | G66: =ROUND(E66*F66,2) -> 0
A67: =A66+1 -> 50 | C67: - ręczne układanie w rowach kablowych, kabli z przykryciem folią: kabel YAKY 4x35mm2 | D67: m | E67: 97.95 | G67: =ROUND(E67*F67,2) -> 0
A68: =A67+1 -> 51 | C68: - obróbka na sucho kabli energetycznych wielożyłow. z żyłami miedzianymi, na napiecie do 1 kV, o izolacji i powłoce z tworzyw sztucznych; zarobienie końca kabla o przekroju 35mm2 | D68: szt. | E68: 24 | G68: =ROUND(E68*F68,2) -> 0
A69: =A68+1 -> 52 | C69: - mechaniczne stawianie słupów oświetleniowych o o wys 5m, słup stal. na fundmencie prefabrykowanym | D69: szt. | E69: 12 | G69: =ROUND(E69*F69,2) -> 0
A70: =A69+1 -> 53 | C70: - montaż tabliczek: bezpiecznikowych we wnękach słupów | D70: szt. | E70: 12 | G70: =ROUND(E70*F70,2) -> 0
A71: =A70+1 -> 54 | C71: - montaż opraw oświetlenia zewnętrznego LED o optyce asymetrycznej (przejścia dla pieszych) na słupie (przyjęto do obliczeń: BGP282 - DPR1) | D71: szt. | E71: 12 | G71: =ROUND(E71*F71,2) -> 0
A72: =A71+1 -> 55 | C72: - wciąganie przewodów z udziałem podnośnika samochodowego: w słup lub rury osłonowe: przewód YDY 3x2,5mm2 | D72: 1m/przew | E72: 60 | G72: =ROUND(E72*F72,2) -> 0
A73: =A72+1 -> 56 | C73: - montaż uziomu powierzchniowego, w wykopie o głębokości: ponad 0,6 do 0,8 m grunt kat.III - bednarka ocynkowana 30x4mm | D73: m | E73: 97.95 | G73: =ROUND(E73*F73,2) -> 0
A74: =A73+1 -> 57 | C74: - montaż złączy kontrolnych w instalacji uziemiającej lub odgromowej - połączenie: drut-płaskownik | D74: szt. | E74: 12 | G74: =ROUND(E74*F74,2) -> 0
... A78: =A77+1 -> 61 | C78: - badanie i pomiar uziemienia ochronnego lub roboczego: następny pomiar po pierwszym | D78: pomiar | E78: 11 | G78: =ROUND(E78*F78,2) -> 0
C79: OGÓŁEM | D79: x | E79: x | F79: x | G79: =SUM(G13:G78) -> 0
A81: * Ceny jednostkowe należy podawać bez VAT.

Sheet 12. Br. elektryczna - kolizje
A1: ROZBUDOWA SKRZYŻOWANIA DROGI KRAJOWEJ NR 32 Z DROGĄ WOJEWÓDZKĄ NR 305 I UL. GAJEWSKICH W M. WOLSZTYN
A3: KOSZTORYS OFERTOWY
A5: ROBOTY BRANŻOWE
A6: Branża elektryczna - kolizje elektroenergetyczne
D9: Jednostka | F9: Cena | G9: Wartość
A10: Lp. | C10: Wyszczególnienie elementów rozliczeniowych | D10: Nazwa | E10: Ilość | F10: jednostkowa
F11: zł*) | G11: zł*)
C12: Branża elektryczna | D12: x | E12: x | F12: x | G12: x
C13: • Roboty przygotowawcze i ziemne (dla robót elektroenergetycznych) | D13: x | E13: x | F13: x | G13: x
A14: 1 | C14: - roboty ziemne - ręczne kopanie rowów dla kabli w gruncie kat.III, przy szerokości dna wykopu do 0,4 m i głębokości rowu do 1,0 m | D14: m | E14: 108 | G14: =ROUND(E14*F14,2) -> 0
A15: =A14+1 -> 2 | C15: - nasypanie warstwy piasku na dnie rowu kablowego o szerokości: do 0.4 m | D15: m | E15: 216 | G15: =ROUND(E15*F15,2) -> 0
A16: =A15+1 -> 3 | C16: - ręczne zasypywanie rowów dla kabli w gruncie kat.III, przy szerokości dna wykopu do 0,4 m i głębokości rowu do 0,8 m | D16: m | E16: 108 | G16: =ROUND(E16*F16,2) -> 0
A17: =A16+1 -> 4 | C17: - transport nadmiaru gruntu na składowisko Wykonawcy wraz z załadunkiem i rozładunkiem | D17: m3 | E17: 8.64 | G17: =ROUND(E17*F17,2) -> 0
C18: • Montaż | D18: x | E18: x | F18: x | G18: x
A19: =A17+1 -> 5 | C19: - montaż złącza kablowego 6-polowego zewnętrznego o ciężarze do 100kg | D19: szt. | E19: 2 | G19: =ROUND(E19*F19,2) -> 0
A20: =A19+1 -> 6 | C20: - układanie w wykopie rur ochronnych z PCW; rury RHDPE grubościenne ø 110/6,3 | D20: m | E20: 38 | G20: =ROUND(E20*F20,2) -> 0
A21: =A20+1 -> 7 | C21: - układanie w wykopie rur ochronnych z PCW; rury HDPE 110 | D21: m | E21: 15 | G21: =ROUND(E21*F21,2) -> 0
A22: =A21+1 -> 8 | C22: - ręczne układanie w rowach kablowych, kabli z przykryciem folią: kabel YAKY 4x120mm2 | D22: m | E22: 127 | G22: =ROUND(E22*F22,2) -> 0
A23: =A22+1 -> 9 | C23: - układanie w rurach, pustakach lub kanałach zamkniętych: kabel YAKY 4x120mm2 | D23: m | E23: 53 | G23: =ROUND(E23*F23,2) -> 0
A24: =A23+1 -> 10 | C24: - obróbka na sucho kabli energetycznych wielożyłow. z żyłami miedzianymi, na napiecie do 1 kV, o izolacji i powłoce z tworzyw sztucznych; zarobienie końca kabla o przekroju 120mm2 | D24: szt. | E24: 6 | G24: =ROUND(E24*F24,2) -> 0
A25: =A24+1 -> 11 | C25: - montaż uziomu powierzchniowego, w wykopie o głębokości: ponad 0,6 do 0,8 m grunt kat.III - bednarka ocynkowana 30x4mm | D25: m | E25: 40 | G25: =ROUND(E25*F25,2) -> 0
A26: =A25+1 -> 12 | C26: - montaż złączy kontrolnych w instalacji uziemiającej lub odgromowej - połączenie: drut-płaskownik | D26: szt. | E26: 2 | G26: =ROUND(E26*F26,2) -> 0
A27: =A26+1 -> 13 | C27: - montaż muf przelotowych na kablach YAKY 4x120 mm2 | D27: szt. | E27: 4 | G27: =ROUND(E27*F27,2) -> 0
A28: =A27+1 -> 14 | C28: - badanie linii kablowej - nn o ilości żył do 4 - kable zasilające | D28: odc. | E28: 3 | G28: =ROUND(E28*F28,2) -> 0
A29: =A28+1 -> 15 | C29: - badanie i pomiar uziemienia ochronnego lub roboczego: pierwszy pomiar | D29: pomiar | E29: 1 | G29: =ROUND(E29*F29,2) -> 0
A30: =A29+1 -> 16 | C30: - badanie i pomiar uziemienia ochronnego lub roboczego: następny pomiar po pierwszym | D30: pomiar | E30: 1 | G30: =ROUND(E30*F30,2) -> 0
C31: • Demontaż | D31: x | E31: x | F31: x | G31: x
A32: =A30+1 -> 17 | C32: - demontaż na gotowym fundamencie, złącze kablowe 5-polowe | D32: szt. | E32: 2 | G32: =ROUND(E32*F32,2) -> 0
A33: =A32+1 -> 18 | C33: - demontaż ręcznie, przewodów o przekroju: ponad 95 do 120 mm2 (R,S=0,50) | D33: km/prz. | E33: 0.18 | G33: =ROUND(E33*F33,2) -> 0
C34: OGÓŁEM | D34: x | E34: x | F34: x | G34: =SUM(G13:G33) -> 0
A36: * Ceny jednostkowe należy podawać bez VAT.

Sheet 13. Usunięcie kolizji teletechn
A1: ROZBUDOWA SKRZYŻOWANIA DROGI KRAJOWEJ NR 32 Z DROGĄ WOJEWÓDZKĄ NR 305 I UL. GAJEWSKICH W M. WOLSZTYN
A3: KOSZTORYS OFERTOWY
A5: ROBOTY BRANŻOWE
A6: Branża teletechniczna
B9: Nr | D9: Jednostka | F9: Cena | G9: Wartość
A10: Lp. | B10: Specyfikacji | C10: Wyszczególnienie elementów rozliczeniowych | D10: Nazwa | E10: Ilość | F10: jednostkowa
B11: Technicznej | F11: zł*) | G11: zł*)
B12: D-01.03.04. | C12: Branża teletechniczna | D12: x | E12: x | F12: x | G12: x
C13: • Przebudowa kanalizacji
A14: 1 | C14: - Studnia kablowa magistralna SK-6 prefabrykowana monolityczna w gruncie kategorii 3 | D14: szt | E14: 4 | G14: =ROUND(E14*F14,2) -> 0
A15: =A14+1 -> 2 | C15: - Budowa gardeł dodatkowych SK-6 z bloczków w gruncie kategorii 3 | D15: szt | E15: 2 | G15: =ROUND(E15*F15,2) -> 0
A16: =A15+1 -> 3 | C16: - Studnia kablowa prefabrykowana rozdzielcza SKR-2 w gruncie kategorii 3 | D16: szt | E16: 5 | G16: =ROUND(E16*F16,2) -> 0
A17: =A16+1 -> 4 | C17: - Montaż pokrywy z listwami na ramie ciężkiej studni | D17: szt | E17: 9 | G17: =ROUND(E17*F17,2) -> 0
A18: =A17+1 -> 5 | C18: - Wykonanie przepustów pod drogami i torami, prostoliniowo, przeciskiem hydraulicznym, z powrotnym wci_x0007_ganiem rur (kategoria gruntu III-IV), długość do 10 m rura HDPE 110 | D18: metr | E18: 240 | G18: =ROUND(E18*F18,2) -> 0
A19: =A18+1 -> 6 | C19: - Wykonanie przepustów pod drogami i torami, prostoliniowo, przeciskiem hydraulicznym, z powrotnym wci_x0007_ganiem rur (kategoria gruntu III-IV), długość ponad 10 m rura HDPE 110 | D19: metr | E19: 264 | G19: =ROUND(E19*F19,2) -> 0
A20: =A19+1 -> 7 | C20: - Budowa kanalizacji kablowej pierwotnej z rur z tworzyw sztucznych w wykopie wykonanym mechanicznie w gruncie kategori III, 2 warstwyi 8 otworów w ciągu kanalizacji , 4 rury w warstwie | D20: metr | E20: 37.5 | G20: =ROUND(E20*F20,2) -> 0
A21: =A20+1 -> 8 | C21: - Budowa kanalizacji kablowej pierwotnej z rur z tworzyw sztucznych w wykopie wykonanym mechanicznie w gruncie kategori III, 1 warstwa i 4 otwory w ciągu kanalizacji , 4 rury w warstwie | D21: metr | E21: 191.5 | G21: =ROUND(E21*F21,2) -> 0
A22: =A21+1 -> 9 | C22: - Budowa kanalizacji kablowej pierwotnej z rur z tworzyw sztucznych w wykopie wykonanym mechanicznie w gruncie kategori III, 1 warstwa i 3 otwory w ciągu kanalizacji ,3 rury w warstwie | D22: metr | E22: 123 | G22: =ROUND(E22*F22,2) -> 0
A23: =A22+1 -> 10 | C23: - Budowa kanalizacji kablowej pierwotnej z rur z tworzyw sztucznych w wykopie wykonanym mechanicznie w gruncie kategori III, 1 warstwa i 2 otwory w ciągu kanalizacji ,2 rury w warstwie | D23: metr | E23: 21 | G23: =ROUND(E23*F23,2) -> 0
A24: =A23+1 -> 11 | C24: - Montaż szaf kablowych z cokołem na studniach szafkowych, szafa metalowa o znamionowej liczbie par 1600 | D24: szt | E24: 1 | G24: =ROUND(E24*F24,2) -> 0
A25: =A24+1 -> 12 | C25: - Montaż uziomów szpilkowych miedzianych, metoda udarowa, grunt kategorii II, głębokość 3m | D25: szt | E25: 1 | G25: =ROUND(E25*F25,2) -> 0
C26: • Przebudowa kabli magistralnych | D26: x | E26: x | F26: x | G26: x
A27: =A25+1 -> 13 | C27: - Wciąganie mechaniczne kabla XzTKMXpw 250x4x0,5 do kanalizacji kablowej, otwór wolny | D27: metr | E27: 205 | G27: =ROUND(E27*F27,2) -> 0
A28: =A27+1 -> 14 | C28: - Wciąganie mechaniczne kabla XzTKMXpw 200x4x0,5 do kanalizacji kablowej, otwór wolny | D28: metr | E28: 30 | G28: =ROUND(E28*F28,2) -> 0
A29: =A28+1 -> 15 | C29: - Wciąganie mechaniczne kabla do 30-50 mm2 do kanalizacji kablowej, otwór wolny | D29: metr | E29: 235 | G29: =ROUND(E29*F29,2) -> 0
A30: =A29+1 -> 16 | C30: - Wciąganie mechaniczne kabla XzTKMXpw 50x4x0,5 do kanalizacji kablowej, otwór wolny | D30: metr | E30: 780 | G30: =ROUND(E30*F30,2) -> 0
A31: =A30+1 -> 17 | C31: - Wciąganie ręczne kabla XzTKMXpw 50x4x0,5 do kanalizacji kablowej otwór częściowo zajęty | D31: metr | E31: 447 | G31: =ROUND(E31*F31,2) -> 0
A32: =A31+1 -> 18 | C32: - Wciąganie ręczne kabla XzTKMXpw 25x4x0,5 do kanalizacji kablowej otwór częściowo zajęty | D32: metr | E32: 212 | G32: =ROUND(E32*F32,2) -> 0
A33: =A32+1 -> 19 | C33: - Montaż zespołów łączówek szczelinowych jednostronnych, niezabezpieczonych uszczelnionych i nieuszczelnionych o 100 parach zacisków w zespole. | D33: szt | E33: 7 | G33: =ROUND(E33*F33,2) -> 0
A34: =A33+1 -> 20 | C34: - Montaż zespołów łączówek szczelinowych jednostronnych, niezabezpieczonych uszczelnionych i nieuszczelnionych o 50 parach zacisków w zespole. | D34: szt | E34: 2 | G34: =ROUND(E34*F34,2) -> 0
A35: =A34+1 -> 21 | C35: - Złącze odgałęŸne wspornikowe w kanalizacji na kablach o powłokach termoplastycznych - 500 par | D35: szt | E35: 1 | G35: =ROUND(E35*F35,2) -> 0
A36: =A35+1 -> 22 | C36: - Złącze odgałęŸne wspornikowe w kanalizacji na kablach o powłokach termoplastycznych - 200 par | D36: szt | E36: 1 | G36: =ROUND(E36*F36,2) -> 0
A37: =A36+1 -> 23 | C37: - Złącze odgałęŸne wspornikowe w kanalizacji na kablach o powłokach termoplastycznych - 100 par | D37: szt | E37: 1 | G37: =ROUND(E37*F37,2) -> 0
A38: =A37+1 -> 24 | C38: - Złącze równoległe wspornikowe w kanalizacji na kablach o powłokach termoplastycznych - 500 par | D38: szt | E38: 1 | G38: =ROUND(E38*F38,2) -> 0
A39: =A38+1 -> 25 | C39: - Złącze równoległe wspornikowe w kanalizacji na kablach o powłokach termoplastycznych - 200 par | D39: szt | E39: 3 | G39: =ROUND(E39*F39,2) -> 0
... A58: =A57+1 -> 44 | C58: - Pomiar tłumienności zbliżno i zdalnoprzenikowej kabla o liczbie 50 par | D58: szt | E58: 1 | G58: =ROUND(E58*F58,2) -> 0
C59: • Przebudowa kabli rozdzielczych | D59: x | E59: x | F59: x | G59: x
A60: =A58+1 -> 45 | C60: - Montaż zespołów łączówek szczelinowych jednostronnych, niezabezpieczonych uszczelnionych i nieuszczelnionych o 100 parach zacisków w zespole. | D60: szt | E60: 7 | G60: =ROUND(E60*F60,2) -> 0
A61: =A60+1 -> 46 | C61: - Montaż zespołów łączówek szczelinowych jednostronnych, niezabezpieczonych uszczelnionych i nieuszczelnionych o 50 parach zacisków w zespole. | D61: szt | E61: 1 | G61: =ROUND(E61*F61,2) -> 0
A62: =A61+1 -> 47 | C62: - Montaż zespołów łączówek szczelinowych jednostronnych, niezabezpieczonych uszczelnionych i nieuszczelnionych o 10 parach zacisków w zespole. | D62: szt | E62: 2 | G62: =ROUND(E62*F62,2) -> 0
A63: =A62+1 -> 48 | C63: - Wciąganie mechaniczne kabla XzTKMXpw 50x4x0,5 do kanalizacji kablowej, otwór wolny | D63: metr | E63: 185 | G63: =ROUND(E63*F63,2) -> 0
A64: =A63+1 -> 49 | C64: - Wciąganie mechaniczne kabla XzTKMXpw 25x4x0,5 do kanalizacji kablowej, otwór wolny | D64: metr | E64: 185 | G64: =ROUND(E64*F64,2) -> 0
A65: =A64+1 -> 50 | C65: - Wciąganie ręczne kabla XzTKMXpw 50x4x0,5 do kanalizacji kablowej otwór częściowo zajęty | D65: metr | E65: 266 | G65: =ROUND(E65*F65,2) -> 0
A66: =A65+1 -> 51 | C66: - Wciąganie ręczne kabla XzTKMXpw 25x4x0,5 do kanalizacji kablowej otwór częściowo zajęty | D66: metr | E66: 60 | G66: =ROUND(E66*F66,2) -> 0
A67: =A66+1 -> 52 | C67: - Wciąganie ręczne kabla XzTKMXpw 15x4x0,5 do kanalizacji kablowej otwór częściowo zajęty | D67: metr | E67: 370 | G67: =ROUND(E67*F67,2) -> 0
A68: =A67+1 -> 53 | C68: - Wciąganie ręczne kabla XzTKMXpw 10x4x0,5 do kanalizacji kablowej otwór częściowo zajęty | D68: metr | E68: 60 | G68: =ROUND(E68*F68,2) -> 0
A69: =A68+1 -> 54 | C69: - Wciąganie ręczne kabla XzTKMXpw 5x4x0,5 do kanalizacji kablowej otwór częściowo zajęty | D69: metr | E69: 234 | G69: =ROUND(E69*F69,2) -> 0
A70: =A69+1 -> 55 | C70: - Złącze odgałęŸne wspornikowe w kanalizacji na kablach o powłokach termoplastycznych - 100 par | D70: szt | E70: 3 | G70: =ROUND(E70*F70,2) -> 0
A71: =A70+1 -> 56 | C71: - Złącze odgałęŸne wspornikowe w kanalizacji na kablach o powłokach termoplastycznych - 30 par | D71: szt | E71: 2 | G71: =ROUND(E71*F71,2) -> 0
A72: =A71+1 -> 57 | C72: - Złącze równoległe wspornikowe w kanalizacji na kablach o powłokach termoplastycznych - 100 par | D72: szt | E72: 4 | G72: =ROUND(E72*F72,2) -> 0
... A82: =A81+1 -> 67 | C82: - Pomiary koñcowe prądem stałym kabla o liczbie 10 par | D82: szt | E82: 2 | G82: =ROUND(E82*F82,2) -> 0
C83: • Przebudowa kabli rozdzielczych | D83: x | E83: x | F83: x | G83: x
A84: =A82+1 -> 68 | C84: - Wciąganie mechaniczne kabla XzTKMXpw 100x4x0,5 do kanalizacji kablowej, otwór wolny | D84: metr | E84: 90 | G84: =ROUND(E84*F84,2) -> 0
A85: =A84+1 -> 69 | C85: - Wciąganie mechaniczne kabla XzTKMXpw 100x4x0,5 do kanalizacji kablowej, otwór wolny | D85: metr | E85: 90 | G85: =ROUND(E85*F85,2) -> 0
A86: =A85+1 -> 70 | C86: - Wciąganie mechaniczne kabla XzTKMXpw 50x4x0,5 do kanalizacji kablowej, otwór wolny | D86: metr | E86: 180 | G86: =ROUND(E86*F86,2) -> 0
A87: =A86+1 -> 71 | C87: - Wciąganie ręczne kabla XzTKMXpw 50x4x0,5 do kanalizacji kablowej otwór częściowo zajęty | D87: metr | E87: 170 | G87: =ROUND(E87*F87,2) -> 0
A88: =A87+1 -> 72 | C88: - Wciąganie ręczne kabla XzTKMXpw 50x4x0,5 do kanalizacji kablowej otwór częściowo zajęty | D88: metr | E88: 260 | G88: =ROUND(E88*F88,2) -> 0
A89: =A88+1 -> 73 | C89: - Wciąganie ręczne kabla wypełnionego w powłoce termoplastycznej do kanalizacji kablowej otwór częściowo zajęty | D89: metr | E89: 74 | G89: =ROUND(E89*F89,2) -> 0
A90: =A89+1 -> 74 | C90: - Wciąganie ręczne kabla XzTKMXpw 25x4x0,5 do kanalizacji kablowej otwór częściowo zajęty | D90: metr | E90: 180 | G90: =ROUND(E90*F90,2) -> 0
A91: =A90+1 -> 75 | C91: - Wciąganie ręczne kabla XzTKMXpw 15x4x0,8 do kanalizacji kablowej otwór częściowo zajęty | D91: metr | E91: 170 | G91: =ROUND(E91*F91,2) -> 0
A92: =A91+1 -> 76 | C92: - Wciąganie ręczne kabla XzTKMXpw 10x4x0,8 do kanalizacji kablowej otwór częściowo zajęty | D92: metr | E92: 155 | G92: =ROUND(E92*F92,2) -> 0
A93: =A92+1 -> 77 | C93: - Wciąganie ręczne kabla XzTKMXpw 5x4x0,5 do kanalizacji kablowej otwór częściowo zajęty | D93: metr | E93: 155 | G93: =ROUND(E93*F93,2) -> 0
A94: =A93+1 -> 78 | C94: - Wciąganie ręczne kabla XzTKMXpw 2x2x0,5 do kanalizacji kablowej otwór częściowo zajęty | D94: metr | E94: 30 | G94: =ROUND(E94*F94,2) -> 0
A95: =A94+1 -> 79 | C95: - Układanie ręczne kabla XzTKMXpw 25x4x0,6 w rowie kablowym w gruncie kategorii 1-2 | D95: metr | E95: 16 | G95: =ROUND(E95*F95,2) -> 0
A96: =A95+1 -> 80 | C96: - Złącze równoległe wspornikowe w kanalizacji na kablach o powłokach termoplastycznych - 200 par | D96: szt | E96: 4 | G96: =ROUND(E96*F96,2) -> 0
... A114: =A113+1 -> 98 | C114: - Pomiar tłumienności zbliżno i zdalnoprzenikowej kabla o liczbie 100 par | D114: szt | E114: 5 | G114: =ROUND(E114*F114,2) -> 0
C115: • Przebudowa kabli abonenckich | D115: x | E115: x | F115: x | G115: x
A116: =A114+1 -> 99 | C116: - Wciąganie ręczne kabla XzTKMXpw 2x2x0,5 do kanalizacji kablowej otwór częściowo zajęty | D116: metr | E116: 184 | G116: =ROUND(E116*F116,2) -> 0
A117: =A116+1 -> 100 | C117: - Układanie kabli XzTKMXpw 2x2x0,5 n.t. mocowanie paskami lub klamerkami | D117: metr | E117: 10 | G117: =ROUND(E117*F117,2) -> 0
A118: =A117+1 -> 101 | C118: - Układanie 1-go kabla XzTKMXpw 2x2x0,5 w rowie kablowym w gruncie kategorii 1-2 | D118: metr | E118: 18 | G118: =ROUND(E118*F118,2) -> 0
A119: =A118+1 -> 102 | C119: - Montaż złączy w kanlizacji lub napowietrznych rura termokurczliwa | D119: szt | E119: 7 | G119: =ROUND(E119*F119,2) -> 0
A120: =A119+1 -> 103 | C120: - Montaż uchwytów do kołków w cegle pod przewody kabelkowe | D120: metr | E120: 10 | G120: =ROUND(E120*F120,2) -> 0
A121: =A120+1 -> 104 | C121: - Badanie szczelności kabla o powłoce ołowianej nieopancerzonej na składowisku fi 30 mm | D121: szt | E121: 1 | G121: =ROUND(E121*F121,2) -> 0
A122: =A121+1 -> 105 | C122: - Pomiary koñcowe prądem stałym kabla o liczbie 10 par | D122: szt | E122: 4 | G122: =ROUND(E122*F122,2) -> 0
C123: • Przebudowa kabli optotelekomunikacyjnych TP S.A. | D123: x | E123: x | F123: x | G123: x
A124: =A122+1 -> 106 | C124: - Montaż stelaży dla zapasów kabli światłowodowych w studni | D124: szt | E124: 6 | G124: =ROUND(E124*F124,2) -> 0
A125: =A124+1 -> 107 | C125: - Wyciąganie 1-go kabla fi do 30 z kanalizacji kablowej | D125: metr | E125: 388 | G125: =ROUND(E125*F125,2) -> 0
A126: =A125+1 -> 108 | C126: - Wyciąganie kanalizacji wtórnej z kanalizacji kablowej | D126: metr | E126: 373 | G126: =ROUND(E126*F126,2) -> 0
A127: =A126+1 -> 109 | C127: - Wciąganie 1-ej rury HDPE fi 32 w zwojach ręcznie otwór wolny | D127: metr | E127: 380 | G127: =ROUND(E127*F127,2) -> 0
A128: =A127+1 -> 110 | C128: - Montaż złączy skręcanych rur HDPE fi 32 w kanalizacji | D128: szt | E128: 20 | G128: =ROUND(E128*F128,2) -> 0
A129: =A128+1 -> 111 | C129: - Badanie szczelności kabla o powłoce ołowianej nieopancerzonej na składowisku fi 30 mm | D129: szt | E129: 2 | G129: =ROUND(E129*F129,2) -> 0
A130: =A129+1 -> 112 | C130: - Wciąg kabli światł 2 km do kanal fi32 z/poślizg pneum tłoczk | D130: km | E130: 0.46 | G130: =ROUND(E130*F130,2) -> 0
A131: =A130+1 -> 113 | C131: - Mont złączy przel z muf termok na 1 kabl tub światł w kanal | D131: szt | E131: 4 | G131: =ROUND(E131*F131,2) -> 0
A132: =A131+1 -> 114 | C132: - Mont złączy przel z muf termok nast kabl tub światł w kanal | D132: szt | E132: 92 | G132: =ROUND(E132*F132,2) -> 0
A133: =A132+1 -> 115 | C133: - Pomiar reflektometryczny na bębnach z kabla 1 światłowód | D133: szt | E133: 2 | G133: =ROUND(E133*F133,2) -> 0
A134: =A133+1 -> 116 | C134: - Pomiar reflektometryczny na bębnach z kabla nast światłowód | D134: szt | E134: 46 | G134: =ROUND(E134*F134,2) -> 0
A135: =A134+1 -> 117 | C135: - Pomiar indywid tłumien optycz 1 światł met transmisyj | D135: szt | E135: 2 | G135: =ROUND(E135*F135,2) -> 0
A136: =A135+1 -> 118 | C136: - Pomiar indywid tłumien optycz nast światł met transmisyj | D136: szt | E136: 46 | G136: =ROUND(E136*F136,2) -> 0
C137: • Demontaż kanalizacji teletechnicznej | D137: x | E137: x | F137: x | G137: x
A138: =A136+1 -> 119 | C138: - Mechaniczna rozbiórka studni kablowej prefabrykowanej SK-6 | D138: szt | E138: 6 | G138: =ROUND(E138*F138,2) -> 0
A139: =A138+1 -> 120 | C139: - Mechaniczna rozbiórka studni kablowej prefabrykowanej SK-2 | D139: szt | E139: 1 | G139: =ROUND(E139*F139,2) -> 0
A140: =A139+1 -> 121 | C140: - Mechaniczna rozbiórka gardła studni kablowej SK-6 | D140: szt | E140: 6 | G140: =ROUND(E140*F140,2) -> 0
A141: =A140+1 -> 122 | C141: - Demontaż szaf kablowych | D141: kmpl | E141: 1 | G141: =ROUND(E141*F141,2) -> 0
A142: =A141+1 -> 123 | C142: - Rowy dla kanalizacji ręcznie głęb do 0,8 m szer do 0,4 m grunt kat 1-2 | D142: metr | E142: 433 | G142: =ROUND(E142*F142,2) -> 0
A143: =A142+1 -> 124 | C143: - Wyjmowanie rur PCW kanalizacji istniejącej rura 110mm | D143: metr | E143: 433 | G143: =ROUND(E143*F143,2) -> 0
A144: =A143+1 -> 125 | C144: - Ręczny zasyp rowów głęb do 0,8 m szer do 0,4 m gruntem kat 1-2 z przerzutem na odległość 3m | D144: metr | E144: 20 | G144: =ROUND(E144*F144,2) -> 0
A145: =A144+1 -> 126 | C145: - Ręczny zasyp rowów głęb do 0,8 m szer do 0,4 m gruntem kat 1-2 | D145: metr | E145: 433 | G145: =ROUND(E145*F145,2) -> 0
A146: =A145+1 -> 127 | C146: - Wywóz materiałów sypkich | D146: mł | E146: 18 | G146: =ROUND(E146*F146,2) -> 0
A147: =A146+1 -> 128 | C147: - Wywóz materiałów sypkich dodadtek za 1 km | D147: mł | E147: 18 | G147: =ROUND(E147*F147,2) -> 0
C148: • Demontaż kabli | D148: x | E148: x | F148: x | G148: x
...

Sheet 14.  Zabezpieczenie robót 
A1: ROZBUDOWA SKRZYŻOWANIA DROGI KRAJOWEJ NR 32 Z DROGĄ WOJEWÓDZKĄ NR 305 I UL. GAJEWSKICH W M. WOLSZTYN
A3: KOSZTORYS OFERTOWY
A5: Zabezpieczenie robót
A7: Lp. | B7: Wyszczególnienie elementów rozliczeniowych | C7: Jednostka | E7: Cena jesnostkowa zł. *) | F7: Wartość w zł. *)
C8: Nazwa | D8: Ilość
A10: 1. | B10: 2. | C10: 3. | D10: 4. | E10: 5. | F10: 6.
A11: 1 | B11: Tymczasowe oznakowanie zabezpieczenia robót - Etap I | C11: kompl. | D11: 1 | F11: -
A12: 2 | B12: Tymczasowe oznakowanie zabezpieczenia robót - Projekt dla Etap II | C12: kompl. | D12: 1 | F12: -
A13: 3 | B13: Tymczasowe oznakowanie zabezpieczenia robót - Etap II | C13: kompl. | D13: 1 | F13: -
E14: Razem | F14: =SUM(A14:E14) -> 0
A19: * Ceny jednostkowe należy podawać bez VAT.
