Workbook

Sheet KO - ZZK
A2: KOSZTORYS OFERTOWY
A3: Rozbudowa drogi krajowej nr 12 na odcinku od km 45+019 do km 45+227 wraz z rozbiórką mostu i budową przepustu na rzece Złota Struga
A5: Lp. | B5: Wyszczególnienie elementów rozliczeniowych | C5: Wartość netto zł
A6: [1] | B6: [2] | C6: [3]
A7: 1 | B7: Część 1 - WYMAGANIA OGÓLNE | C7: ='KO cz. 1'!G10 | D7: UWAGA : komorki wypełniają się same na podstawie danch wprowadzonych w kosztorysach częściowych (od cz. 1 do cz. 6)
A8: 2 | B8: Część 2 - GOSPODARKA ZIELENIĄ | C8: ='KO cz. 2'!G23
A9: 3 | B9: Część 3 - BRANŻA MOSTOWA | C9: ='KO cz. 3'!G54
A10: 4 | B10: Część 4 - BRANŻA DROGOWA | C10: ='KO cz. 4'!G59
A11: 5 | B11: Część 5 - BRANŻA TELEKOMUNIKACYJNA | C11: ='KO cz. 5'!G17
A12: 6 | B12: Część 6 - BRANŻA SANITARNA | C12: ='KO cz. 6'!G14
A13: RAZEM WARTOŚĆ NETTO (zł) | C13: =IF(SUM(C7:C12)=0,"",SUM(C7:C12))
A14: PODATEK VAT 23% (zł) | C14: =IF(C13="","",ROUND(C13*0.23,2))
A15: RAZEM WARTOŚĆ BRUTTO (zł) | C15: =IF(C13="","",SUM(C13:C14))
C22: podpis Wykonawcy

Sheet KO cz. 1
A2: KOSZTORYS OFERTOWY Część 1 - WYMAGANIA OGÓLNE
A4: Poz. | B4: STWIORB | C4: Wyszczególnienie elementów rozliczeniowych | D4: Jedn. | E4: Ilość | F4: Cena jedn. zł | G4: Wartość [zł]
A5: 1 | B5: 3 | C5: 4 | D5: 5 | E5: 6 | F5: 7 | G5: 8
A6: x | B6: x | C6: WYMAGANIA OGÓLNE - CPV 45100000-8 | D6: x | E6: x | F6: x | G6: x
A7: 1 | B7: DM-00.00.00. | C7: Koszt dostosowania się do wymagań ogólnych i warunków umowy | D7: ryczałt | E7: 1 | G7: =IF(F7="","",ROUND(F7*E7,2))
A8: 2 | B8: DM-00.00.00 D-01.01.00A | C8: Obsługa geodezyjna | D8: ryczałt | E8: 1 | G8: =IF(F8="","",ROUND(F8*E8,2))
A9: 3 | B9: DM-00.00.00. | C9: Prowadzenie badań archeologicznych | D9: ryczałt | E9: 1 | G9: =IF(F9="","",ROUND(F9*E9,2))
C10: RAZEM cz. 1 (NETTO) | G10: =IF(SUM(G7:G9)=0,"",SUM(G7:G9))
G18: podpis Wykonawcy

Sheet KO cz. 2
A2: KOSZTORYS OFERTOWY Część 2 - GOSPODARKA ZIELENIĄ
A4: Poz. | B4: STWIORB | C4: Wyszczególnienie elementów rozliczeniowych | D4: Jedn. | E4: Ilość | F4: Cena jedn. | G4: Wartość [zł]
A5: 1 | B5: 3 | C5: 4 | D5: 5 | E5: 6 | F5: 7 | G5: 8
A6: x | B6: D-01.00.00. | C6: ROBOTY PRZYGOTOWAWCZE - CPV 45100000-8 | D6: x | E6: x | F6: x | G6: x
A7: 1 | B7: D-01.02.01. | C7: Wycięcie drzew i karczowanie pni Ścinanie drzew piłą mechaniczną (średnica 6-15 cm) | D7: szt. | E7: 7 | G7: =IF(F7="","",ROUND(F7*E7,2))
A8: 2 | B8: D-01.02.01. | C8: Wycięcie drzew i karczowanie pni Ścinanie drzew piłą mechaniczną (średnica 16-25 cm) | D8: szt. | E8: 10 | G8: =IF(F8="","",ROUND(F8*E8,2))
A9: 3 | B9: D-01.02.01. | C9: Wycięcie drzew i karczowanie pni Ścinanie drzew piłą mechaniczną (średnica 26-35 cm) | D9: szt. | E9: 9 | G9: =IF(F9="","",ROUND(F9*E9,2))
A10: 4 | B10: D-01.02.01. | C10: Wycięcie drzew i karczowanie pni Ścinanie drzew piłą mechaniczną (średnica 36-45 cm) | D10: szt. | E10: 2 | G10: =IF(F10="","",ROUND(F10*E10,2))
A11: 5 | B11: D-01.02.01. | C11: Wycięcie drzew i karczowanie pni Ścinanie drzew piłą mechaniczną (średnica 116-125 cm) | D11: szt. | E11: 1 | G11: =IF(F11="","",ROUND(F11*E11,2))
A12: 6 | B12: D-01.02.01. | C12: Karczowanie pni Mechaniczne karczowanie pni (średnica 6-15 cm) | D12: szt. | E12: 6 | G12: =IF(F12="","",ROUND(F12*E12,2))
A13: 7 | B13: D-01.02.01. | C13: Karczowanie pni Mechaniczne karczowanie pni (średnica 16-25 cm) | D13: szt. | E13: 4 | G13: =IF(F13="","",ROUND(F13*E13,2))
A14: 8 | B14: D-01.02.01. | C14: Karczowanie pni Mechaniczne karczowanie pni (średnica 26-35 cm) | D14: szt. | E14: 12 | G14: =IF(F14="","",ROUND(F14*E14,2))
A15: 9 | B15: D-01.02.01. | C15: Karczowanie pni Mechaniczne karczowanie pni (średnica 36-45 cm) | D15: szt. | E15: 8 | G15: =IF(F15="","",ROUND(F15*E15,2))
A16: 10 | B16: D-01.02.01. | C16: Karczowanie pni Mechaniczne karczowanie pni (średnica 46-55 cm) | D16: szt. | E16: 1 | G16: =IF(F16="","",ROUND(F16*E16,2))
A17: 11 | B17: D-01.02.01. | C17: Karczowanie pni Mechaniczne karczowanie pni (średnica 56-65 cm) | D17: szt. | E17: 1 | G17: =IF(F17="","",ROUND(F17*E17,2))
A18: 12 | B18: D-01.02.01. | C18: Wylesienie pod tymczasową organizację ruchu | D18: ha | E18: 0.08 | G18: =IF(F18="","",ROUND(F18*E18,2))
A19: 13 | B19: D-01.02.01. | C19: Mechaniczne karczowanie zagajników średniej gęstości | D19: ha | E19: 0.01 | G19: =IF(F19="","",ROUND(F19*E19,2))
A20: x | B20: M.21.00.00. | C20: INNE ROBOTY DODATKOWE - CPV 45221111-3 | D20: x | E20: x | F20: x | G20: x
A21: 14 | B21: M-21.02.03. | C21: Odtworzenie gospodarki leśnej zgodnie z wytycznymi nadleśnictwa | D21: ha | E21: 0.08 | G21: =IF(F21="","",ROUND(F21*E21,2))
A22: 15 | B22: M-21.02.03. | C22: Odtworzenie warstwy gleby urodzajnej | D22: ha | E22: 0.08 | G22: =IF(F22="","",ROUND(F22*E22,2))
C23: RAZEM cz. 2 (NETTO) | G23: =IF(SUM(G7:G22)=0,"",SUM(G7:G22))
G32: podpis Wykonawcy

Sheet KO cz. 3
A2: KOSZTORYS OFERTOWY Część 3 - BRANŻA MOSTOWA
A4: Poz. | B4: Numer STWIORB | C4: Wyszczególnienie elementów rozliczeniowych | D4: Jedn. | E4: Ilość | F4: Cena jedn. | G4: Wartość [zł]
A5: 1 | B5: 3 | C5: 4 | D5: 5 | E5: 6 | F5: 7 | G5: 8
A6: x | B6: D-01.00.00. | C6: ROBOTY PRZYGOTOWAWCZE - CPV 45100000-8 | D6: x | E6: x | F6: x | G6: x
A7: 1 | B7: D-01.01.00A | C7: Wyniesienie i stabilizacja pasa drogowego | D7: km | E7: 0.37 | G7: =IF(F7="","",ROUND(F7*E7,2))
A8: 2 | B8: D-01.01.00A | C8: Wyniesienie i stabilizacja pasa drogowego | D8: szt. | E8: 15 | G8: =IF(F8="","",ROUND(F8*E8,2))
A9: 3 | B9: D-01.01.01.a | C9: Odtworzenie trasy i punktów wysokościowych oraz sporządzenie inwentaryzacji powykonawczej (dokumentacja powykonawcza) | D9: ryczałt | E9: 1 | G9: =IF(F9="","",ROUND(F9*E9,2))
A10: 4 | B10: D-01.01.01.a | C10: Odtworzenie punktu referencyjnego | D10: szt. | E10: 1 | G10: =IF(F10="","",ROUND(F10*E10,2))
A11: 5 | B11: D-01.01.02 | C11: Czasowa organizacja ruchu | D11: ryczałt | E11: 1 | G11: =IF(F11="","",ROUND(F11*E11,2))
A12: 6 | B12: M-01.02.01. | C12: Rozbiórka i skucie elementów obiektu mostowego (konstrukcje żelbetowe) | D12: m3 | E12: 199 | G12: =IF(F12="","",ROUND(F12*E12,2))
A13: 7 | B13: M-01.02.01. | C13: Rozbiórka elementów obiektu mostowego (izolacja) | D13: m2 | E13: 47 | G13: =IF(F13="","",ROUND(F13*E13,2))
A14: 8 | B14: M-01.02.01. | C14: Rozbiórka elementów obiektu mostowego (kolumn ceglanych wraz z posadowieniem oraz innych elementów inwentaryzowanych podczas wykonywania robót rozbiórkowych a nie wyszczególnionych w przedmiarze) | D14: ryczałt | E14: 1 | G14: =IF(F14="","",ROUND(F14*E14,2))
A15: x | B15: M-11.00.00. | C15: FUNDAMENTOWANIE - CPV 45221111-3 | D15: x | E15: x | F15: x | G15: x
A16: 9 | B16: M-11.01.01. | C16: Wykonanie wykopów wraz z tymczasowym zabezpieczeniem | D16: m3 | E16: 561 | G16: =IF(F16="","",ROUND(F16*E16,2))
A17: 10 | B17: M-11.01.05. | C17: Zasypanie wykopów wraz z zagęszczeniem | D17: m3 | E17: 815 | G17: =IF(F17="","",ROUND(F17*E17,2))
A18: x | B18: M-12.00.00. | C18: ZBROJENIE - CPV 45262310-7 | D18: x | E18: x | F18: x | G18: x
A19: 11 | B19: M-12.01.01. | C19: Zbrojenie stalą klasy AIII-N B500SP o wysokiej ciągliwości C | D19: t | E19: 6.2 | G19: =IF(F19="","",ROUND(F19*E19,2))
A20: x | B20: M-13.00.00. | C20: BETON - CPV 45262311-4 | D20: x | E20: x | F20: x | G20: x
A21: 12 | B21: M-13.01.00. | C21: Beton konstrukcyjny C30/37 | D21: m3 | E21: 6.7 | G21: =IF(F21="","",ROUND(F21*E21,2))
A22: 13 | B22: M-13.01.00. | C22: Beton konstrukcyjny C25/30 | D22: m3 | E22: 45.3 | G22: =IF(F22="","",ROUND(F22*E22,2))
A23: 14 | B23: M-13.02.00. | C23: Beton niekonstrukcyjny C12/15 | D23: m3 | E23: 52.3 | G23: =IF(F23="","",ROUND(F23*E23,2))
A24: 15 | B24: M-13.03.01a. | C24: Wykonanie gzymsów polimerobetonowych | D24: mb | E24: 42.3 | G24: =IF(F24="","",ROUND(F24*E24,2))
A25: x | B25: M-14.00.00. | C25: KONSTRUKCJE STALOWE - CPV 45262400-5 | D25: x | E25: x | F25: x | G25: x
A26: 16 | B26: M-14.03.00. | C26: Zakup i montaż stalowej konstrukcji z blachy falistej wraz z zabezpieczeniem antykorozyjnym oraz kotwami systemowymi | D26: szt. | E26: 1 | G26: =IF(F26="","",ROUND(F26*E26,2))
A27: 17 | B27: M-14.03.00. | C27: Wykonanie fundamentu kruszywowego | D27: m3 | E27: 68 | G27: =IF(F27="","",ROUND(F27*E27,2))
A28: 18 | B28: M-14.03.00. | C28: Wykonanie geowłókniny separacyjnej wokół fundamentu kruszywowego | D28: m2 | E28: 173 | G28: =IF(F28="","",ROUND(F28*E28,2))
A29: 19 | B29: M-14.03.00. | C29: Wykonanie ekranu ochronnego | D29: m2 | E29: 194 | G29: =IF(F29="","",ROUND(F29*E29,2))
A30: 20 | B30: M-14.03.01. | C30: Wykonanie i montaż balustrady bez elementów kotwiących | D30: t | E30: 0.73 | G30: =IF(F30="","",ROUND(F30*E30,2))
A31: x | B31: M-15.00.00. | C31: IZOLACJE I NAWIERZCHNIE - CPV 45221111-3 | D31: x | E31: x | F31: x | G31: x
A32: 21 | B32: M-15.01.02. | C32: Izolacja powłokowa elementów betonowych od strony gruntu | D32: m2 | E32: 84 | G32: =IF(F32="","",ROUND(F32*E32,2))
A33: 22 | B33: M-15.03.01. | C33: Nawierzchnia z żywic epkosydowo-poliuretanowych | D33: m2 | E33: 104 | G33: =IF(F33="","",ROUND(F33*E33,2))
A34: x | B34: M-19.00.00. | C34: URZĄDZENIA BEZPIECZEŃSTWA RUCHU - CPV 45221111-3 | D34: x | E34: x | F34: x | G34: x
A35: 23 | B35: M-19.01.01. | C35: Montaż krawężników kamiennych o wymiarach 200x200 mm wraz doszczelnieniem i podlewką niskoskurczową gr. min 20 mm oraz kotwami stalowymi | D35: mb | E35: 48 | G35: =IF(F35="","",ROUND(F35*E35,2))
A36: 24 | B36: M-19.01.01. | C36: Montaż krawężników kamiennych zanikających | D36: mb | E36: 2.4 | G36: =IF(F36="","",ROUND(F36*E36,2))
A37: 25 | B37: M-19.01.02. | C37: Montaż barier ochronnych H2W2A z pochwytami wraz z zakotwieniem, materiałem i robocizną | D37: mb | E37: 22 | G37: =IF(F37="","",ROUND(F37*E37,2))
A38: 26 | B38: M-19.01.02. | C38: Montaż barier ochronnych H2W3A z pochwytami wraz z zakotwieniem, materiałem i robocizną | D38: mb | E38: 22 | G38: =IF(F38="","",ROUND(F38*E38,2))
A39: 27 | B39: M-19.01.03. | C39: Balustrada U-11a | D39: mb | E39: 51 | G39: =IF(F39="","",ROUND(F39*E39,2))
A40: x | B40: M.20.00.00. | C40: INNE ROBOTY MOSTOWE - CPV 45221111-3 | D40: x | E40: x | F40: x | G40: x
A41: 28 | B41: M-20.01.03. | C41: Palisada z kołków drewniananych Ø100 Lmin=3,0m | D41: mb | E41: 57 | G41: =IF(F41="","",ROUND(F41*E41,2))
A42: 29 | B42: M-20.01.03. | C42: Umocnienie koryta i brzegu cieku - narzut kamienny | D42: m2 | E42: 155 | G42: =IF(F42="","",ROUND(F42*E42,2))
...

Sheet KO cz. 4
A2: KOSZTORYS OFERTOWY Część 4 - BRANŻA DROGOWA
A4: Poz. | B4: Numer STWIORB | C4: Wyszczególnienie elementów rozliczeniowych | D4: Jedn. | E4: Ilość | F4: Cena jedn. zł | G4: Wartość [zł]
A5: 1 | B5: 3 | C5: 4 | D5: 5 | E5: 6 | F5: 7 | G5: 8
A6: x | B6: D-01.00.00 | C6: 1 ROBOTY PRZYGOTOWAWCZE - CPV 45100000-8, 45112210-0, 45111300-0 | D6: x | E6: x | F6: x | G6: x
A7: x | C7: ROBOTY POMIAROWE - odtworzenie trasy i punktow wysokościowych | D7: x | E7: x | F7: x | G7: x
A8: 1 | B8: D-01.01.01 | C8: Roboty pomiarowe przy liniowych robotach ziemnych - trasa dróg w terenie równinnych | D8: km | E8: 0.42 | G8: =IF(F8="","",ROUND(F8*E8,2))
A9: x | B9: x | C9: USUNIĘCIE HUMUSU - CPV 45112210-0 | D9: x | E9: x | F9: x | G9: x
A10: 2 | B10: D-01.02.02a | C10: Usunięcie warstwy ziemi urodzajnej o gr 10 cm spycharkami z wywozem nadmiaru na wysypisko i kosztem utylizacji | D10: m2 | E10: 2542 | G10: =IF(F10="","",ROUND(F10*E10,2))
A11: x | B11: x | C11: ROBOTY ROZBIÓRKOWE - CPV 45111300-0 | D11: x | E11: x | F11: x | G11: x
A12: 3 | B12: D-01.02.04 | C12: Rozebranie mechaniczne podbudowy z mas mineralno-bitumicznych o gr 10 cm - wraz z wywozem na wysypisko i kosztem utylizacji | D12: m2 | E12: 639 | G12: =IF(F12="","",ROUND(F12*E12,2))
A13: 4 | B13: D-01.02.04 | C13: Rozebranie mechaniczne podbudowy z mas mineralno-bitumicznych o gr 20 cm - wraz z wywozem na wysypisko i kosztem utylizacji | D13: m2 | E13: 761 | G13: =IF(F13="","",ROUND(F13*E13,2))
A14: 5 | B14: D-01.02.04 | C14: Rozebranie mechaniczne nawierzchni z brukowca o wys 20cm wraz z podbudową gr 20 cm - wraz z wywozem na wysypisko i kosztem utylizacji | D14: m2 | E14: 838 | G14: =IF(F14="","",ROUND(F14*E14,2))
A15: 6 | B15: D-01.02.04 | C15: Rozebranie ścieków z elementów betonowych gr 15cm na podsypce cem-piask. - wraz z wywozem na wysypisko i kosztem utylizacji | D15: m | E15: 150 | G15: =IF(F15="","",ROUND(F15*E15,2))
A16: 7 | B16: D-01.02.04 | C16: Rozebranie barier stalowych energochłonnych - wraz z wywozem na składowisko inwestora | D16: m | E16: 131 | G16: =IF(F16="","",ROUND(F16*E16,2))
A17: x | B17: D-02.00.00 | C17: 2 ROBOTY ZIEMNE - CPV 45111200-0 | D17: x | E17: x | F17: x | G17: x
A18: x | B18: D-02.01.01 | C18: WYKOPY | D18: x | E18: x | F18: x | G18: x
A19: 8 | B19: D-02.01.01 | C19: Roboty ziemne w gruncie kat III wykonywane koparkami przedsiębiernymi o poj łyżki 0,60m3 z transportem urobku samochodami samowyładowczymi 5-10t - z wywozem na wysypisko i kosztem utylizacji | D19: m3 | E19: 581 | G19: =IF(F19="","",ROUND(F19*E19,2))
A20: x | B20: x | C20: NASYPY | D20: x | E20: x | F20: x | G20: x
A21: 9 | B21: D-02.03.01 | C21: Formowanie i zagęszczanie spycharkami nasypów z gruntu kat III-IV o wys do3m (Spycharka gąsienicowa 74kW (100KM) - pod projektowany zakres - pospółka | D21: m3 | E21: 581 | G21: =IF(F21="","",ROUND(F21*E21,2))
A22: 10 | B22: D-02.03.01 | C22: Formowanie i zagęszczanie spycharkami nasypów z gruntu kat III-IV o wys do3m (Spycharka gąsienicowa 74kW (100KM) - uzupełnienie skarp DK-12 - pospółka | D22: m3 | E22: 215 | G22: =IF(F22="","",ROUND(F22*E22,2))
A23: 11 | B23: D-02.03.01 | C23: Formowanie i zagęszczanie spycharkami nasypów z gruntu kat III-IV o wys do3m (Spycharka gąsienicowa 74kW (100KM) - objazd - pospółka | D23: m3 | E23: 1835 | G23: =IF(F23="","",ROUND(F23*E23,2))
A24: x | B24: x | C24: 3 PODBUDOWY - CPV 45112730-1 | D24: x | E24: x | F24: x | G24: x
A25: x | B25: x | C25: PODBUDOWA Z KRUSZYWA NATURALNEGO - piasek CBR>20% | D25: x | E25: x | F25: x | G25: x
A26: 12 | B26: D-04.01.01 | C26: Warstwa dolna podbudowy z kruszywa naturalnego CBR >20% o gr po zagęszczeniu 40cm - DK12 | D26: m2 | E26: 1087 | G26: =IF(F26="","",ROUND(F26*E26,2))
A27: x | B27: x | C27: PODBUDOWA Z KRUSZYWA NATURALNEGO - pospółka CBR>60% | D27: x | E27: x | F27: x | G27: x
A28: 13 | B28: D-04.04.02 | C28: Warstwa dolna podbudowy z kruszywa naturalnego CBR>60% o gr po zagęszczeniu 25cm - DK12 | D28: m2 | E28: 768 | G28: =IF(F28="","",ROUND(F28*E28,2))
A29: 14 | B29: D-04.04.02 | C29: Warstwa dolna podbudowy z kruszywa naturalnego CBR>60% o gr po zagęszczeniu 15cm - DK12 | D29: m2 | E29: 166 | G29: =IF(F29="","",ROUND(F29*E29,2))
A30: x | B30: D-04.04.02 | C30: PODBUDOWA Z KRUSZYWA MINERALNEGO ŁAMANEGO C90/3 STABILIZOWANEGO MECHANICZNIE | D30: x | E30: x | F30: x | G30: x
A31: 15 | C31: Warstwa dolna podbudowy z kruszywa łamanego 0-31,5 mm C90/3 o gr po zagęszczeniu 20cm - objazd + zjazd leśny | D31: m2 | E31: 1468 | G31: =IF(F31="","",ROUND(F31*E31,2))
A32: x | B32: D-04.07.01 | C32: PODBUDOWA Z MIESZANKI MINERALNO BITUMICZNEJ AC22P | E32: x | F32: x | G32: x
A33: 16 | B33: D-04.07.01A | C33: Warstwa wiążąca mineralno-bitumicz. grysowo-żwirowa AC22P o gr po zagęszczeniu 10 cm | D33: m2 | E33: 800 | G33: =IF(F33="","",ROUND(F33*E33,2))
A34: 17 | B34: D-04.07.01A | C34: Warstwa wiążąca mineralno-bitumicz. grysowo-żwirowa AC22P o gr po zagęszczeniu 7cm - objazd | D34: m2 | E34: 506 | G34: =IF(F34="","",ROUND(F34*E34,2))
A35: x | B35: x | C35: 4 NAWIERZCHNIE - CPV 45112730-1 | D35: x | E35: x | F35: x | G35: x
A36: x | B36: x | C36: NAWIERZCHNIA Z BETONU ASFALTOWEGO AC16W + AC11S | D36: x | E36: x | F36: x | G36: x
A37: 18 | B37: D-05.03.05B | C37: Warstwa wiążąca mineralno-bitumicz. grysowo-żwirowa AC16W o gr po zagęszczeniu 6cm | D37: m2 | E37: 1486 | G37: =IF(F37="","",ROUND(F37*E37,2))
A38: 19 | B38: D-05.03.05B | C38: Warstwa wiążąca mineralno-bitumicz. grysowo-żwirowa AC16W o gr po zagęszczeniu 5cm - objazd | D38: m2 | E38: 496 | G38: =IF(F38="","",ROUND(F38*E38,2))
A39: 20 | B39: D-05.03.13 | C39: Nawierzchnia z mieszanek mineralno-bitumicznych grysowo-żwirowych z warstwą ścieralną SMA11 o gr po zagęszczeniu 4cm - DK12 + zjazd | D39: m2 | E39: 1442 | G39: =IF(F39="","",ROUND(F39*E39,2))
A40: 21 | B40: D-05.03.13 | C40: Nawierzchnia z mieszanek mineralno-bitumicznych grysowo-żwirowych z warstwą ścieralną AC11S o gr po zagęszczeniu 4cm - objazd | D40: m2 | E40: 481 | G40: =IF(F40="","",ROUND(F40*E40,2))
A41: x | B41: x | C41: WZMOCNIENIE PODŁOŻA GEOSIATKĄ | D41: x | E41: x | F41: x | G41: x
A42: 22 | B42: D-05.03.26i | C42: Wzmocnienie podłoża geosiatką > 70kN/m - układanymi mechanicznie prostopadle do osi drogi | D42: m2 | E42: 116 | G42: =IF(F42="","",ROUND(F42*E42,2))
...

Sheet KO cz. 5
A2: KOSZTORYS OFERTOWY Część 5 - BRANŻA TELEKOMUNIKACYJNA
A4: Poz. | B4: Numer STWIORB | C4: Wyszczególnienie elementów rozliczeniowych | D4: Jedn. | E4: Ilość | F4: Cena jedn. zł | G4: Wartość [zł]
A5: 1 | B5: 3 | C5: 4 | D5: 5 | E5: 6 | F5: 7 | G5: 8
A6: x | B6: x | C6: PRZEBUDOWA KABLI DOZIEMNYCH - CPV 45232310-8 | D6: x | E6: x | F6: x | G6: x
A7: 1 | B7: D-01.03.04. | C7: Budowa kanalizacji kablowej pierwotnej z rur z tworzyw sztucznych w wykopie wykonanym machanicznie w gruncie kategorii III, 1 warstwa i 1 otwór w ciągu kanalizacji, 1 rura w warstwie | D7: m | E7: 55 | G7: =IF(F7="","",ROUND(F7*E7,2))
A8: 2 | B8: D-01.03.04. | C8: Układanie kabla wypełnionego w rowie kablowym wykonanym ręcznie, grunt kategorii III, kabel o średnicy 30-50 mm, 1 kabel | D8: m | E8: 209 | G8: =IF(F8="","",ROUND(F8*E8,2))
A9: 3 | B9: D-01.03.04. | C9: Układanie kabla wypełnionego w rowie kablowym wykonanym ręcznie, grunt kategorii III, kabel o średnicy 30-50 mm, każdy następny kabel | D9: m | E9: 100 | G9: =IF(F9="","",ROUND(F9*E9,2))
A10: 4 | B10: D-01.03.04. | C10: Montaż złączy równoległych kabli wypełnionych typu kanałowego ułożonych w ziemi z zastosowaniem pojedynczych łączników żył i termokurczliwych osłon wzmocnionych, kabel o 100 parach | D10: złącze | E10: 4 | G10: =IF(F10="","",ROUND(F10*E10,2))
A11: 5 | B11: D-01.03.04. | C11: Wyłączenie kabla równoległego ze złącza kabla wypełnionego ułożonego w ziemi z zastosowaniem termokurczliwych osłon wzmocnionych, kabel o 100 parach | D11: złącze | E11: 4 | G11: =IF(F11="","",ROUND(F11*E11,2))
A12: 6 | B12: D-01.03.04. | C12: Pomiary końcowe prądem stałym, kabel o liczbie par·100 | D12: odcinek | E12: 2 | G12: =IF(F12="","",ROUND(F12*E12,2))
A13: x | B13: x | C13: BUDOWA KANAŁU TECHNOLOGICZNEGO - CPV 45232310-8 | D13: x | E13: x | F13: x | G13: x
A14: 7 | B14: D-01.03.04. | C14: Budowa studni kablowych prefabrykowanych rozdzielczych SKR, typ SKR-2, grunt kategorii III | D14: szt | E14: 2 | G14: =IF(F14="","",ROUND(F14*E14,2))
A15: 8 | B15: D-01.03.04. | C15: Budowa kanalizacji kablowej pierwotnej z rur z tworzyw sztucznych w wykopie wykonanym machanicznie w gruncie kategorii III, 1 warstwa i 1 otwór w ciągu kanalizacji, 1 rura w warstwie | D15: m | E15: 30 | G15: =IF(F15="","",ROUND(F15*E15,2))
A16: 9 | B16: D-01.03.04. | C16: Budowa rurociągu kablowego na głębokości 1·m w wykopie wykonanym ręcznie, grunt kategorii III, HDPE Fi·40·mm w zwojach, dodatek za każdą następną rurę w rurociągu | D16: km | E16: 0.12 | G16: =IF(F16="","",ROUND(F16*E16,2))
C17: RAZEM CZ. 5. (NETTO) | G17: =IF(SUM(G7:G16)=0,"",SUM(G7:G16))
G27: podpis Wykonawcy

Sheet KO cz. 6
A2: KOSZTORYS OFERTOWY CZĘŚĆ 6 - BRANŻA SANITARNA
A4: Poz. | B4: Numer STWIORB | C4: Wyszczególnienie elementów rozliczeniowych | D4: Jedn. | E4: Ilość | F4: Cena jedn. | G4: Wartość [zł]
A5: 1 | B5: 3 | C5: 4 | D5: 5 | E5: 6 | F5: 7 | G5: 8
A6: x | B6: x | C6: ODWODNIENIE KORPUSU DROGOWEGO - CPV 45232452-5 | D6: x | E6: x | F6: x | G6: x
A7: 1 | B7: D-03.02.01. | C7: Zakup i montaż wpustów ulicznych żeliwnych | D7: szt. | E7: 5 | G7: =IF(F7="","",ROUND(F7*E7,2))
A8: 2 | B8: D-03.02.01. | C8: Zakup i montaż studni PP ф425 | D8: szt | E8: 5 | G8: =IF(F8="","",ROUND(F8*E8,2))
A9: 3 | B9: D-03.02.01. | C9: Zakup i montaż studni z kręgów betonowych DN1200 | D9: szt | E9: 2 | G9: =IF(F9="","",ROUND(F9*E9,2))
A10: x | B10: x | C10: INNE ROBOTY MOSTOWE - CPV 45221111-3 | D10: x | E10: x | F10: x | G10: x
A11: 4 | B11: M-20.04.01. | C11: Prefabrykowane wyloty przykanalików | D11: szt | E11: 5 | G11: =IF(F11="","",ROUND(F11*E11,2))
A12: x | B12: x | C12: ODWODNIENIE - CPV 45232452-5 | D12: x | E12: x | F12: x | G12: x
A13: 5 | B13: M-26.02.04. | C13: Przykanaliki odprowadzające wody opadowe z wpustów/ nawierzchni drogi PCV DN200 | D13: mb | E13: 43 | G13: =IF(F13="","",ROUND(F13*E13,2))
C14: RAZEM cz. 6 (NETTO) | G14: =IF(SUM(G7:G13)=0,"",SUM(G7:G13))
G21: podpis Wykonawcy
