Workbook

Sheet 0_TWES
A1: „Rozbudowa skrzyżowania DK 82 z drogą gminną nr 112402L (ul. Dębowej) i drogą gminną 112421L (ul. Świerkowej) w miejscowości Turka wraz z podłączeniem do węzła „Lublin Tatary” na obwodnicy Lublina w ciągu drogi ekspresowej S17 wraz z uzyskaniem pozwolenia na użytkowanie oraz budowa parkingu typu Park & Ride wraz z dojazdami, dojściami i infrastrukturą techniczną„ CZĘŚĆ 2
A3: TABELA WARTOŚCI ELEMENTÓW SCALONYCH
A5: Lp. | B5: BRANŻA | D5: KOSZTY [zł]
A6: 1 | B6: 2 | D6: 3
A7: I | B7: DROGOWA | D7: ='I_drogowa '!G127 -> 0
A8: II | B8: TELEKOMUNIKACYJNA (usunięcie kolizji) | D8: =II_telekomunikacyjna_kolizje!G55 -> 0
A9: III | B9: ELEKTROENERGETYCZNA (budowa oświetlenia drogowego) | D9: =III_elektroenergetyczna_oświetl!G38 -> 0
A10: IV | B10: BRANŻA ELEKTROENERGETYCZNA (usunięcie kolizji elektroenergetycznych) | D10: =IV_elektroenergetyczna_kolizje!G35 -> 0
A11: V | B11: BRANŻA SANITARNA (budowa kanału deszczowego) | D11: =V_sanitarna_kanalizacja!G41 -> 0
B12: WARTOŚĆ NETTO | D12: =SUM(D7:D11) -> 0
B13: PODATEK VAT 23% | D13: =D12*0.23 -> 0
B14: WARTOŚĆ BRUTTO | D14: =D12+D13 -> 0
B20: ……………………………………………………. | D20: …………………………………………………………………..
B21: Pieczęć firmowa oferenta | D21: Podpis upoważnionego przedstawiciela oferenta
A26: Data: …………………………………….

Sheet I_drogowa 
A1: KOSZTORYS OFERTOWY „Rozbudowa skrzyżowania DK 82 z drogą gminną nr 112402L (ul. Dębowej) i drogą gminną 112421L (ul. Świerkowej) w miejscowości Turka wraz z podłączeniem do węzła „Lublin Tatary” na obwodnicy Lublina w ciągu drogi ekspresowej S17 wraz z uzyskaniem pozwolenia na użytkowanie oraz budowa parkingu typu Park & Ride wraz z dojazdami, dojściami i infrastrukturą techniczną„ BRANŻA DROGOWA - CZĘŚĆ 2
A3: Lp. | B3: Podstawa | C3: Opis | D3: Jedn.obm. | E3: Ilość | F3: Cena jedn. | G3: Wartość
A4: 1 | B4: 2 | C4: 3 | D4: 4 | E4: 5 | F4: 6 | G4: 7
A5: 1 | B5: D 01.00.00 ROBOTY PRZYGOTOWAWCZE
A6: 1.1 | B6: D 01.01.01a 45233000-9 | C6: D 01.01.01a Odtworzenie (wyznaczenie) trasy i punktów wysokościowych oraz sporządzenie inwentaryzacji powykonawczej drogi
A7: 1 d.1.1 | C7: Roboty pomiarowe przy liniowych robotach ziemnych - koryta pod nawierzchnie dróg i jej elementów w tym obsługa geodezyjna inwestycji wraz z wykonaniem niwelet warstw konstrukcyjnych nawierzchni oraz zarejestrowaniem inwentaryzacji powykonawczej w Ośrodku Geodezyjnym | D7: km | E7: 0.3 | G7: =E7*F7 -> 0
A8: 1.2 | B8: D 01.02.01 45233000-9 | C8: D 01.02.01 Usunięcie drzew i krzewów
A9: 2 d.1.2 | C9: Mechaniczne ścinanie drzew z karczowaniem pni o średnicy do 25 cm | D9: szt. | E9: 4 | G9: =E9*F9 -> 0
A10: 3 d.1.2 | C10: Mechaniczne ścinanie drzew z karczowaniem pni o średnicy 56-65 cm | D10: szt. | E10: 1 | G10: =E10*F10 -> 0
A11: 4 d.1.2 | C11: Wywożenie dłużyc na teren bazy materiałowej Inwestora | D11: mp | E11: 1.4 | G11: =E11*F11 -> 0
A12: 5 d.1.2 | C12: Wywożenie karpiny - zagospodarowanie przez Wykonawcę | D12: mp | E12: 0.9 | G12: =E12*F12 -> 0
A13: 6 d.1.2 | C13: Wywożenie gałęzi - zagospodarowanie przez Wykonawcę | D13: mp | E13: 2.6 | G13: =E13*F13 -> 0
A14: 1.3 | B14: D 01.02.02 45112210-0 | C14: D 01.02.02 Zdjęcie warstwy humusu
A15: 7 d.1.3 | C15: Mechaniczne usunięcie ziemi urodzajnej (humusu) o grubości do 15 cm wraz z wywozem | D15: m2 | E15: 2812 | G15: =E15*F15 -> 0
A16: 8 d.1.3 | C16: Mechaniczne usunięcie ziemi urodzajnej (humusu) o grubości do 15 cm wraz z wywozem (tymczasowa droga dojazdowa oraz dojście dla pieszych) | D16: m2 | E16: 1908 | G16: =E16*F16 -> 0
A17: 1.4 | B17: D 01.02.04 45111100-9 | C17: D 01.02.04 Rozbiórki elementów dróg, ogrodzeń, przepustów i inne
A18: 9 d.1.4 | C18: Rozebranie mechanicznie nawierzchni bitumicznej śr. gr. 4 cm - warstwa ścieralna (skrzyżowania, droga wewnętrzna) - materiał do zagospodarowania przez Wykonawcę | D18: m2 | E18: 81 | G18: =E18*F18 -> 0
A19: 10 d.1.4 | C19: Rozebranie mechanicznie podbudowy z kruszywa śr. gr. 15 cm (skrzyżowania, zjazdy, ul. Świerkowa, droga wewnętrzna) - materiał do zagospodarowania przez Wykonawcę | D19: m2 | E19: 319 | G19: =E19*F19 -> 0
A20: 11 d.1.4 | C20: Rozebranie mechanicznie podbudowy z kruszywa stabilizowanego cementem śr. gr. 20 cm (skrzyżowania, zjazdy, ul. Świerkowa, droga wewnętrzna) - materiał do zagospodarowania przez Wykonawcę | D20: m2 | E20: 319 | G20: =E20*F20 -> 0
A21: 12 d.1.4 | C21: Rozebranie mechanicznie podbudowy z kruszywa stabilizowanego cementem śr. gr. 10 cm (chodnik) - materiał do zagospodarowania przez Wykonawcę | D21: m2 | E21: 143 | G21: =E21*F21 -> 0
A22: 13 d.1.4 | C22: Rozebranie nawierzchni dróg gminnych (ul. Świerkowa) z kostki betonowej na podsypce cementowo - piaskowej (oczyszczenie materiału z rozbiórki wraz z ułożeniem na paletach - materiał do przekazania Właścicielowi) | D22: m2 | E22: 106 | G22: =E22*F22 -> 0
A23: 14 d.1.4 | C23: Rozebranie nawierzchni chodnika z kostki betonowej na podsypce cementowo - piaskowej (oczyszczenie materiału z rozbiórki wraz z ułożeniem na paletach - materiał do przekazania Właścicielowi) | D23: m2 | E23: 143 | G23: =E23*F23 -> 0
A24: 15 d.1.4 | C24: Rozebranie nawierzchni chodnika z kostki betonowej na podsypce cementowo - piaskowej (oczyszczenie materiału z rozbiórki - materiał do ponownego wykorzystania) - regulacja wysokościowa nawierzchni chodnika | D24: m2 | E24: 81 | G24: =E24*F24 -> 0
A25: 16 d.1.4 | C25: Rozebranie nawierzchni zjazdów z kostki betonowej na podsypce cementowo - piaskowej (oczyszczenie materiału z rozbiórki wraz z ułożeniem na paletach - materiał do przekazania Właścicielowi) | D25: m2 | E25: 19 | G25: =E25*F25 -> 0
A26: 17 d.1.4 | C26: Rozebranie nawierzchni zjazdów z kostki betonowej na podsypce cementowo - piaskowej (oczyszczenie materiału z rozbiórki) - materiał do ponownego wykorzystania - regulacja wysokościowa nawierzchni zjazdów | D26: m2 | E26: 113 | G26: =E26*F26 -> 0
A27: 18 d.1.4 | C27: Rozebranie nawierzchni z płytek betonowych - materiał do zagospodarowania przez Wykonawcę | D27: m2 | E27: 164 | G27: =E27*F27 -> 0
A28: 19 d.1.4 | C28: Rozebranie krawężników betonowych na podsypce cementowo - piaskowej - materiał do zagospodarowania przez Wykonawcę | D28: m | E28: 295 | G28: =E28*F28 -> 0
A29: 20 d.1.4 | C29: Rozebranie krawężników betonowych (obramowanie zjazdu) na podsypce cementowo - piaskowej - materiał do zagospodarowania przez Wykonawcę | D29: m | E29: 35 | G29: =E29*F29 -> 0
... A33: 24 d.1.4 | C33: Rozebranie tablic znaków drogowych (materiał do przekazania Zarządcy drogi) | D33: szt. | E33: 12 | G33: =E33*F33 -> 0
A34: 2 | B34: D 02.00.00 ROBOTY ZIEMNE
A35: 2.1 | B35: D 02.01.01 45111000-8 | C35: D 02.01.01 Wykonanie wykopów w gruntach kat. III
A36: 25 d.2.1 | C36: Wykonanie wykopów mechanicznie w gr. kat. III-IV wraz z transportem urobku na nasyp na odl. do 1 km (teren robót) | D36: m3 | E36: 380 | G36: =E36*F36 -> 0
A37: 26 d.2.1 | C37: Wykonanie wykopów mechanicznie w gruncie kat. III wraz z transportem urobku na odkład (zagospodarowanie nadmiaru wykopu przez Wykonawcę) | D37: m3 | E37: 639 | G37: =E37*F37 -> 0
A38: 27 d.2.1 | C38: Plantowanie (obrobienie na czysto) powierzchni skarp i terenów zieleni w wykopie – grunt kat. III | D38: m2 | E38: 159 | G38: =E38*F38 -> 0
A39: 2.2 | B39: D 02.03.01 45111000-8 | C39: D 02.03.01 Wykonanie nasypów w gruntach kat. III
A40: 28 d.2.2 | C40: Wykonanie nasypów mechanicznie z gruntu kat. III pozyskanego z wykopu przez Wykonawcę wraz z formowaniem i zagęszczaniem | D40: m3 | E40: 380 | G40: =E40*F40 -> 0
A41: 29 d.2.2 | C41: Plantowanie (obrobienie na czysto) powierzchni skarp i terenów zieleni w nasypie – grunt kat. III | D41: m2 | E41: 659 | G41: =E41*F41 -> 0
A42: 3 | B42: D 03.00.00 ODWODNIENIE KORPUSU DROGOWEGO
A43: 3.1 | B43: D 03.02.01a 45232000-2 | C43: D 03.02.01a Regulacja pionowa studzienek dla urządzeń podziemnych
A44: 30 d.3.1 | C44: Regulacja pionowa studni kanalizacji sanitarnej do rzędnych projektowanych | D44: szt. | E44: 3 | G44: =E44*F44 -> 0
...

Sheet II_telekomunikacyjna_kolizje
A1: KOSZTORYS OFERTOWY „Rozbudowa skrzyżowania DK 82 z drogą gminną nr 112402L (ul. Dębowej) i drogą gminną 112421L (ul. Świerkowej) w miejscowości Turka wraz z podłączeniem do węzła „Lublin Tatary” na obwodnicy Lublina w ciągu drogi ekspresowej S17 wraz z uzyskaniem pozwolenia na użytkowanie oraz budowa parkingu typu Park & Ride wraz z dojazdami, dojściami i infrastrukturą techniczną„ BRANŻA TELEKOMUNIKACYJNA (USUNIĘCIE KOLIZJI) - CZĘŚĆ 2
A3: Lp. | B3: Podstawa Nr spec.techn. | C3: Opis | D3: Jedn. obm. | E3: Ilość | F3: Cena jedn.*) | G3: Wartość *)
A4: 1 | B4: 2 | C4: 3 | D4: 4 | E4: 5 | F4: 6 | G4: 7
A5: 1 | B5: Budowa kanalizacji kablowej pierwotnej Orange
A6: 1.1 | B6: 2.2, 5.5 | C6: Budowa studni kablowych prefabrykowanych rozdzielczych SKO, typ SKO-2g, grunt kategorii III | D6: szt | E6: 4 | G6: =E6*F6 -> 0
A7: 1.2 | B7: 2.2, 5.5 | C7: Budowa studni kablowych rozdzielczych SKR z gotowej mieszanki betonowej, typ SKR-1, grunt kategorii III | D7: szt | E7: 3 | G7: =E7*F7 -> 0
A8: 1.3 | B8: 2.2, 5.5 | C8: Wykonanie na budowie mieszanki betonowej do budowy studni kablowych i gardeł dodatkowych | D8: szt | E8: 1 | G8: =E8*F8 -> 0
A9: 1.4 | B9: 2.2, 5.5 | C9: Budowa gardeł dodatkowych z gotowej mieszanki betonowej, SK-2, grunt kategorii III | D9: szt | E9: 1 | G9: =E9*F9 -> 0
A10: 1.5 | B10: 2.1, 5.3 | C10: Budowa kanalizacji kablowej pierwotnej z rur z tworzyw sztucznych w wykopie wykonanym machanicznie w gruncie kategorii III, 1 warstwa i 2 otwory w ciągu kanalizacji, 2 rury w warstwie | D10: m | E10: 127.5 | G10: =E10*F10 -> 0
A11: 1.6 | B11: 2.1, 5.3 | C11: Budowa kanalizacji kablowej z rur z tworzyw sztucznych w wykopie wykonanym ręcznie w gruncie kategorii III, warstwy X rury/warstwa = 1x2, suma otworów: 2 | D11: m | E11: 88.5 | G11: =E11*F11 -> 0
A12: 1.7 | B12: 2.1, 5.3 | C12: Wykonanie przepustów pod drogami i torami, prostoliniowo, przewiertem mechaniczno-hydraulicznym, z wpychaniem rur stalowych (kategoria gruntu III-IV), długość do 10·m, rura stalowa 133·mm, nakłady częściowe liczone na 1·m | D12: m | E12: 20 | G12: =E12*F12 -> 0
A13: 1.8 | B13: 2.1, 5.3 | C13: Wykonanie przepustów pod drogami i torami, prostoliniowo, przewiertem mechaniczno-hydraulicznym, z wpychaniem rur stalowych (kategoria gruntu III-IV), dodatek za każdy 1·m długości ponad 10·m, rura stalowa 133·mm | D13: m | E13: 23.5 | G13: =E13*F13 -> 0
A14: 1.9 | B14: 2.1, 5.4 | C14: Układanie rur ochronnych w wykopie | D14: m | E14: 11 | G14: =E14*F14 -> 0
A15: 1.10 | B15: 2.1, 5.4 | C15: Uszczelnienie końców rur ochronnych R = 0,955 M = 1,000 S = 1,000 | D15: szt | E15: 22 | G15: =E15*F15 -> 0
A16: 2 | B16: Przebudowa kabli miedzianych Orange
A17: 2.1 | B17: 2.7, 5.11 | C17: Montaż słupka rozdzielczego zakopywanego | D17: szt | E17: 1 | G17: =E17*F17 -> 0
A18: 2.2 | B18: 2.8, 5.10 | C18: Montaż uziomów szpilkowych miedziowanych, metoda udarowa, grunt kategorii III, każde następne 1,5 m głębokości | D18: szt | E18: 1 | G18: =E18*F18 -> 0
A19: 2.3 | B19: 2.4, 5.7 | C19: Wciąganie kabla w powłoce termoplastycznej do kanalizacji kablowej, ręczne, otwór częściowo zajęty, średnica kabla do 30·mm | D19: m | E19: 396 | G19: =E19*F19 -> 0
A20: 2.4 | B20: 2.4, 5.7, 5.9 | C20: Wciąganie kabla do rury w słupku kablowym, średnica wciąganego kabla 15·mm | D20: m | E20: 25 | G20: =E20*F20 -> 0
A21: 2.5 | B21: 2.5, 5.8 | C21: Ręczne lub mechaniczne wylewanie wody ze studni kablowych, ręcznie | D21: m3 | E21: 1 | G21: =E21*F21 -> 0
A22: 2.6 | B22: 2.5, 5.8 | C22: Otwarcie i zamknięcie złączy odgałęźnych lub równoległych kabli wypełnionych ułożonych w kanalizacji kablowej z zastosow. termokurczliwych osłon wzmocnionych, złącze z jednym kablem odgałęźnym na kablu o 20 parach | D22: złącze | E22: 1 | G22: =E22*F22 -> 0
A23: 2.7 | B23: 2.5, 5.8 | C23: Otwarcie i zamknięcie złączy odgałęźnych lub równoległych kabli wypełnionych ułożonych w kanalizacji kablowej z zastosow. termokurczliwych osłon wzmocnionych, dodatek za każdy następny kabel odgałęźny w złączu na kablu o 10 parach | D23: złącze | E23: 2 | G23: =E23*F23 -> 0
A24: 2.8 | B24: 2.5, 5.8 | C24: Montaż złączy równoległych kabli wypełnionych typu kanałowego ułożonych w ziemi z zastosowaniem pojedynczych łączników żył i termokurczliwych osłon wzmocnionych, kabel o 2 parach | D24: złącze | E24: 5 | G24: =E24*F24 -> 0
A25: 2.9 | B25: 2.5, 5.8 | C25: Wyłączenie kabla równoległego ze złącza kabla wypełnionego ułożonego w ziemi z zastosowaniem termokurczliwych osłon wzmocnionych, kabel o 2 parach | D25: złącze | E25: 5 | G25: =E25*F25 -> 0
A26: 2.10 | B26: 5.9 | C26: Montaż zespołów łączówek szczelinowych 2-stronnych, zabezpieczonych, łączówki w zespole o 10 parach zacisków | D26: szt | E26: 1 | G26: =E26*F26 -> 0
A27: 2.11 | B27: 5.9 | C27: Krosowanie obwodów w skrzynce kablowej | D27: obwód | E27: 5 | G27: =E27*F27 -> 0
A28: 2.12 | B28: 5.12 | C28: Numerowanie kabli, w studni kablowej | D28: numer | E28: 15 | G28: =E28*F28 -> 0
... A32: 2.16 | B32: 6.2 | C32: Pomiar rezystancji uziomu lub linki odgromowej R = 0,955 M = 1,000 S = 1,000 | D32: szt | E32: 1 | G32: =E32*F32 -> 0
A33: 3 | B33: Przebudowa kabla światłowodowego Orange
A34: 3.1 | B34: 2.1, 5.3 | C34: Wciąganie rur kanalizacji wtórnej sprzętem mechanicznym, otwór wolny, rury w zwojach, 2xFi·32·mm | D34: m | E34: 260 | G34: =E34*F34 -> 0
A35: 3.2 | B35: 2.5, 5.8 | C35: Ręczne lub mechaniczne wylewanie wody ze studni kablowych, ręcznie | D35: m3 | E35: 1 | G35: =E35*F35 -> 0
A36: 3.3 | B36: 2.5, 5.8 | C36: Mufy złączowe przelotowe kabli światłowodowych w kanalizacji kablowej, otwarcie mufy zamkniętej na stałe zapinanej | D36: złącze | E36: 1 | G36: =E36*F36 -> 0
A37: 3.4 | B37: 2.3, 5.7 | C37: Wyciąganie kabla w powłoce termoplastycznej z kanalizacji kablowej, otwór z 1-kablem, kabel do Fi·30·mm | D37: m | E37: 436 | G37: =E37*F37 -> 0
A38: 3.5 | B38: 2.3, 5.7 | C38: Wciąganie kabli światłowodowych do kanalizacji wtórnej z rur HDPE Fi·32·mm metodą pneumatyczną strumieniową, rury z warstwą poślizgową, kabel w odcinkach 2·km | D38: km | E38: 0.446 | G38: =E38*F38 -> 0
A39: 3.6 | B39: 2.5, 2.6, 5.8 | C39: Spawanie kabla światłowodowego w mufie w kanalizacji kablowej. Kabel światłowodowy, jednomodowy | D39: spaw | E39: 48 | G39: =E39*F39 -> 0
A40: 3.7 | C40: Mufy złączowe przelotowe kabli światłowodowych w kanalizacji kablowej, zamknięcie na stałe mufy zapinanej | D40: złącze | E40: 1 | G40: =E40*F40 -> 0
A41: 3.8 | B41: 5.3 | C41: Montaż złączy rur polietylenowych w kanalizacji, rury HDPE Fi·32·mm, złączki skręcane | D41: szt | E41: 2 | G41: =E41*F41 -> 0
A42: 3.9 | B42: 5.12 | C42: Numerowanie kabli, w studni kablowej | D42: numer | E42: 12 | G42: =E42*F42 -> 0
A43: 3.10 | B43: 6.5 | C43: Pomiary reflektometryczne linii światłowodowych, pomiary montażowe z przełącznicy, mierzony 1 światłowód | D43: odcinek | E43: 1 | G43: =E43*F43 -> 0
A44: 3.11 | B44: 6.5 | C44: Pomiary tłumienności optycznej linii światłowodowych metodą transmisyjną, pomiar indywidualny, mierzony 1 światłowód | D44: odcinek | E44: 1 | G44: =E44*F44 -> 0
...

Sheet III_elektroenergetyczna_oświetl
A1: KOSZTORYS OFERTOWY „Rozbudowa skrzyżowania DK 82 z drogą gminną nr 112402L (ul. Dębowej) i drogą gminną 112421L (ul. Świerkowej) w miejscowości Turka wraz z podłączeniem do węzła „Lublin Tatary” na obwodnicy Lublina w ciągu drogi ekspresowej S17 wraz z uzyskaniem pozwolenia na użytkowanie oraz budowa parkingu typu Park & Ride wraz z dojazdami, dojściami i infrastrukturą techniczną„ BRANŻA ELEKTROENERGETYCZNA (BUDOWA OŚWIETLENIA DROGOWEGO) - CZĘŚĆ 2
A3: Lp. | B3: Podstawa Nr spec.techn. | C3: Opis | D3: Jedn. obm. | E3: Ilość | F3: Cena jedn.*) | G3: Wartość *)
A4: 1 | B4: 2 | C4: 3 | D4: 4 | E4: 5 | F4: 6 | G4: 7
A5: 1 | B5: 45111000-8 Budowa linii zasilających szafki oświetlenia drogowego
A6: 1.1 | B6: D 07.07.01 | C6: Kopanie rowów dla kabli w sposób ręczny w gruncie kat. III | D6: m3 | E6: =141 * 0.8 * 0.4 -> 45.12 | G6: =E6*F6 -> 0
A7: 1.2 | B7: D 07.07.01 | C7: Zasypanie rowów dla kabli, ręcznie, grunt kategorii III | D7: m3 | E7: =141 * 0.8 * 0.4 -> 45.12 | G7: =E7*F7 -> 0
A8: 1.3 | B8: D 07.07.01 | C8: Nasypanie warstwy piasku na dnie rowu kablowego, szerokość do 0,4 m Krotność = 2 | D8: m | E8: 141 | G8: =E8*F8 -> 0
A9: 1.4 | B9: D 07.07.01 | C9: Wykopy pionowe ręczne dla urządzenia przeciskowego wraz z jego zasypaniem, grunt nienawodniony, kategorii III-IV | D9: m3 | E9: 4 | G9: =E9*F9 -> 0
A10: 1.5 | B10: D 07.07.01 | C10: Wykonanie sciany oporowej, dla sił nacisku do 25 t (1 płyta) | D10: szt | E10: 2 | G10: =E10*F10 -> 0
A11: 1.6 | B11: D 07.07.01 | C11: Przewierty mechaniczne dla rur pod obiektami (pierwsza w wiązce) | D11: m | E11: 16 | G11: =E11*F11 -> 0
A12: 1.7 | B12: D 07.07.01 | C12: Ułożenie rur osłonowych RHDPE 75/4,5 | D12: m | E12: 15 | G12: =E12*F12 -> 0
A13: 1.8 | B13: D 07.07.01 | C13: Ułożenie rur osłonowych RHDPE 75/3 | D13: m | E13: 18 | G13: =E13*F13 -> 0
A14: 1.9 | B14: D 07.07.01 | C14: Układanie kabli w rowach kablowych - ręcznie, kabel do 3,0 kg/m, przykrycie folią - kabel YAKXS 4x35 | D14: m | E14: 116 | G14: =E14*F14 -> 0
A15: 1.10 | B15: D 07.07.01 | C15: Układanie kabli w rurach, pustakach lub kanałach zamkniętych, kabel do 3,0 kg/m - kabel YAKXS 4x35 | D15: m | E15: 4 | G15: =E15*F15 -> 0
A16: 1.11 | B16: D 07.07.01 | C16: Zarobienie na sucho końca kabla 4-żyłowego o przekroju żył do 50 mm2 na napięcie do 1 kV o izolacji i powłoce z tworzyw sztucznych | D16: szt. | E16: 1 | G16: =E16*F16 -> 0
A17: 2 | B17: 45111000-8 Budowa oświetlenia drogowego
A18: 2.1 | B18: D 07.07.01 | C18: Kopanie rowów dla kabli, ręcznie, grunt kategorii III | D18: m3 | E18: =54 * 0.8 * 0.4 -> 17.28 | G18: =E18*F18 -> 0
A19: 2.2 | B19: D 07.07.01 | C19: Zasypanie rowów dla kabli, ręcznie, grunt kategorii III | D19: m3 | E19: =54 * 0.8 * 0.4 -> 17.28 | G19: =E19*F19 -> 0
A20: 2.3 | B20: D 07.07.01 | C20: Nasypanie warstwy piasku na dnie rowu kablowego, szerokość do 0,4 m Krotność = 2 | D20: m | E20: 54 | G20: =E20*F20 -> 0
A21: 2.4 | B21: D 07.07.01 | C21: Przewierty mechaniczne dla rur o śr.do 100 mm pod obiektami - dodatek za każdą następną rurę w wiązce | D21: m | E21: 11 | G21: =E21*F21 -> 0
A22: 2.5 | B22: D 07.07.01 | C22: Ułożenie rur osłonowych RHDPE 75/4,5 | D22: m | E22: 33 | G22: =E22*F22 -> 0
A23: 2.6 | B23: D 07.07.01 | C23: Ułożenie rur osłonowych RHDPE 75/3 | D23: m | E23: 18 | G23: =E23*F23 -> 0
A24: 2.7 | B24: D 07.07.01 | C24: Układanie kabli w rowach kablowych - ręcznie, kabel do 3,0 kg/m, przykrycie folią - kabel YAKXS 5x25 | D24: m | E24: 215 | G24: =E24*F24 -> 0
A25: 2.8 | B25: D 07.07.01 | C25: Układanie kabli w rurach, pustakach lub kanałach zamkniętych, kabel YAKXS 5x25 | D25: m | E25: 40 | G25: =E25*F25 -> 0
A26: 2.9 | B26: D 07.07.01 | C26: Zarobienie na sucho końca kabla 5-żyłowego o przekroju żył do 50 mm2 na napięcie do 1 kV o izolacji i powłoce z tworzyw sztucznych | D26: szt. | E26: 15 | G26: =E26*F26 -> 0
A27: 2.10 | B27: D 07.07.01 | C27: Montaż i stawianie słupów oświetleniowych, słup do 100 kg, aluminiowy 10m, wysięgnik pojedynczy dł. 1,5m | D27: szt | E27: 5 | G27: =E27*F27 -> 0
A28: 2.11 | B28: D 07.07.01 | C28: Montaż przewodów do opraw oświetleniowych - wciąganie w słupy, rury osłonowe i wysięgniki | D28: kpl | E28: 5 | G28: =E28*F28 -> 0
A29: 2.12 | B29: D 07.07.01 | C29: Montaż opraw oświetlenia zewnętrznego, na wysięgniku oprawa LED 59 W, 8358 lm | D29: szt | E29: 4 | G29: =E29*F29 -> 0
A30: 2.13 | B30: D 07.07.01 | C30: Montaż opraw oświetlenia zewnętrznego, na wysięgniku oprawa LED 55 W, 7144 lm | D30: szt | E30: 1 | G30: =E30*F30 -> 0
A31: 2.14 | B31: D 07.07.01 | C31: Wyłącznik nadprądowy 1-biegunowy w rozdzielnicach | D31: szt. | E31: 5 | G31: =E31*F31 -> 0
... A37: 2.20 | B37: D 07.07.01 | C37: Badania i pomiary instalacji uziemiającej, piorunochronnej i skutecznowści zerowania, uziemienie ochronne lub robocze, pomiar pierwszy | D37: szt | E37: 3 | G37: =E37*F37 -> 0
A38: Wartość robót netto bez podatku VAT: | G38: =SUM(G6:G37) -> 0
C42: ………………………………………………………………. | E42: …………………………………………………………………..
C43: Pieczęć firmowa oferenta | E43: Podpis upoważnionego przedstawiciela oferenta
A47: Data: …………………………………….

Sheet IV_elektroenergetyczna_kolizje
A1: KOSZTORYS OFERTOWY „Rozbudowa skrzyżowania DK 82 z drogą gminną nr 112402L (ul. Dębowej) i drogą gminną 112421L (ul. Świerkowej) w miejscowości Turka wraz z podłączeniem do węzła „Lublin Tatary” na obwodnicy Lublina w ciągu drogi ekspresowej S17 wraz z uzyskaniem pozwolenia na użytkowanie oraz budowa parkingu typu Park & Ride wraz z dojazdami, dojściami i infrastrukturą techniczną„ BRANŻA ELEKTROENERGETYCZNA (USUNIĘCIE KOLIZJI ELEKTROENERGETYCZNYCH) - CZĘŚĆ 2
A3: Lp. | B3: Podstawa Nr spec.techn. | C3: Opis | D3: Jedn. obm. | E3: Ilość | F3: Cena jedn.*) | G3: Wartość *)
A4: 1 | B4: 2 | C4: 3 | D4: 4 | E4: 5 | F4: 6 | G4: 7
A5: 1 | B5: 45111000-8 Przebudowa i zabezpieczenie linii kablowych SN
A6: 1.1 | B6: D 01.03.02 | C6: Kopanie rowów dla kabli w sposób ręczny w gruncie kat. III - roboty obok czynnego pasa jezdni (76-130 poj/h) | D6: m3 | E6: =85 * 1.2 * 0.6 -> 61.2 | G6: =E6*F6 -> 0
A7: 1.2 | B7: D 01.03.02 | C7: Zasypanie rowów dla kabli, ręcznie, grunt kategorii III | D7: m3 | E7: =85 * 1.2 * 0.6 -> 61.2 | G7: =E7*F7 -> 0
A8: 1.3 | B8: D 01.03.02 | C8: Nasypanie warstwy piasku na dnie rowu kablowego, szerokość do 0,6 m Krotność = 2 | D8: m | E8: 85 | G8: =E8*F8 -> 0
A9: 1.4 | B9: D 01.03.02 | C9: Kopanie rowów dla kabli w sposób ręczny w gruncie kat. III - roboty obok czynnego pasa jezdni (76-130 poj/h) odkopanie istn. linii kablowej w celu zabezpieczenia rurami dwudzielnymi | D9: m3 | E9: =49 * 1.2 * 0.4 -> 23.52 | G9: =E9*F9 -> 0
A10: 1.5 | B10: D 01.03.02 | C10: Zasypanie rowów dla kabli, ręcznie, grunt kategorii III- odkopanie istn. linii kablowej w celu zabezpieczenia rurami dwudzielnymi | D10: m3 | E10: =49 * 1.2 * 0.6 -> 35.28 | G10: =E10*F10 -> 0
A11: 1.6 | B11: D 01.03.02 | C11: Nasypanie warstwy piasku na dnie rowu kablowego, szerokość do 0,4 m Krotność = 2 | D11: m | E11: 49 | G11: =E11*F11 -> 0
A12: 1.7 | B12: D 01.03.02 | C12: Ułożenie rur osłonowych RHDPE 160/8 | D12: m | E12: 14 | G12: =E12*F12 -> 0
A13: 1.8 | B13: D 01.03.02 | C13: Ułożenie rur osłonowych RHDPE 160/5 | D13: m | E13: 11 | G13: =E13*F13 -> 0
A14: 1.9 | B14: D 01.03.02 | C14: Ułożenie rur osłonowych RHDPE 160 dwudzielna | D14: m | E14: 19 | G14: =E14*F14 -> 0
A15: 1.10 | B15: D 01.03.02 | C15: Układanie kabli w rowach kablowych - ręcznie, kabel do 3,0 kg/m, przykrycie folią 3xXRUHAKXS 1x240/50 | D15: m | E15: 67 | G15: =E15*F15 -> 0
A16: 1.11 | B16: D 01.03.02 | C16: Układanie kabli w rurach, pustakach lub kanałach zamkniętych, kabel do 3,0 kg/m 3xXRUHAKXS 1x240/50 | D16: m | E16: 25 | G16: =E16*F16 -> 0
A17: 1.12 | B17: D 01.03.02 | C17: Montaż w rowach muf przelotowych z taśm izolacyjnych na kablach energetycznych 1-żyłowych o izolacji i powłoce z tworzyw sztucznych, z żyłami Al, kabel do 20 kV, do 240 mm2 | D17: szt | E17: 6 | G17: =E17*F17 -> 0
A18: 1.13 | B18: D 01.03.02 | C18: Badanie linii kablowej średniego napięcia, niskiego napięcia i sterowniczej, kabel s.n. | D18: odcinek | E18: 1 | G18: =E18*F18 -> 0
A19: 1.14 | B19: D 01.03.02 | C19: Budowa rurociągu kablowego na głębokości 1 m w wykopie wykonanym ręcznie, grunt kategorii III, HDPE Fi 40 mm w zwojach, dodatek za każdą następną rurę w rurociągu | D19: km | E19: 0,092 | G19: =E19*F19 -> 0
A20: 1.15 | B20: D 01.03.02 | C20: Badanie szczelności zmontowanych odcinków, do 2 km, rurociągi kablowe w ziemi, sprężarka, rury Fi 40 mm | D20: odcinek | E20: 1 | G20: =E20*F20 -> 0
A21: 2 | B21: 45111000-8 Przebudowa i zabezpieczenie linii kablowych nN
A22: 2.1 | B22: D 01.03.02 | C22: Kopanie rowów dla kabli w sposób ręczny w gruncie kat. III - roboty obok czynnego pasa jezdni (76-130 poj/h) | D22: m3 | E22: =27 * 1.2 * 0.4 -> 12.96 | G22: =E22*F22 -> 0
A23: 2.2 | B23: D 01.03.02 | C23: Zasypanie rowów dla kabli, ręcznie, grunt kategorii III | D23: m3 | E23: =27 * 1.2 * 0.4 -> 12.96 | G23: =E23*F23 -> 0
A24: 2.3 | B24: D 01.03.02 | C24: Nasypanie warstwy piasku na dnie rowu kablowego, szerokość do 0,4 m Krotność = 2 | D24: m | E24: 27 | G24: =E24*F24 -> 0
A25: 2.4 | B25: D 01.03.02 | C25: Kopanie rowów dla kabli w sposób ręczny w gruncie kat. III - roboty obok czynnego pasa jezdni (76-130 poj/h) odkopanie istn. linii kablowej w celu zabezpieczenia rurami dwudzielnymi | D25: m3 | E25: =69 * 1.2 * 0.4 -> 33.12 | G25: =E25*F25 -> 0
A26: 2.5 | B26: D 01.03.02 | C26: Zasypanie rowów dla kabli, ręcznie, grunt kategorii III- odkopanie istn. linii kablowej w celu zabezpieczenia rurami dwudzielnymi | D26: m3 | E26: =69 * 1.2 * 0.6 -> 49.68 | G26: =E26*F26 -> 0
A27: 2.6 | B27: D 01.03.02 | C27: Nasypanie warstwy piasku na dnie rowu kablowego, szerokość do 0,4 m Krotność = 2 | D27: m | E27: 69 | G27: =E27*F27 -> 0
A28: 2.7 | B28: D 01.03.02 | C28: Ułożenie rur osłonowych RHDPE 110/5,5 | D28: m | E28: 12 | G28: =E28*F28 -> 0
A29: 2.8 | B29: D 01.03.02 | C29: Ułożenie rur osłonowych RHDPE 110/4 | D29: m | E29: 4 | G29: =E29*F29 -> 0
A30: 2.9 | B30: D 01.03.02 | C30: Ułożenie rur osłonowych RHDPE 160 dwudzielna | D30: m | E30: 47 | G30: =E30*F30 -> 0
A31: 2.10 | B31: D 01.03.02 | C31: Ułożenie rur osłonowych RHDPE 110 dwudzielna | D31: m | E31: 35 | G31: =E31*F31 -> 0
A32: 2.11 | B32: D 01.03.02 | C32: Układanie kabli w rowach kablowych - ręcznie, kabel do 3,0 kg/m, przykrycie folią - kabel YAKY 4x120 | D32: m | E32: 11 | G32: =E32*F32 -> 0
A33: 2.12 | B33: D 01.03.02 | C33: Układanie kabli w rurach, pustakach lub kanałach zamkniętych, kabel do 3,0 kg/m - kabel YAKY 4x120 | D33: m | E33: 27 | G33: =E33*F33 -> 0
A34: 2.13 | B34: D 01.03.02 | C34: Obróbka na sucho kabli na napięcie do 1kV o izolacji i powłoce z tworzyw sztucznych, kabel 4-żyłowy, do 400 mm2 | D34: szt | E34: 1 | G34: =E34*F34 -> 0
A35: Wartość robót netto bez podatku VAT: | G35: =SUM(G6:G34) -> 0
C39: ………………………………………………………………. | E39: …………………………………………………………………..
C40: Pieczęć firmowa oferenta | E40: Podpis upoważnionego przedstawiciela oferenta
A44: Data: …………………………………….

Sheet V_sanitarna_kanalizacja
A1: KOSZTORYS OFERTOWY „Rozbudowa skrzyżowania DK 82 z drogą gminną nr 112402L (ul. Dębowej) i drogą gminną 112421L (ul. Świerkowej) w miejscowości Turka wraz z podłączeniem do węzła „Lublin Tatary” na obwodnicy Lublina w ciągu drogi ekspresowej S17 wraz z uzyskaniem pozwolenia na użytkowanie oraz budowa parkingu typu Park & Ride wraz z dojazdami, dojściami i infrastrukturą techniczną„ BRANŻA SANITARNA (BUDOWA KANAŁU DESZCZOWEGO) - CZĘŚĆ 2
A3: Lp. | B3: Podstawa Nr spec. techn. | C3: Opis | D3: Jedn. obm. | E3: Ilość | F3: Cena jedn.*) | G3: Wartość *)
A4: 1 | B4: 2 | C4: 3 | D4: 4 | E4: 5 | F4: 6 | G4: 7
A5: 1 | B5: D 01.00.00 ROBOTY PRZYGOTOWAWCZE
A6: 1.1 | B6: D 01.01.01 Odtworzenie trasy i punktów wysokościowych w terenie
A7: 1 d.1.1 | B7: D 01.01.01 | C7: Roboty pomiarowe przy liniowych robotach sanitarnych w terenie równinnym - budowa kanalizacji deszczowej L=73,10+26,40=99,50m; | D7: km | E7: 0.1 | G7: =E7*F7 -> 0
A8: 1.2 | B8: D 01.02.04 Rozbiórka elementów dróg i ulic
A9: 2 d.1.2 | B9: D 01.02.04 | C9: Rozebranie podbudowy z gruntu stabilizowanego grubości do 15 cm sposobem mechanicznym z odrzuceniem materiału na pobocze dla wykonania kanału deszczowego o szerokości rozbiórki s=1,0m i długości L=(73,10-14,60)+26,40=84,90m F=84,90x1,0=84,90m2 | D9: m2 | E9: 85 | G9: =E9*F9 -> 0
A10: 3 d.1.2 | B10: D 01.02.04 | C10: Rozebranie podbudowy z mas mineralno - bitumicznych grubości do 30 cm sposobem mechanicznym z odrzuceniem materiału na pobocze dla wykonania kanału deszczowego o szerokości rozbiórki s=1,0m i długości L=84,90m F=84,90x1,0=84,90m2 | D10: m2 | E10: 85 | G10: =E10*F10 -> 0
A11: 4 d.1.2 | B11: D 01.02.04 | C11: Rozebranie nawierzchni z mas mineralno - bitumicznych grubości do 5 cm sposobem mechanicznym z odrzuceniem materiału na pobocze dla wykonania kanału deszczowego o szerokości rozbiórki s=1,0m i długości L=84,90m F=84,90x1,0=84,90m2 | D11: m2 | E11: 85 | G11: =E11*F11 -> 0
A12: 5 d.1.2 | B12: D 01.02.04 | C12: Wywiezienie rozebranej nawierzchni i podbudowy z terenu rozbiórki przy mechanicznym i ręcznym załadunku i wyładunku samochodami skrzyniowymi na odległość do 1 km - V=84,90x(0,15+0,30+0,05)=50,94m3 | D12: m3 | E12: 51 | G12: =E12*F12 -> 0
A13: 2 | B13: D 03.00.00 ODWODNIENIE KORPUSU DROGOWEGO
A14: 2.1 | B14: D 03.02.01 Kanalizacja deszczowa
A15: 2.1.1 | B15: D 03.02.01.11 Budowa grawitacyjnej kanalizacji deszczowej
A16: 6 d.2.1.1 | B16: D 03.02.01 | C16: Wykop liniowy w gruncie wilgotnym kat. III-IV wykonany sposobem mechanicznym koparkami z transportem urobku samochodami samowyładowczymi na odległość 1 km i zmagazynowanie z wyłączeniem wykopów obiektowych pod studnie kanalizacyjne oraz istniejącej nawierzchni drogi grubości do 0,50m: przykanaliki od studzienki ściekowej do włączenia w studnie kanalizacyjne - rurociągi dn200 hśr= 2,0m L=1,0+14,60+9,30+6,50+17,40+10,30+5,50+8,50=73,10m V=73,10x1,0x2,0=146,20m3 | D16: m3 | E16: 146 | G16: =E16*F16 -> 0
A17: 7 d.2.1.1 | B17: D 03.02.01 | C17: Wykop liniowy j.w. - rurociągi dn315, odcinek: D24-D25 I D26-D27 L=(11,20+15,20) -3x1,50=21,90m hśr=2,50m s=1,0m V=21,90x1,0x2,50=54,75m3 | D17: m3 | E17: 55 | G17: =E17*F17 -> 0
A18: 8 d.2.1.1 | B18: D 03.02.01 | C18: Wykop obiektowy w gruncie wilgotnym kat. III-IV wykonany sposobem mechanicznym koparkami z transportem urobku samochodami samowyładowczymi na odległość 1 km pod studnie Dn1200 o wymiarach 2,50x2,50m i średniej głębokości h=2,70m n=3szt. V=3x2,50x2,50x2,70=50,62m3 | D18: m3 | E18: 51 | G18: =E18*F18 -> 0
A19: 9 d.2.1.1 | B19: D 03.02.01 | C19: Umocnienie pionowych ścian wykopu liniowego w gruncie kat.III-IV z zastosowaniem umocnień pełnych grodzicami lub wypraskami wraz z rozbiórką przy uśrednionej głębokości wykopu do 2,70 m i szerokości 1,0 m dla : dn200 L=73,10m ; dn315 L=21,90m ; Razem L=95,0m F=2x95,0x2,70=513,0m2 | D19: m2 | E19: 513 | G19: =E19*F19 -> 0
A20: 10 d.2.1.1 | B20: D 03.02.01 | C20: Umocnienie pionowych ścian wykopu obiektowego pod studnie przy wlotach z zastosowaniem szalunków stalowych - grodzic wbijanych pionowo przy uśrednionej głębokości wykopu 2,70 m oraz szerokości i długości 2,50m wraz ze zdemontowaniem umocnień. Ilość studni n=3 F=3x4x2,50x2,70=81,0m2 | D20: m2 | E20: 81 | G20: =E20*F20 -> 0
A21: 11 d.2.1.1 | B21: D 03.02.01 | C21: Posadowienie w odwodnionym wykopie liniowym szerokości s=1,0m rurociągów na podłożu z pospółki grubości do 20 cm wraz z obsypką i zasypką 30cm nad rurociągiem wraz z dowozem materiału i zagęszczeniem warstwami do wymaganego wskaźnika np.wg Proctora : dn200 odcinki: D21-WP34 L=14,60m V=14,60x1,0x0,70-14,60x0,785x0,202=9,76m3 | D21: m3 | E21: 10 | G21: =E21*F21 -> 0
A22: 12 d.2.1.1 | B22: D 03.02.01 | C22: Posadowienie w odwodnionym wykopie liniowym szerokości s=1,0m rurociągów na podłożu z pospółki grubości do 20 cm wraz z obsypką i zasypką nad rurociągiem do podbudowy nawierzchni drogowej wraz z dowozem materiału i zagęszczeniem warstwami do wymaganego wskaźnika np.wg Proctora :dn200 h=2,50-0,50=2,0 m L=73,10-14,60=58,50m V=58,50x1,0x2,0-58,50x0,785x0,202=115,16m3 | D22: m3 | E22: 115 | G22: =E22*F22 -> 0
A23: 13 d.2.1.1 | B23: D 03.02.01 | C23: Posadowienie w odwodnionym wykopie liniowym szerokości s=1,0m rurociągów na podłożu z pospółki grubości do 20 cm wraz z obsypką i zasypką nad rurociągiem do podbudowy nawierzchni drogowej wraz z dowozem materiału i zagęszczeniem warstwami do wymaganego wskaźnika np.wg Proctora :dn315 h=2,50-0,50=2,0 m L=21,90m V=21,90x1,0x2,0-21,90x0,785x0,3152=42,10m3 | D23: m3 | E23: 42 | G23: =E23*F23 -> 0
A24: 14 d.2.1.1 | B24: D 03.02.01 | C24: Podłoże z piasku pod studnie kanalizacyjne Dn1200 grubości 10 cm wraz z zagęszczeniem - studnie szt.3 V=3x0,785x1,702x0,10=0,68m3 | D24: m3 | E24: 1 | G24: =E24*F24 -> 0
A25: 15 d.2.1.1 | B25: D 03.02.01 | C25: Posadowienie w odwodnionym wykopie studni Dn1200 kanalizacji deszczowej - podłoże z betonu C12/15 grubości 20cm - studnie szt. 3 V=3x0,785x1,702x0,20=1,36m3 | D25: m3 | E25: 1 | G25: =E25*F25 -> 0
A26: 16 d.2.1.1 | B26: D 03.02.01 | C26: Zasypanie wykopów liniowych i obiektowych gruntem dowiezionym z odległości 1 km po zakończonych robotach montażowych rurociągów po odjęciu warstw posadowienia i studni kanalizacyjnych; wykopy: V=146,0+55,0+51,0= 252,0m3 ; posadowienie V=115,0+42,0= 157,0m3 Pozostaje do zasypania:V=252,0-157,0 = 95,0m3 | D26: m3 | E26: 95 | G26: =E26*F26 -> 0
A27: 17 d.2.1.1 | B27: D 03.02.01 | C27: Nakłady dodatkowe za dowiezienie gruntu zmagazynowanego po wykopach liniowych i obiektowych odwiezionego na odległość 1 km do zasypania wykopów liniowych i obiektowych wraz z zagęszczeniem warstwami | D27: m3 | E27: 95 | G27: =E27*F27 -> 0
... A40: 30 d.2.1.1 | B40: D 03.02.01 | C40: Próba wodna szczelności kanałów rurowych dn315 licząc za odcinki między studzienkami n=3 | D40: odc. -1 prób. | E40: 3 | G40: =E40*F40 -> 0
A41: Wartość robót netto bez podatku VAT: | G41: =SUM(G7:G40) -> 0
C45: ………………………………………………………………. | E45: …………………………………………………………………..
C46: Pieczęć firmowa oferenta | E46: Podpis upoważnionego przedstawiciela oferenta
A50: Data: …………………………………….
