Workbook

Sheet Tabela Opracowania
B1: Tabela Elementów Rozliczeniowych
B2: Koncepcja rozbudowy drogi krajowej nr 50 na odcinku przejścia przez m. Stanisławów od km 224+800 do km 229+920 wraz z uzyskaniem Decyzji o Środowiskowych Uwarunkowaniach
B3: Lp. | C3: Element opracowania | D3: Jednostka | F3: Cena jedn. | G3: Wartość netto | H3: procentowa wartość elementu wobec danego etapu
D4: (nazwa) | E4: (ilość) | F4: (zł) | G4: (zł)
C5: ETAP I - Decyzja Środowiskowa
B6: 1 | C6: Prognoza i analizy ruchu | D6: ryczałt | H6: max. 20% sumy wartości pozycji 1-3
B7: 2 | C7: wniosek o Decyzję Środowiskową z załącznikami | D7: ryczałt
B8: 3 | C8: Raport o oddziaływaniu na środowisko | D8: ryczałt
C9: ETAP II - Materiały wyjściowe do PiB
B10: 4 | C10: Koncepcja z przedmiarami i kosztorysami | D10: ryczałt | H10: min. 50% sumy wartości pozycji 1-3
B11: 5 | C11: mapy dc. Projektowych | D11: ha | E11: ='pozostałe elementy'!F4 -> 48
B12: 6 | C12: Roboty geologiczne
C13: Wiercenia
C14: w gruncie dla próbek kategorii A
B15: 6.1 | C15: głębokość wierceń do 5 m | D15: m | E15: =Geologia!E40 -> 160
B16: 6.2 | C16: głębokośc wierceń ponad 5 m | D16: m | E16: =Geologia!E44 -> 170
C17: w gruncie dla próbek kategorii B
B18: 6.3 | C18: głębokośc wierceń do 5 m | D18: m | E18: =Geologia!E41 -> 160
B19: 6.4 | C19: głębokośc wierceń ponad 5 m | D19: m | E19: =Geologia!E45 -> 35
C20: w gruncie dla próbek kategorii C
B21: 6.5 | C21: głębokośc wierceń do 5 m | D21: m | E21: =Geologia!E42 -> 320
B22: 6.6 | C22: głębokośc wierceń ponad 5 m | D22: m | E22: =Geologia!E46 -> 135
C23: Sondowania
B24: 6.7 | C24: DP/SPT | D24: m | E24: =Geologia!E58 -> 300
B25: 6.8 | C25: CPT/CPTu/sCPTu | D25: m | E25: =Geologia!E59 -> 140
B26: 6.9 | C26: FVT/SLVT lub inne wymienione w specyfikacji | D26: m | E26: =Geologia!E60 -> 50
B27: 6.10 | C27: projekt robót geologicznych | D27: ryczałt | H27: max.10% sumy wartości pozycji 6.1 - 6.9
B28: 6.11 | C28: dokumentacja geologiczno-inżynierska i hydrogeologiczna | D28: ryczałt | H28: max. 25% sumy wartości pozycji 6.1 - 6.9
C29: Roboty geologiczne podsumowanie
F31: Razem wartość netto
F32: Podatek VAT (23%)
F33: Razem wartość brutto (cena oferty)
D37: ………………………………………………..
D39: podpis Wykonawcy/Pełnomocnika

Sheet Geologia
B1: GEOLOGIA | G1: pola żółte niebieki tekst - wpisywać z ręki dla danej inwestycji
G2: pola żółte czarny tekst - wartości wpisywać z ręki na podstawie wyliczeń
B3: Zmienne dla danej drogi 2x2 | G3: ceny jednostkowe - wpisywać w TER.
B4: Ilość jezdni | C4: 1 | G4: pola szare - przyjęte założenia do obliczeń ilości w konsultacji z DT
B5: długość trasy głównej | C5: 5.1 | D5: km
B7: założenia
B8: średnia głębokość próbki w trasie głównej | C8: 4 | D8: m
B9: średnia głębokość na obiekt | C9: 25 | D9: m
B10: średnia głębokość naprzepust | C10: 10 | D10: m
B11: ETAP II | I11: pojedyńczy wariant | R11: całość
E12: % dł. trasy | H12: Drogi | I12: długość odc. Kategorii [km] | J12: ilość przekrojów [szt.] | K12: ilość próbek [szt.] | L12: suma głębokości otworów [mb] | M12: wsp. okonturowania
B13: ilość próbek w przekroju trasy głównej | C13: 2 | D13: szt | H13: trasa główna | M13: 1.1
B14: rozstaw przekrojów trasy głównej (kat. 1) | C14: 100 | D14: m | E14: 0.6 | I14: =$C$5*E14 -> 3.06 | J14: =ROUND(I14*1000/C14,0) -> 31 | K14: =J14*$C$13 -> 62 | L14: =K14*$C$8 -> 248 | M14: =L14*$M$13 -> 272.8
B15: rozstaw przekrojów trasy głównej (kat. 2) | C15: 50 | D15: m | E15: =1-E14 -> 0.4 | I15: =$C$5*E15 -> 2.04 | J15: =ROUND(I15*1000/C15,0) -> 41 | K15: =J15*$C$13 -> 82 | L15: =K15*$C$8 -> 328 | M15: =L15*$M$13 -> 360.8
B16: średnia głębokość na drogach innych | C16: 5 | D16: m
B17: ilość próbek w przekroju dróg innych | C17: 2 | D17: szt
B18: rozstaw przekrojów na drogach innych | C18: 100 | D18: m | H18: drogi inne i łącznice | I18: 0 | J18: =ROUND(I18*1000/C18,0) -> 0 | K18: =J18*C17 -> 0 | L18: =K18*C16 -> 0 | M18: =L18*$M$13 -> 0
M19: =ROUND(SUM(M14:M18),0) -> 634
H20: Obiekty | I20: ilość obiektów | J20: ilość podpór
B21: ilość podpór średnio na obiekt | C21: 2 | D21: szt | I21: 2 | J21: =I21*C21 -> 4 | K21: =J21*C22 -> 12 | L21: =K21*$C$9 -> 300 | P21: ilość podpór oszacowana z rysunku STES
B22: ilość próbek na podporę | C22: 3 | D22: szt
H24: Przepusty większe | I24: ilość przepustów
B25: średnia głębokośc na przepust | C25: 5 | D25: m
B26: ilość próbek na przepust | C26: 3 | D26: szt | I26: 2 | K26: =I26*C26 -> 6 | L26: =ROUND(K26*C25,0) -> 30 | P26: ilość przepustów oszacowana: 2szt/km
H27: Zbiorniki | I27: ilość zbiorników
B28: średnia głębokość na zbiornik | C28: 8 | D28: m
B29: ilość na zbiornik | C29: 3 | D29: szt | I29: 0 | K29: =I29*C29 -> 0 | L29: =ROUND(K29*C28,0) -> 0 | P29: ilość na podstawie oszacowanie własne
H30: sondowania | J30: ilość przekrojów [szt.] | K30: ilość próbek [szt.] | L30: suma głębokości otworów [mb] | M30: wsp. Okonturowania -> | N30: 1.1
B31: sondowania trasa główna ilość na przekrój | C31: 1 | D31: szt | H31: sondowania trasa główna | J31: =J14+J15 -> 72 | K31: =J31*C31 -> 72 | L31: =ROUND(K31*$C$8,0) -> 288 | M31: =ROUND(L31*$N$30,0) -> 317
B32: sondowania drogi pozostałe | C32: 1 | D32: szt | H32: sondowania dojazdowe | J32: =J18 -> 0 | K32: =J32*C32 -> 0 | L32: =ROUND(K32*$C$8,0) -> 0 | M32: =ROUND(L32*$N$30,0) -> 0
B33: sondowania obiekty ilość na podporę | C33: 1 | D33: szt | H33: sondowania obiekty | J33: =J21 -> 4 | K33: =J33*C33 -> 4 | L33: =ROUND(K33*$C$9,0) -> 100 | M33: =ROUND(L33*$N$30,0) -> 110
B34: sondowania przepusty ilość na przepust | C34: =I26 -> 2 | D34: szt | H34: sondowania przepusty | J34: 2 | K34: =J34*C34 -> 4 | L34: =ROUND(K34*$C$10,0) -> 40 | M34: =ROUND(L34*$N$30,0) -> 44
B35: ERT | I35: km
B36: ilość profili na wariant | C36: 1 | H36: ERT | I36: =C36*$C$5 -> 5.1
B38: Wyniki - przeliczenie do TER | C38: wsp. | E38: przyjęto w TER | F38: cena jedn. | G38: cena
B39: drogi - do 5m
B40: % A | C40: 0.25 | D40: =ROUNDUP($M$19*C40,0) -> 159 | E40: 160 | F40: ='Tabela Opracowania'!F15 -> 0 | G40: =F40*E40 -> 0
B41: % B | C41: 0.25 | D41: =ROUNDUP($M$19*C41,0) -> 159 | E41: 160 | F41: ='Tabela Opracowania'!F18 -> 0 | G41: =F41*E41 -> 0
B42: % C | C42: =1-C40-C41 -> 0.5 | D42: =ROUNDUP($M$19*C42,0) -> 317 | E42: 320 | F42: ='Tabela Opracowania'!F21 -> 0 | G42: =F42*E42 -> 0
B43: obiekty, przepusty i zbiorniki - ponad 5m
B44: % A | C44: 0.5 | D44: =ROUND(($L$21+$L$26+$L$29)*C44,0) -> 165 | E44: 170 | F44: ='Tabela Opracowania'!F16 -> 0 | G44: =INT(F44*E44) -> 0
B45: % B | C45: 0.1 | D45: =ROUND(($L$21+$L$26+$L$29)*C45,0) -> 33 | E45: 35 | F45: ='Tabela Opracowania'!F19 -> 0 | G45: =INT(F45*E45) -> 0
B46: % C | C46: =1-C44-C45 -> 0.4 | D46: =ROUND(($L$21+$L$26+$L$29)*C46,0) -> 132 | E46: 135 | F46: ='Tabela Opracowania'!F22 -> 0 | G46: =INT(F46*E46) -> 0
B48: sondowania - wyliczenia pomocnie - dodatkowe
B49: sondowania do 5m | D49: =M31+M32+M34 -> 361
B50: DP/SPT do 5 m | C50: 0.8 | D50: =$D$49*C50 -> 288.8
B51: CPT/CPTu/sCPTu do 5 m | C51: 0.1 | D51: =$D$49*C51 -> 36.1
B52: FVT/SLVT lub inne do 5 m | C52: 0.1 | D52: =$D$49*C52 -> 36.1
B53: sondowania ponad 5m | D53: =M33 -> 110
B54: DP/SPT ponad 5 m | C54: 0 | D54: =$D$53*C54 -> 0
B55: CPT/CPTu/sCPTu ponad 5 m | C55: 0.9 | D55: =$D$53*C55 -> 99
B56: FVT/SLVT ponad 5 m | C56: =1-C54-C55 -> 0.1 | D56: =$D$53*C56 -> 11
B57: sondowania razem | D57: =D49+D53 -> 471
B58: DP/SPT | D58: =D50+D54 -> 288.8 | E58: 300 | F58: ='Tabela Opracowania'!F24 -> 0 | G58: =INT(F58*E58) -> 0
B59: CPT/CPTu/sCPTu | D59: =D51+D55 -> 135.1 | E59: 140 | F59: ='Tabela Opracowania'!F25 -> 0 | G59: =INT(F59*E59) -> 0
B60: FVT/SLVT | D60: =D52+D56 -> 47.1 | E60: 50 | F60: 60 | G60: =INT(F60*E60) -> 3000 | H60: =SUM(G40:G60) -> 3000
I61: ETAP II
H62: =SUM(H54:H60) -> 3000 | I62: badania razem
H63: 0.1 | I63: wsp. Na projekt prac geologicznych
H64: =ROUND($H$62*H63,2) -> 300 | I64: projekt prac geologicznych - wyliczenie
H65: 10000 | I65: ppg - do TER
H67: 0.25 | I67: wsp. na dokumentacje geologiczne
H68: =ROUND($H$62*H67,2) -> 750 | I68: dokumentacje geologiczne - wyliczenie
H69: 25500 | I69: dokumentacje geologiczne do TER
H71: =H62+H64+H68 -> 4050 | I71: geologia całość

Sheet pozostałe elementy
C2: ETAP II
E3: szer. Pasa [m] | N3: pola żółte niebieki tekst - wpisywać z ręki dla danej inwestycji
C4: mapy dc. Projektowych | D4: ha | E4: 94 | F4: =ROUND((Geologia!$C$5*1000*E4)/10000,0) -> 48 | G4: ha - pas szerokości ok. 100m / km trasy | N4: pola żółte czarny tekst - wartości wpisywać z ręki na podstawie wyliczeń
C5: STES etap II (uszczegółowienie STES-I) | D5: ryczałt | N5: ceny jednostkowe - wpisywać w TER.
C6: Wyliczenie kosztów uszczegółowienia na podstawie wyceny Koncepcji Programowej według Środowiskowych Zasad Wyceny Prac Projektowych 2012 | N6: pola szare - przyjęte założenia do obliczeń ilości
C8: 1) Dane:
C10: Długość trasy: | E10: km | F10: 5.1 | G10: km
C11: Klasa: | D11: S | F11: GP
C12: Przekrój: | D12: 2x2 | F12: 1x2
C13: Kat. ruchu | D13: KR6 | F13: KR5
C14: Ilość węzłów (S): | D14: 0 | F14: 0 | G14: ilość skrzyżowań (GP)
C15: - ilość włączeń na węzłach/skrzyżowań skanalizowanych | D15: 0 | F15: 0
C16: Ilość obiektów inżynierskich:
C17: a) mosty | D17: 0 | F17: 0
C18: b) wiadukty | F18: 0
C20: 2) Wyliczenia j.n.p. na podst. ŚZWPP 2012 Rozdział 4, Podrozdział 4.10
C21: Dane na podst. tab. 20.4 wiersz 3
C22: kolumna 4 | E22: j.n.p. | F22: 700 | G22: j.n.p.
C23: kolumna 5 | E23: j.n.p. | F23: 520 | G23: j.n.p.
C24: kolumna 6 | E24: j.n.p. | F24: 60 | G24: j.n.p.
C26: Dodatki i współczynniki do tab. 20.4
C27: D-41002 zatoki autobusowe | F27: 1.4
C28: D-41003 skrzyżowania skanalizowane | F28: 0.3
C29: D-41006 obiekty inżynierskie | F29: 0.15
C30: D-41010 uzbrojenie terenu | F30: 0.1
C32: W-41003 droga dwujezdniowa | F32: 1
C33: W-41004 skrzyżowania wielopoziomowe | F33: 1
C35: proj. Org ruchu
C36: mat. Do audytu brd
C39: Wyliczenie ilości jednostek nakładu pracy:
C40: Nx = ∑Np(1+D)xW
C42: Nx= | D42: =INT(((D22+ROUNDUP(D10-1,0)*D23)*(1+D30+D31)+ROUNDUP(D10,0)*D24)*D34) -> 0 | E42: j.n.p. | F42: =INT(((F22+ROUNDUP(F10-1,1)*F23)*(1+F28+F29+F30)+ROUNDUP(F10,1)*F24+F22*F27)*F32*F33) -> 5675 | G42: j.n.p.
C43: Wyliczenie ceny prac projektowych:
C44: Cx=∑NxS
C45: S= | D45: 19.8 | E45: netto | F45: 19.8
C47: Cx= | D47: =ROUND(D42*D45,-1) -> 0 | F47: =ROUND(F42*F45,-1) -> 112370
C49: 3) Wartość prac projektowych. wyliczona na podst. ŚZWPP 2012 wynosi:
D50: =D47 -> 0 | F50: =F47 -> 112370 | I50: netto
D51: =ROUND(D50*0.23,2) -> 0 | F51: =ROUND(F50*0.23,2) -> 25845.1 | I51: VAT 23%
D52: =ROUND(D50+D51,2) -> 0 | F52: =ROUND(F50+F51,2) -> 138215.1 | I52: brutto
D54: razem (S) + (GP) | E54: =D50+F50 -> 112370 | I54: netto
E55: =ROUND(E54*0.23,2) -> 25845.1 | I55: VAT 23%
E56: =ROUND(E54+E55,2) -> 138215.1 | I56: brutto
D59: % z całości | E59: kwota | F59: kwota do TER
C60: Analizy i prognoza ruchu | D60: 0.1 | E60: =ROUND($E$54*D60,0) -> 11237 | F60: 11500 | G60: max. 10% | H60: =F60/$F$64 -> 0.069277108
C61: wniosek o Decyzję Środowiskową z załącznikami | D61: 0.25 | E61: =ROUND($E$54*D61,0) -> 28093 | F61: 28000 | H61: =F61/$F$64 -> 0.1686747
C62: ROOS | D62: 0.1 | E62: =ROUND($E$54*D62,0) -> 11237 | F62: 11500
C63: Koncepcja z przedmiarami i kosztorysami | D63: 0.55 | E63: =ROUND($E$54*D63,0) -> 61804 | F63: 115000 | G63: min. 50% | H63: =F63/$F$64 -> 0.69277108
C64: sprawdzenie | D64: =SUM(D60:D63) -> 1 | E64: =SUM(E60:E63) -> 112371 | F64: =SUM(F60:F63) -> 166000
F65: =F64-E64 -> 53629
